Back
From: metabase:user:30f4dfbe-2aae-11df-837a-5e0a49663a4f
Subject: PASS MRS-Client-0.600100 v5.10.0 NetBSD
Date: 2012-03-19T00:13:35Z
This distribution has been tested as part of the CPAN Testers
project, supporting the Perl programming language. See
http://wiki.cpantesters.org/ for more information or email
questions to cpan-testers-discuss@perl.org
--
Dear Martin Senger,
This is a computer-generated report for MRS-Client-0.600100
on perl 5.10.0, created by CPAN-Reporter-1.2005.
Thank you for uploading your work to CPAN. Congratulations!
All tests were successful.
Sections of this report:
* Tester comments
* Program output
* Prerequisites
* Environment and other context
------------------------------
TESTER COMMENTS
------------------------------
Additional comments from tester:
this report is from an automated smoke testing program
and was not reviewed by a human for accuracy
------------------------------
PROGRAM OUTPUT
------------------------------
Output from '/usr/bin/make test':
PERL_DL_NONLAZY=1 /home/njh/perl5/perlbrew/perls/perl-5.10.0/bin/perl "-MExtUtils::Command::MM" "-e" "test_harness(0, 'blib/lib', 'blib/arch')" t/*.t
t/00-compile.t .......... ok
v-string in use/require non-portable at /home/njh/perl5/perlbrew/perls/perl-5.10.0/lib/site_perl/5.10.0/File/Slurp.pm line 3.
# Testing MRS::Client 0.600100, Perl v5.10.0, /home/njh/perl5/perlbrew/perls/perl-5.10.0/bin/perl
t/00-load.t ............. ok
v-string in use/require non-portable at /home/njh/perl5/perlbrew/perls/perl-5.10.0/lib/site_perl/5.10.0/File/Slurp.pm line 3.
# Data manipulation
t/01-data.t ............. ok
v-string in use/require non-portable at /home/njh/perl5/perlbrew/perls/perl-5.10.0/lib/site_perl/5.10.0/File/Slurp.pm line 3.
# Setting host and endpoints
t/02-endpoint.t ......... ok
v-string in use/require non-portable at /home/njh/perl5/perlbrew/perls/perl-5.10.0/lib/site_perl/5.10.0/File/Slurp.pm line 3.
# Calling MRS services
t/03-network.t .......... ok
v-string in use/require non-portable at /home/njh/perl5/perlbrew/perls/perl-5.10.0/lib/site_perl/5.10.0/File/Slurp.pm line 3.
# Manipulation of hyperlinks
t/04-links.t ............ ok
t/author-critic.t ....... skipped: these tests are for testing by the author
t/author-pod-spell.t .... skipped: these tests are for testing by the author
t/release-distmeta.t .... skipped: these tests are for release candidate testing
t/release-eol.t ......... skipped: these tests are for release candidate testing
t/release-no-tabs.t ..... skipped: these tests are for release candidate testing
t/release-pod-syntax.t .. skipped: these tests are for release candidate testing
All tests successful.
Files=12, Tests=143, 6 wallclock secs ( 0.06 usr 0.06 sys + 3.93 cusr 0.68 csys = 4.73 CPU)
Result: PASS
------------------------------
PREREQUISITES
------------------------------
Prerequisite modules loaded:
requires:
Module Need Have
--------------------------------- ---- -----
base 0 2.15
Carp 0 1.25
constant 0 1.21
File::Basename 0 2.76
FindBin 0 1.49
Getopt::Std 0 1.05
Math::BigInt 0 1.997
overload 0 1.06
strict 0 1.04
vars 0 1.01
warnings 0 1.06
XML::Compile::SOAP11 2.26 2.26
XML::Compile::Transport::SOAPHTTP 0 2.26
XML::Compile::WSDL11 0 2.26
build_requires:
Module Need Have
--------------------------------- ---- -----
English 0 1.04
File::Find 0 1.12
File::Spec 0 3.33
File::Temp 0 0.22
Test::More 0 0.98
Test::Requires 0 0.06
configure_requires:
Module Need Have
--------------------------------- ---- -----
ExtUtils::MakeMaker 6.30 6.62
------------------------------
ENVIRONMENT AND OTHER CONTEXT
------------------------------
Environment variables:
AUTOMATED_TESTING = 1
LD_LIBRARY_PATH = :/usr/local/lib:/usr/lib/qt-3.3/lib:/usr/X11R6/lib
MANPATH_WITHOUT_PERLBREW = :/usr/local/man:/home/njh/man:/usr/share/inn/man:/usr/share/perl5/man:/usr/share/tcl-8.0/man:/usr/share/tclX-8.0.4/man:/usr/share/tix-4.1/man:/usr/share/tk-8.0/man:/usr/server/doc:/usr/share/man:/opt/intel/cc/9.1.038/man
PATH = /home/njh/perl5/perlbrew/bin:/home/njh/perl5/perlbrew/perls/perl-5.10.0/bin:/home/njh/perl5/perlbrew/bin:/usr/bin:/bin:/usr/pkg/bin:/usr/local/bin:/home/njh/bin::/opt/intel/cc/9.1.038/bin:/opt/IBMJava2-13/bin:/usr/X11R6/bin:/home/njh/linux/bin:/usr/pkg/lib/perl5/site_perl/bin
PATH_WITHOUT_PERLBREW = /usr/bin:/bin:/usr/pkg/bin:/usr/local/bin:/home/njh/bin::/opt/intel/cc/9.1.038/bin:/opt/IBMJava2-13/bin:/usr/X11R6/bin
PERL5LIB = /home/njh/.cpan/build/XML-Compile-SOAP-2.26-7JOIML/blib/arch:/home/njh/.cpan/build/XML-Compile-SOAP-2.26-7JOIML/blib/lib:/home/njh/.cpan/build/XML-Compile-Cache-0.991-8hKyoV/blib/arch:/home/njh/.cpan/build/XML-Compile-Cache-0.991-8hKyoV/blib/lib:/home/njh/.cpan/build/XML-LibXML-Simple-0.91-BxTf5I/blib/arch:/home/njh/.cpan/build/XML-LibXML-Simple-0.91-BxTf5I/blib/lib:/home/njh/.cpan/build/XML-Compile-1.25-57lymi/blib/arch:/home/njh/.cpan/build/XML-Compile-1.25-57lymi/blib/lib:/home/njh/.cpan/build/XML-LibXML-1.96-0lthI5/blib/arch:/home/njh/.cpan/build/XML-LibXML-1.96-0lthI5/blib/lib:/home/njh/.cpan/build/XML-SAX-0.99-ggdgrg/blib/arch:/home/njh/.cpan/build/XML-SAX-0.99-ggdgrg/blib/lib:/home/njh/.cpan/build/XML-NamespaceSupport-1.11-uXxJNV/blib/arch:/home/njh/.cpan/build/XML-NamespaceSupport-1.11-uXxJNV/blib/lib:/home/njh/.cpan/build/XML-SAX-Base-1.08-ki9ugb/blib/arch:/home/njh/.cpan/build/XML-SAX-Base-1.08-ki9ugb/blib/lib:/home/njh/.cpan/build/XML-Compile-Tester-0.06-ooFhPk/blib/arch:/home/njh/.cpan/build/XML-Compile-Tester-0.06-ooFhPk/blib/lib:/home/njh/.cpan/build/Log-Report-0.94-60fwUe/blib/arch:/home/njh/.cpan/build/Log-Report-0.94-60fwUe/blib/lib
PERL5OPT =
PERL5_CPANPLUS_IS_RUNNING = 4858
PERL5_CPAN_IS_RUNNING = 4858
PERL5_CPAN_IS_RUNNING_IN_RECURSION = 1493,4858
PERLBREW_BASHRC_VERSION = 0.42
PERLBREW_HOME = /home/njh/.perlbrew
PERLBREW_MANPATH = /home/njh/perl5/perlbrew/perls/perl-5.10.0/man
PERLBREW_PATH = /home/njh/perl5/perlbrew/bin:/home/njh/perl5/perlbrew/perls/perl-5.10.0/bin
PERLBREW_PERL = perl-5.10.0
PERLBREW_ROOT = /home/njh/perl5/perlbrew
PERLBREW_VERSION = 0.42
PERL_CR_SMOKER_CURRENT = MRS-Client-0.600100
PERL_EXTUTILS_AUTOINSTALL = --defaultdeps
PERL_MM_USE_DEFAULT = 1
SHELL = /usr/pkg/bin/bash
TERM = vt100
Perl special variables (and OS-specific diagnostics, for MSWin32):
$^X = /home/njh/perl5/perlbrew/perls/perl-5.10.0/bin/perl
$UID/$EUID = 500 / 500
$GID = 100 0 100
$EGID = 100 0 100
Perl module toolchain versions installed:
Module Have
------------------- --------
CPAN 1.9800
CPAN::Meta 2.120630
Cwd 3.33
ExtUtils::CBuilder 0.280205
ExtUtils::Command 1.17
ExtUtils::Install 1.54
ExtUtils::MakeMaker 6.62
ExtUtils::Manifest 1.60
ExtUtils::ParseXS 3.15
File::Spec 3.33
JSON 2.53
JSON::PP 2.27200
Module::Build 0.40
Module::Signature n/a
Parse::CPAN::Meta 1.4402
Test::Harness 3.23
Test::More 0.98
YAML 0.80
YAML::Syck 1.20
version 0.96
--
Summary of my perl5 (revision 5 version 10 subversion 0) configuration:
Platform:
osname=netbsd, osvers=4.0, archname=i386-netbsd
uname='netbsd philips.bandsman.co.uk 4.0 netbsd 4.0 (generic) #0: sun dec 16 00:20:10 pst 2007 builds@wb34:homebuildsabnetbsd-4-0-releasei386200712160005z-objhomebuildsabnetbsd-4-0-releasesrcsysarchi386compilegeneric i386 '
config_args='-de -Dprefix=/home/njh/perl5/perlbrew/perls/perl-5.10.0'
hint=recommended, useposix=true, d_sigaction=define
useithreads=undef, usemultiplicity=undef
useperlio=define, d_sfio=undef, uselargefiles=define, usesocks=undef
use64bitint=undef, use64bitall=undef, uselongdouble=undef
usemymalloc=n, bincompat5005=undef
Compiler:
cc='cc', ccflags ='-fno-strict-aliasing -pipe -I/usr/pkg/include -I/usr/local/include',
optimize='-O',
cppflags='-fno-strict-aliasing -pipe -I/usr/pkg/include -I/usr/local/include'
ccversion='', gccversion='4.1.2 20061021 prerelease (NetBSD nb3 20061125)', gccosandvers=''
intsize=4, longsize=4, ptrsize=4, doublesize=8, byteorder=1234
d_longlong=define, longlongsize=8, d_longdbl=define, longdblsize=12
ivtype='long', ivsize=4, nvtype='double', nvsize=8, Off_t='off_t', lseeksize=8
alignbytes=4, prototype=define
Linker and Libraries:
ld='cc', ldflags =' -Wl,-rpath,/usr/pkg/lib -Wl,-rpath,/usr/local/lib -L/usr/pkg/lib -L/usr/local/lib'
libpth=/usr/pkg/lib /usr/local/lib /lib /usr/lib
libs=-lgdbm -lm -lcrypt -lutil -lc -lposix
perllibs=-lm -lcrypt -lutil -lc -lposix
libc=/lib/libc.so, so=so, useshrplib=false, libperl=libperl.a
gnulibc_version=''
Dynamic Linking:
dlsrc=dl_dlopen.xs, dlext=so, d_dlsymun=undef, ccdlflags='-Wl,-E '
cccdlflags='-DPIC -fPIC ', lddlflags='--whole-archive -shared -L/usr/pkg/lib -L/usr/local/lib'
Characteristics of this binary (from libperl):
Compile-time options: PERL_DONT_CREATE_GVSV PERL_MALLOC_WRAP
USE_LARGE_FILES USE_PERLIO
Built under netbsd
Compiled at Jul 15 2011 23:01:57
%ENV:
PERL5LIB="/home/njh/.cpan/build/XML-Compile-SOAP-2.26-7JOIML/blib/arch:/home/njh/.cpan/build/XML-Compile-SOAP-2.26-7JOIML/blib/lib:/home/njh/.cpan/build/XML-Compile-Cache-0.991-8hKyoV/blib/arch:/home/njh/.cpan/build/XML-Compile-Cache-0.991-8hKyoV/blib/lib:/home/njh/.cpan/build/XML-LibXML-Simple-0.91-BxTf5I/blib/arch:/home/njh/.cpan/build/XML-LibXML-Simple-0.91-BxTf5I/blib/lib:/home/njh/.cpan/build/XML-Compile-1.25-57lymi/blib/arch:/home/njh/.cpan/build/XML-Compile-1.25-57lymi/blib/lib:/home/njh/.cpan/build/XML-LibXML-1.96-0lthI5/blib/arch:/home/njh/.cpan/build/XML-LibXML-1.96-0lthI5/blib/lib:/home/njh/.cpan/build/XML-SAX-0.99-ggdgrg/blib/arch:/home/njh/.cpan/build/XML-SAX-0.99-ggdgrg/blib/lib:/home/njh/.cpan/build/XML-NamespaceSupport-1.11-uXxJNV/blib/arch:/home/njh/.cpan/build/XML-NamespaceSupport-1.11-uXxJNV/blib/lib:/home/njh/.cpan/build/XML-SAX-Base-1.08-ki9ugb/blib/arch:/home/njh/.cpan/build/XML-SAX-Base-1.08-ki9ugb/blib/lib:/home/njh/.cpan/build/XML-Compile-Tester-0.06-ooFhPk/blib/arch:/home/njh/.cpan/build/XML-Compile-Tester-0.06-ooFhPk/blib/lib:/home/njh/.cpan/build/Log-Report-0.94-60fwUe/blib/arch:/home/njh/.cpan/build/Log-Report-0.94-60fwUe/blib/lib"
PERL5OPT=""
PERL5_CPANPLUS_IS_RUNNING="4858"
PERL5_CPAN_IS_RUNNING="4858"
PERL5_CPAN_IS_RUNNING_IN_RECURSION="1493,4858"
PERLBREW_BASHRC_VERSION="0.42"
PERLBREW_HOME="/home/njh/.perlbrew"
PERLBREW_MANPATH="/home/njh/perl5/perlbrew/perls/perl-5.10.0/man"
PERLBREW_PATH="/home/njh/perl5/perlbrew/bin:/home/njh/perl5/perlbrew/perls/perl-5.10.0/bin"
PERLBREW_PERL="perl-5.10.0"
PERLBREW_ROOT="/home/njh/perl5/perlbrew"
PERLBREW_VERSION="0.42"
PERL_CR_SMOKER_CURRENT="MRS-Client-0.600100"
PERL_EXTUTILS_AUTOINSTALL="--defaultdeps"
PERL_MM_USE_DEFAULT="1"
@INC:
/home/njh/.cpan/build/XML-Compile-SOAP-2.26-7JOIML/blib/arch
/home/njh/.cpan/build/XML-Compile-SOAP-2.26-7JOIML/blib/lib
/home/njh/.cpan/build/XML-Compile-Cache-0.991-8hKyoV/blib/arch
/home/njh/.cpan/build/XML-Compile-Cache-0.991-8hKyoV/blib/lib
/home/njh/.cpan/build/XML-LibXML-Simple-0.91-BxTf5I/blib/arch
/home/njh/.cpan/build/XML-LibXML-Simple-0.91-BxTf5I/blib/lib
/home/njh/.cpan/build/XML-Compile-1.25-57lymi/blib/arch
/home/njh/.cpan/build/XML-Compile-1.25-57lymi/blib/lib
/home/njh/.cpan/build/XML-LibXML-1.96-0lthI5/blib/arch
/home/njh/.cpan/build/XML-LibXML-1.96-0lthI5/blib/lib
/home/njh/.cpan/build/XML-SAX-0.99-ggdgrg/blib/arch
/home/njh/.cpan/build/XML-SAX-0.99-ggdgrg/blib/lib
/home/njh/.cpan/build/XML-NamespaceSupport-1.11-uXxJNV/blib/arch
/home/njh/.cpan/build/XML-NamespaceSupport-1.11-uXxJNV/blib/lib
/home/njh/.cpan/build/XML-SAX-Base-1.08-ki9ugb/blib/arch
/home/njh/.cpan/build/XML-SAX-Base-1.08-ki9ugb/blib/lib
/home/njh/.cpan/build/XML-Compile-Tester-0.06-ooFhPk/blib/arch
/home/njh/.cpan/build/XML-Compile-Tester-0.06-ooFhPk/blib/lib
/home/njh/.cpan/build/Log-Report-0.94-60fwUe/blib/arch
/home/njh/.cpan/build/Log-Report-0.94-60fwUe/blib/lib
/home/njh/perl5/perlbrew/perls/perl-5.10.0/lib/5.10.0/i386-netbsd
/home/njh/perl5/perlbrew/perls/perl-5.10.0/lib/5.10.0
/home/njh/perl5/perlbrew/perls/perl-5.10.0/lib/site_perl/5.10.0/i386-netbsd
/home/njh/perl5/perlbrew/perls/perl-5.10.0/lib/site_perl/5.10.0
.