Back
From: metabase:user:30f4dfbe-2aae-11df-837a-5e0a49663a4f
Subject: PASS Nagios-Scrape-0.03 v5.8.9 Mac OS X
Date: 2011-10-16T01:15:43Z
This distribution has been tested as part of the CPAN Testers
project, supporting the Perl programming language. See
http://wiki.cpantesters.org/ for more information or email
questions to cpan-testers-discuss@perl.org
--
Dear Joe Topjian,
This is a computer-generated report for Nagios-Scrape-0.03
on perl 5.8.9 patch 35104, created by CPAN-Reporter-1.2002.
Thank you for uploading your work to CPAN. Congratulations!
All tests were successful.
Sections of this report:
* Tester comments
* Program output
* Prerequisites
* Environment and other context
------------------------------
TESTER COMMENTS
------------------------------
Additional comments from tester:
this report is from an automated smoke testing program
and was not reviewed by a human for accuracy
------------------------------
PROGRAM OUTPUT
------------------------------
Output from './Build test':
# Testing Nagios::Scrape 0.03, Perl 5.008009, /usr/local/bin/perl5.8.9
t/00-load.t ....... ok
t/manifest.t ...... skipped: Author tests not required for installation
t/pod-coverage.t .. ok
t/pod.t ........... ok
t/scrape.t ........ ok
All tests successful.
Files=5, Tests=20, 0 wallclock secs ( 0.04 usr 0.02 sys + 0.30 cusr 0.06 csys = 0.42 CPU)
Result: PASS
------------------------------
PREREQUISITES
------------------------------
Prerequisite modules loaded:
requires:
Module Need Have
--------------- ---- -------
CGI 0 3.55
Error 0 0.17016
LWP::UserAgent 0 6.02
build_requires:
Module Need Have
--------------- ---- -------
Test::Exception 0 0.31
Test::More 0 0.98
------------------------------
ENVIRONMENT AND OTHER CONTEXT
------------------------------
Environment variables:
AUTOMATED_TESTING = 1
LD_LIBRARY_PATH = /usr/local/lib
PATH = /usr/local/bin:/usr/bin:/bin:/usr/sbin:/sbin:/usr/local/bin:/usr/X11/bin:/Users/nigel/bin:/Users/nigel/perl/bin
PERL5LIB = /Users/nigel/perl/Library/Perl/Updates/5.8.9:/Users/nigel/perl/Users/nigel/perl::/Users/nigel/perl/lib/perl5:/Users/nigel/perl/lib/perl5/site_perl:
PERL5OPT =
PERL5_CPANPLUS_IS_RUNNING = 97611
PERL5_CPAN_IS_RUNNING = 97611
PERL5_MINISMOKEBOX = 0.54
PERL_EXTUTILS_AUTOINSTALL = --defaultdeps
PERL_MM_USE_DEFAULT = 1
SHELL = /bin/sh
Perl special variables (and OS-specific diagnostics, for MSWin32):
$^X = /usr/local/bin/perl5.8.9
$UID/$EUID = 1077 / 1077
$GID = 20 20 402 12 33 61 79 80 81 98 100 204 401 403
$EGID = 20 20 402 12 33 61 79 80 81 98 100 204 401 403
Perl module toolchain versions installed:
Module Have
------------------- --------
CPAN 1.9800
CPAN::Meta 2.112621
Cwd 3.33
ExtUtils::CBuilder 0.280202
ExtUtils::Command 1.17
ExtUtils::Install 1.54
ExtUtils::MakeMaker 6.59
ExtUtils::Manifest 1.60
ExtUtils::ParseXS 3.05
File::Spec 3.33
JSON 2.53
JSON::PP 2.27200
Module::Build 0.3800
Module::Signature n/a
Parse::CPAN::Meta 1.4401
Test::Harness 3.23
Test::More 0.98
YAML 0.77
YAML::Syck 1.17
version 0.94
--
Summary of my perl5 (revision 5 version 8 subversion 9 patch 35104) configuration:
Platform:
osname=darwin, osvers=10.8.0, archname=darwin-2level
uname='darwin nigel.int.kcilink.com 10.8.0 darwin kernel version 10.8.0: tue jun 7 16:33:36 pdt 2011; root:xnu-1504.15.3~1release_i386 i386 '
config_args='-de'
hint=recommended, useposix=true, d_sigaction=define
usethreads=undef use5005threads=undef useithreads=undef usemultiplicity=undef
useperlio=define d_sfio=undef uselargefiles=define usesocks=undef
use64bitint=define use64bitall=define uselongdouble=undef
usemymalloc=n, bincompat5005=undef
Compiler:
cc='cc', ccflags ='-fno-common -DPERL_DARWIN -no-cpp-precomp -fno-strict-aliasing -pipe -I/usr/local/include',
optimize='-O3',
cppflags='-no-cpp-precomp -fno-common -DPERL_DARWIN -no-cpp-precomp -fno-strict-aliasing -pipe -I/usr/local/include'
ccversion='', gccversion='4.2.1 (Based on Apple Inc. build 5658) (LLVM build 2335.9)', gccosandvers=''
intsize=4, longsize=8, ptrsize=8, doublesize=8, byteorder=12345678
d_longlong=define, longlongsize=8, d_longdbl=define, longdblsize=16
ivtype='long', ivsize=8, nvtype='double', nvsize=8, Off_t='off_t', lseeksize=8
alignbytes=8, prototype=define
Linker and Libraries:
ld='env MACOSX_DEPLOYMENT_TARGET=10.3 cc', ldflags =' -L/usr/local/lib'
libpth=/usr/local/lib /usr/lib
libs=-ldbm -ldl -lm -lutil -lc
perllibs=-ldl -lm -lutil -lc
libc=/usr/lib/libc.dylib, so=dylib, useshrplib=false, libperl=libperl.a
gnulibc_version=''
Dynamic Linking:
dlsrc=dl_dlopen.xs, dlext=bundle, d_dlsymun=undef, ccdlflags=' '
cccdlflags=' ', lddlflags=' -bundle -undefined dynamic_lookup -L/usr/local/lib'
Characteristics of this binary (from libperl):
Compile-time options: PERL_MALLOC_WRAP USE_64_BIT_ALL USE_64_BIT_INT
USE_FAST_STDIO USE_LARGE_FILES USE_PERLIO
Locally applied patches:
MAINT35104
Built under darwin
Compiled at Jun 27 2011 09:11:38
%ENV:
PERL5LIB="/Users/nigel/perl/Library/Perl/Updates/5.8.9:/Users/nigel/perl/Users/nigel/perl::/Users/nigel/perl/lib/perl5:/Users/nigel/perl/lib/perl5/site_perl:"
PERL5OPT=""
PERL5_CPANPLUS_IS_RUNNING="97611"
PERL5_CPAN_IS_RUNNING="97611"
PERL5_MINISMOKEBOX="0.54"
PERL_EXTUTILS_AUTOINSTALL="--defaultdeps"
PERL_MM_USE_DEFAULT="1"
@INC:
/Users/nigel/perl/Library/Perl/Updates/5.8.9
/Users/nigel/perl/Users/nigel/perl
/Users/nigel/perl/lib/perl5/5.8.9/darwin-2level
/Users/nigel/perl/lib/perl5/5.8.9
/Users/nigel/perl/lib/perl5/darwin-2level
/Users/nigel/perl/lib/perl5/5.6.2
/Users/nigel/perl/lib/perl5
/Users/nigel/perl/lib/perl5/site_perl/5.8.9/darwin-2level
/Users/nigel/perl/lib/perl5/site_perl/5.8.9
/Users/nigel/perl/lib/perl5/site_perl
/usr/local/lib/perl5/5.8.9/darwin-2level
/usr/local/lib/perl5/5.8.9
/usr/local/lib/perl5/site_perl/5.8.9/darwin-2level
/usr/local/lib/perl5/site_perl/5.8.9
/usr/local/lib/perl5/site_perl/5.6.2
/usr/local/lib/perl5/site_perl
.