MARC-Record v2.0.7 Perl 5 v5.20.3 x86_64-linux

Status
Pass
From
Slaven Rezić (SREZIC)
Dist
MARC-Record v2.0.7
Platform
Perl 5 v5.20.3 x86_64-linux
Date
2019-08-28 11:24:17
ID
5f73d238-c986-11e9-b5fd-33851f24ea8f
This distribution has been tested as part of the CPAN Testers
project, supporting the Perl programming language.  See
http://wiki.cpantesters.org/ for more information or email
questions to cpan-testers-discuss@perl.org


--
Dear Galen Charlton,

This is a computer-generated report for MARC-Record-2.0.7
on perl 5.20.3, created by CPAN-Reporter-1.2018.

Thank you for uploading your work to CPAN.  Congratulations!
All tests were successful.

Sections of this report:

    * Tester comments
    * Program output
    * Prerequisites
    * Environment and other context

------------------------------
TESTER COMMENTS
------------------------------

Additional comments from tester:

none provided

------------------------------
PROGRAM OUTPUT
------------------------------

Output from '/usr/bin/make test':

PERL_DL_NONLAZY=1 "/opt/perl-5.20.3/bin/perl" "-MExtUtils::Command::MM" "-MTest::Harness" "-e" "undef *Test::Harness::Switches; test_harness(0, 'blib/lib', 'blib/arch')" t/*.t
# Testing MARC::Record 2.0.7
t/00.load.t ....................... ok
t/10.camel.t ...................... ok
t/11.astring.t .................... ok
t/12.ldr.t ........................ ok
t/20.clone.t ...................... ok
t/50.batch.t ...................... ok
t/60.insert.t ..................... ok
t/60.update.t ..................... ok
t/61.append.t ..................... ok
t/61.replace.t .................... ok
t/62.before.t ..................... ok
t/63.after.t ...................... ok
t/64.create.t ..................... ok
t/66.grouped.t .................... ok
t/66.ordered.t .................... ok
t/67.subfield.t ................... ok
t/68.subfields.t .................. ok
t/70.croak.t ...................... ok
t/75.warnings.t ................... ok
t/80.alphatag.t ................... ok
t/81.decode.t ..................... ok
t/82.baddir.t ..................... ok
t/83.indicators.t ................. ok
t/85.fh.t ......................... ok
t/batch-filter.t .................. ok
t/convenience.t ................... ok
t/decode-filter.t ................. ok
t/delete-field.t .................. ok
t/delete-subfield.t ............... ok
t/dosEOF.t ........................ ok
t/extra_controlfields.t ........... ok
t/file-filter.t ................... ok
t/file-header.t ................... ok
t/filler.t ........................ ok
t/lineendings.t ................... ok
t/pod-coverage.t .................. ok
t/pod.t ........................... ok
t/rename-field.t .................. ok
t/rt67094_field_sans_subfields.t .. ok
t/title_proper.t .................. ok
t/utf8.t .......................... ok
All tests successful.
Files=41, Tests=1020,  3 wallclock secs ( 0.09 usr  0.29 sys +  2.46 cusr  0.81 csys =  3.65 CPU)
Result: PASS

------------------------------
PREREQUISITES
------------------------------

Prerequisite modules loaded:

requires:

    Module              Need Have    
    ------------------- ---- --------
    Carp                0    1.3301  
    File::Find          0    1.27    
    File::Spec          0    3.75    
    Test::More          0    1.302167

build_requires:

    Module              Need Have    
    ------------------- ---- --------
    ExtUtils::MakeMaker 0    7.36    

configure_requires:

    Module              Need Have    
    ------------------- ---- --------
    ExtUtils::MakeMaker 0    7.36    


------------------------------
ENVIRONMENT AND OTHER CONTEXT
------------------------------

Environment variables:

    LANG = en_US.UTF-8
    PATH = /usr/local/bin:/usr/bin:/bin:/usr/local/sbin:/usr/sbin:/sbin:/home/cpansand/bin/linux-gnu:/home/cpansand/bin/sh:/home/cpansand/bin:/usr/games:/home/cpansand/devel:/home/eserte/src/srezic-misc/scripts
    PERL5LIB = 
    PERL5OPT = 
    PERL5_CPANPLUS_IS_RUNNING = 11760
    PERL5_CPAN_IS_RUNNING = 11760
    PERL5_CPAN_IS_RUNNING_IN_RECURSION = 32014,11760
    PERLDOC = -MPod::Perldoc::ToTextOverstrike
    PERL_BATCH = yes
    PERL_CANARY_STABILITY_NOPROMPT = 1
    PERL_CPAN_REPORTER_CONFIG = /var/tmp/cpansmoker-1023/2019082811/cpanreporter_000_config.ini
    PERL_EXTUTILS_AUTOINSTALL = --defaultdeps
    SHELL = /usr/bin/zsh
    TERM = screen
    TMPDIR = /var/tmp/cpansmoker-1023/2019082811

Perl special variables (and OS-specific diagnostics, for MSWin32):

    $^X = /opt/perl-5.20.3/bin/perl
    $UID/$EUID = 1023 / 1023
    $GID = 1023 1023
    $EGID = 1023 1023

Perl module toolchain versions installed:

    Module              Have    
    ------------------- --------
    CPAN                2.05    
    CPAN::Meta          2.150010
    Cwd                 3.75    
    ExtUtils::CBuilder  0.280231
    ExtUtils::Command   7.36    
    ExtUtils::Install   2.06    
    ExtUtils::MakeMaker 7.36    
    ExtUtils::Manifest  1.70    
    ExtUtils::ParseXS   3.35    
    File::Spec          3.75    
    JSON                4.02    
    JSON::PP            4.04    
    Module::Build       0.4229  
    Module::Signature   n/a     
    Parse::CPAN::Meta   2.150010
    Test::Harness       3.42    
    Test::More          1.302167
    YAML                1.29    
    YAML::Syck          1.31    
    version             0.9924  


--

Summary of my perl5 (revision 5 version 20 subversion 3) configuration:
   
  Platform:
    osname=linux, osvers=4.15.0-55-generic, archname=x86_64-linux
    uname='linux ubuntu18 4.15.0-55-generic #60-ubuntu smp tue jul 2 18:22:20 utc 2019 x86_64 x86_64 x86_64 gnulinux '
    config_args='-ds -e -Dprefix=/opt/perl-5.20.3 -Dcf_email=srezic@cpan.org'
    hint=recommended, useposix=true, d_sigaction=define
    useithreads=undef, usemultiplicity=undef
    use64bitint=define, use64bitall=define, uselongdouble=undef
    usemymalloc=n, bincompat5005=undef
  Compiler:
    cc='cc', ccflags ='-fwrapv -fno-strict-aliasing -pipe -fstack-protector -I/usr/local/include -D_LARGEFILE_SOURCE -D_FILE_OFFSET_BITS=64',
    optimize='-O2',
    cppflags='-fwrapv -fno-strict-aliasing -pipe -fstack-protector -I/usr/local/include'
    ccversion='', gccversion='7.4.0', gccosandvers=''
    intsize=4, longsize=8, ptrsize=8, doublesize=8, byteorder=12345678
    d_longlong=define, longlongsize=8, d_longdbl=define, longdblsize=16
    ivtype='long', ivsize=8, nvtype='double', nvsize=8, Off_t='off_t', lseeksize=8
    alignbytes=8, prototype=define
  Linker and Libraries:
    ld='cc', ldflags =' -fstack-protector -L/usr/local/lib'
    libpth=/usr/local/lib /usr/lib/gcc/x86_64-linux-gnu/7/include-fixed /usr/include/x86_64-linux-gnu /usr/lib /lib/x86_64-linux-gnu /lib/../lib /usr/lib/x86_64-linux-gnu /usr/lib/../lib /lib
    libs=-lpthread -lnsl -lgdbm -ldb -ldl -lm -lcrypt -lutil -lc
    perllibs=-lpthread -lnsl -ldl -lm -lcrypt -lutil -lc
    libc=libc-2.27.so, so=so, useshrplib=false, libperl=libperl.a
    gnulibc_version='2.27'
  Dynamic Linking:
    dlsrc=dl_dlopen.xs, dlext=so, d_dlsymun=undef, ccdlflags='-Wl,-E'
    cccdlflags='-fPIC', lddlflags='-shared -O2 -L/usr/local/lib -fstack-protector'


Characteristics of this binary (from libperl): 
  Compile-time options: HAS_TIMES PERLIO_LAYERS PERL_DONT_CREATE_GVSV
                        PERL_HASH_FUNC_ONE_AT_A_TIME_HARD PERL_MALLOC_WRAP
                        PERL_NEW_COPY_ON_WRITE PERL_PRESERVE_IVUV
                        USE_64_BIT_ALL USE_64_BIT_INT USE_LARGE_FILES
                        USE_LOCALE USE_LOCALE_COLLATE USE_LOCALE_CTYPE
                        USE_LOCALE_NUMERIC USE_PERLIO USE_PERL_ATOF
  Built under linux
  Compiled at Aug  6 2019 20:48:38
  %ENV:
    PERL5LIB=""
    PERL5OPT=""
    PERL5_CPANPLUS_IS_RUNNING="11760"
    PERL5_CPAN_IS_RUNNING="11760"
    PERL5_CPAN_IS_RUNNING_IN_RECURSION="32014,11760"
    PERLDOC="-MPod::Perldoc::ToTextOverstrike"
    PERL_BATCH="yes"
    PERL_CANARY_STABILITY_NOPROMPT="1"
    PERL_CPAN_REPORTER_CONFIG="/var/tmp/cpansmoker-1023/2019082811/cpanreporter_000_config.ini"
    PERL_EXTUTILS_AUTOINSTALL="--defaultdeps"
  @INC:
    /opt/perl-5.20.3/lib/site_perl/5.20.3/x86_64-linux
    /opt/perl-5.20.3/lib/site_perl/5.20.3
    /opt/perl-5.20.3/lib/5.20.3/x86_64-linux
    /opt/perl-5.20.3/lib/5.20.3
    .