MooseX-Types-DateTime-MoreCoercions v0.15 Perl 5 v5.18.4 amd64-freebsd

Status
Pass
From
Slaven Rezić (SREZIC)
Dist
MooseX-Types-DateTime-MoreCoercions v0.15
Platform
Perl 5 v5.18.4 amd64-freebsd
Date
2017-12-07 12:37:23
ID
5fbd726a-db4b-11e7-b867-bef7b3b60a0b
This distribution has been tested as part of the CPAN Testers
project, supporting the Perl programming language.  See
http://wiki.cpantesters.org/ for more information or email
questions to cpan-testers-discuss@perl.org


--
Dear Karen Etheridge,

This is a computer-generated report for MooseX-Types-DateTime-MoreCoercions-0.15
on perl 5.18.4, created by CPAN-Reporter-1.2018.

Thank you for uploading your work to CPAN.  Congratulations!
All tests were successful.

Sections of this report:

    * Tester comments
    * Program output
    * Prerequisites
    * Environment and other context

------------------------------
TESTER COMMENTS
------------------------------

Additional comments from tester:

none provided

------------------------------
PROGRAM OUTPUT
------------------------------

Output from './Build test':

# 
# Versions for all modules listed in MYMETA.json (including optional ones):
# 
# === Configure Requires ===
# 
#     Module               Want  Have
#     ------------------- ----- -----
#     Module::Build::Tiny 0.007 0.039
# 
# === Test Requires ===
# 
#     Module              Want     Have
#     ------------------- ---- --------
#     ExtUtils::MakeMaker  any     7.30
#     File::Spec           any     3.40
#     Test::Fatal          any    0.014
#     Test::More          0.88 1.302106
#     ok                   any 1.302106
# 
# === Test Recommends ===
# 
#     Module         Want     Have
#     ---------- -------- --------
#     CPAN::Meta 2.120900 2.150010
# 
# === Runtime Requires ===
# 
#     Module                    Want   Have
#     ----------------------- ------ ------
#     DateTime                0.4302   1.44
#     DateTime::Duration      0.4302   1.44
#     DateTimeX::Easy          0.085  0.089
#     Moose                     0.41 2.2008
#     MooseX::Types             0.04   0.50
#     MooseX::Types::DateTime   0.07   0.13
#     MooseX::Types::Moose      0.04   0.50
#     Time::Duration::Parse     0.06   0.13
#     if                         any 0.0602
#     namespace::clean          0.19   0.27
#     strict                     any   1.07
#     warnings                   any   1.18
# 
# === Other Modules ===
# 
#     Module               Have
#     -------------------- ----
#     Dist::CheckConflicts 0.11
#     Pod::Coverage        0.23
# 
t/00-report-prereqs.t .. ok
t/01_basic.t ........... ok
t/zzz-check-breaks.t ... ok
All tests successful.
Files=3, Tests=31,  3 wallclock secs ( 0.03 usr  0.03 sys +  2.75 cusr  0.43 csys =  3.24 CPU)
Result: PASS

------------------------------
PREREQUISITES
------------------------------

Prerequisite modules loaded:

requires:

    Module                  Need   Have    
    ----------------------- ------ --------
    DateTime                0.4302 1.44    
    DateTime::Duration      0.4302 1.44    
    DateTimeX::Easy         0.085  0.089   
    if                      0      0.0602  
    Moose                   0.41   2.2008  
    MooseX::Types           0.04   0.50    
    MooseX::Types::DateTime 0.07   0.13    
    MooseX::Types::Moose    0.04   0.50    
    namespace::clean        0.19   0.27    
    perl                    5.006  5.018004
    strict                  0      1.07    
    Time::Duration::Parse   0.06   0.13    
    warnings                0      1.18    

build_requires:

    Module                  Need   Have    
    ----------------------- ------ --------
    ExtUtils::MakeMaker     0      7.30    
    File::Spec              0      3.40    
    ok                      0      1.302106
    perl                    5.006  5.018004
    Test::Fatal             0      0.014   
    Test::More              0.88   1.302106

configure_requires:

    Module                  Need   Have    
    ----------------------- ------ --------
    Module::Build::Tiny     0.007  0.039   
    perl                    5.006  5.018004


------------------------------
ENVIRONMENT AND OTHER CONTEXT
------------------------------

Environment variables:

    PATH = /usr/local/bin:/usr/bin:/bin:/usr/local/sbin:/usr/sbin:/sbin:/home/cpansand/bin/freebsd12.0:/home/cpansand/bin/sh:/home/cpansand/bin:/usr/games:/home/cpansand/devel:/home/eserte/src/srezic-misc/scripts
    PERL5LIB = /home/cpansand/.cpan/build/2017120718/MooseX-Types-DateTime-0.13-Zg10oF/blib/arch:/home/cpansand/.cpan/build/2017120718/MooseX-Types-DateTime-0.13-Zg10oF/blib/lib:/home/cpansand/.cpan/build/2017120718/Term-ProgressBar-Simple-0.03-xdnKXU/blib/arch:/home/cpansand/.cpan/build/2017120718/Term-ProgressBar-Simple-0.03-xdnKXU/blib/lib:/home/cpansand/.cpan/build/2017120718/Term-ProgressBar-Quiet-0.31-5_8epq/blib/arch:/home/cpansand/.cpan/build/2017120718/Term-ProgressBar-Quiet-0.31-5_8epq/blib/lib
    PERL5OPT = 
    PERL5_CPANPLUS_IS_RUNNING = 50371
    PERL5_CPAN_IS_RUNNING = 50371
    PERL5_CPAN_IS_RUNNING_IN_RECURSION = 50336,50371
    PERLDOC = -MPod::Perldoc::ToTextOverstrike
    PERL_BATCH = yes
    PERL_CANARY_STABILITY_NOPROMPT = 1
    PERL_CPAN_REPORTER_CONFIG = /var/tmp/cpansmoker-1023/2017120718/cpanreporter_000_config.ini
    PERL_EXTUTILS_AUTOINSTALL = --defaultdeps
    SHELL = /usr/local/bin/zsh
    TERM = screen
    TMPDIR = /var/tmp/cpansmoker-1023/2017120718

Perl special variables (and OS-specific diagnostics, for MSWin32):

    $^X = /usr/perl5.18.4p/bin/perl5.18.4
    $UID/$EUID = 1023 / 1023
    $GID = 1023 1023
    $EGID = 1023 1023

Perl module toolchain versions installed:

    Module              Have    
    ------------------- --------
    CPAN                2.00    
    CPAN::Meta          2.150010
    Cwd                 3.40    
    ExtUtils::CBuilder  0.280230
    ExtUtils::Command   7.30    
    ExtUtils::Install   2.06    
    ExtUtils::MakeMaker 7.30    
    ExtUtils::Manifest  1.70    
    ExtUtils::ParseXS   3.35    
    File::Spec          3.40    
    JSON                2.94    
    JSON::PP            2.94    
    Module::Build       0.4224  
    Module::Signature   0.81    
    Parse::CPAN::Meta   2.150010
    Test::Harness       3.39    
    Test::More          1.302106
    YAML                1.24    
    YAML::Syck          1.30    
    version             0.9918  


--

Summary of my perl5 (revision 5 version 18 subversion 4) configuration:
   
  Platform:
    osname=freebsd, osvers=12.0-current, archname=amd64-freebsd
    uname='freebsd ali1.bbbike.org 12.0-current freebsd 12.0-current #0 bd8385a990e(master)-dirty: fri nov 17 03:13:11 utc 2017 root@ali1.bbbike.org:usrobjhomeprojectsfreebsdamd64.amd64sysgeneric-nodebug amd64 '
    config_args='-ds -e -Dprefix=/usr/perl5.18.4p -Dcf_email=srezic@cpan.org -Doptimize=-O2 -pipe'
    hint=recommended, useposix=true, d_sigaction=define
    useithreads=undef, usemultiplicity=undef
    useperlio=define, d_sfio=undef, uselargefiles=define, usesocks=undef
    use64bitint=define, use64bitall=define, uselongdouble=undef
    usemymalloc=n, bincompat5005=undef
  Compiler:
    cc='cc', ccflags ='-DHAS_FPSETMASK -DHAS_FLOATINGPOINT_H -fno-strict-aliasing -pipe -fstack-protector -I/usr/local/include',
    optimize='-O2 -pipe',
    cppflags='-DHAS_FPSETMASK -DHAS_FLOATINGPOINT_H -fno-strict-aliasing -pipe -fstack-protector -I/usr/local/include'
    ccversion='', gccversion='4.2.1 Compatible FreeBSD Clang 5.0.0 (tags/RELEASE_500/final 312559)', gccosandvers=''
    intsize=4, longsize=8, ptrsize=8, doublesize=8, byteorder=12345678
    d_longlong=define, longlongsize=8, d_longdbl=define, longdblsize=16
    ivtype='long', ivsize=8, nvtype='double', nvsize=8, Off_t='off_t', lseeksize=8
    alignbytes=8, prototype=define
  Linker and Libraries:
    ld='cc', ldflags ='-pthread -Wl,-E  -fstack-protector -L/usr/local/lib'
    libpth=/usr/lib /usr/local/lib
    libs=-lgdbm -lm -lcrypt -lutil -lc
    perllibs=-lm -lcrypt -lutil -lc
    libc=, so=so, useshrplib=false, libperl=libperl.a
    gnulibc_version=''
  Dynamic Linking:
    dlsrc=dl_dlopen.xs, dlext=so, d_dlsymun=undef, ccdlflags=' '
    cccdlflags='-DPIC -fPIC', lddlflags='-shared  -L/usr/local/lib -fstack-protector'


Characteristics of this binary (from libperl): 
  Compile-time options: HAS_TIMES PERLIO_LAYERS PERL_DONT_CREATE_GVSV
                        PERL_HASH_FUNC_ONE_AT_A_TIME_HARD PERL_MALLOC_WRAP
                        PERL_PRESERVE_IVUV PERL_SAWAMPERSAND USE_64_BIT_ALL
                        USE_64_BIT_INT USE_LARGE_FILES USE_LOCALE
                        USE_LOCALE_COLLATE USE_LOCALE_CTYPE
                        USE_LOCALE_NUMERIC USE_PERLIO USE_PERL_ATOF
  Built under freebsd
  Compiled at Nov 17 2017 06:44:20
  %ENV:
    PERL5LIB="/home/cpansand/.cpan/build/2017120718/MooseX-Types-DateTime-0.13-Zg10oF/blib/arch:/home/cpansand/.cpan/build/2017120718/MooseX-Types-DateTime-0.13-Zg10oF/blib/lib:/home/cpansand/.cpan/build/2017120718/Term-ProgressBar-Simple-0.03-xdnKXU/blib/arch:/home/cpansand/.cpan/build/2017120718/Term-ProgressBar-Simple-0.03-xdnKXU/blib/lib:/home/cpansand/.cpan/build/2017120718/Term-ProgressBar-Quiet-0.31-5_8epq/blib/arch:/home/cpansand/.cpan/build/2017120718/Term-ProgressBar-Quiet-0.31-5_8epq/blib/lib"
    PERL5OPT=""
    PERL5_CPANPLUS_IS_RUNNING="50371"
    PERL5_CPAN_IS_RUNNING="50371"
    PERL5_CPAN_IS_RUNNING_IN_RECURSION="50336,50371"
    PERLDOC="-MPod::Perldoc::ToTextOverstrike"
    PERL_BATCH="yes"
    PERL_CANARY_STABILITY_NOPROMPT="1"
    PERL_CPAN_REPORTER_CONFIG="/var/tmp/cpansmoker-1023/2017120718/cpanreporter_000_config.ini"
    PERL_EXTUTILS_AUTOINSTALL="--defaultdeps"
  @INC:
    /home/cpansand/.cpan/build/2017120718/MooseX-Types-DateTime-0.13-Zg10oF/blib/arch
    /home/cpansand/.cpan/build/2017120718/MooseX-Types-DateTime-0.13-Zg10oF/blib/lib
    /home/cpansand/.cpan/build/2017120718/Term-ProgressBar-Simple-0.03-xdnKXU/blib/arch
    /home/cpansand/.cpan/build/2017120718/Term-ProgressBar-Simple-0.03-xdnKXU/blib/lib
    /home/cpansand/.cpan/build/2017120718/Term-ProgressBar-Quiet-0.31-5_8epq/blib/arch
    /home/cpansand/.cpan/build/2017120718/Term-ProgressBar-Quiet-0.31-5_8epq/blib/lib
    /usr/perl5.18.4p/lib/site_perl/5.18.4/amd64-freebsd
    /usr/perl5.18.4p/lib/site_perl/5.18.4
    /usr/perl5.18.4p/lib/5.18.4/amd64-freebsd
    /usr/perl5.18.4p/lib/5.18.4
    .