Text-VimColor v0.29 Perl 5 v5.8.9 x86_64-linux

Status
Pass
From
Slaven Rezić (SREZIC)
Dist
Text-VimColor v0.29
Platform
Perl 5 v5.8.9 x86_64-linux
Date
2018-12-04 15:43:41
ID
5fd47b4c-f7db-11e8-8e51-f4719f36e54c
This distribution has been tested as part of the CPAN Testers
project, supporting the Perl programming language.  See
http://wiki.cpantesters.org/ for more information or email
questions to cpan-testers-discuss@perl.org


--
Dear Randy Stauner,

This is a computer-generated report for Text-VimColor-0.29
on perl 5.8.9, created by CPAN-Reporter-1.2018.

Thank you for uploading your work to CPAN.  Congratulations!
All tests were successful.

Sections of this report:

    * Tester comments
    * Program output
    * Prerequisites
    * Environment and other context

------------------------------
TESTER COMMENTS
------------------------------

Additional comments from tester:

none provided

------------------------------
PROGRAM OUTPUT
------------------------------

Output from '/usr/bin/make test':

Skip blib/lib/auto/share/dist/Text-VimColor/define_all.vim (unchanged)
Skip blib/lib/auto/share/dist/Text-VimColor/light.css (unchanged)
Skip blib/lib/auto/share/dist/Text-VimColor/mark.vim (unchanged)
Skip blib/lib/auto/share/dist/Text-VimColor/light.xsl (unchanged)
PERL_DL_NONLAZY=1 "/bbbike/perl-5.8.9/bin/perl" "-MExtUtils::Command::MM" "-MTest::Harness" "-e" "undef *Test::Harness::Switches; test_harness(0, 'blib/lib', 'blib/arch')" t/*.t
t/00-compile.t ......... ok
# 
# Versions for all modules listed in MYMETA.json (including optional ones):
# 
# === Configure Requires ===
# 
#     Module                  Want    Have
#     ----------------------- ---- -------
#     ExtUtils::MakeMaker      any    7.34
#     File::ShareDir::Install 0.06    0.13
#     File::Temp               any  0.2308
#     IO::File                 any    1.39
#     IPC::Open3               any    1.03
#     strict                   any    1.03
#     warnings                 any 1.05_01
# 
# === Build Requires ===
# 
#     Module              Want Have
#     ------------------- ---- ----
#     ExtUtils::MakeMaker  any 7.34
# 
# === Test Requires ===
# 
#     Module                     Want     Have
#     -------------------------- ---- --------
#     Exporter                    any     5.72
#     ExtUtils::MakeMaker         any     7.34
#     File::Spec                  any     3.74
#     File::Temp                  any   0.2308
#     IO::Handle                  any     1.39
#     IPC::Open3                  any     1.03
#     Path::Class                0.04     0.37
#     Test::File::ShareDir::Dist  any 1.001001
#     Test::More                 0.88 1.302136
#     lib                         any     0.61
# 
# === Test Recommends ===
# 
#     Module         Want     Have
#     ---------- -------- --------
#     CPAN::Meta 2.120900 2.150010
# 
# === Runtime Requires ===
# 
#     Module          Want    Have
#     --------------- ---- -------
#     Carp             any    1.50
#     File::Copy       any    2.13
#     File::ShareDir   any   1.116
#     File::Temp       any  0.2308
#     Getopt::Long     any     2.5
#     IO::File         any    1.39
#     IPC::Open3       any    1.03
#     Path::Class     0.04    0.37
#     Symbol           any    1.06
#     Term::ANSIColor 1.03    4.06
#     constant         any    1.33
#     strict           any    1.03
#     warnings         any 1.05_01
# 
# === Runtime Recommends ===
# 
#     Module          Want Have
#     --------------- ---- ----
#     Term::ANSIColor    3 4.06
# 
t/00-report-prereqs.t .. ok
# vim --version
# 
# VIM - Vi IMproved 7.4 (2013 Aug 10, compiled Mar 10 2017 00:54:29)
# Inklusive der Korrekturen: 1-488, 576
# Extra patches: 8.0.0378, 8.0.0377, 8.0.0322, 8.0.0056
# Verändert von pkg-vim-maintainers@lists.alioth.debian.org
# Übersetzt von jamessan@debian.org
# Riesige Version ohne GUI. Ein- (+) oder ausschließlich (-) der Eigenschaften:
# +acl             +farsi           +mouse_netterm   +syntax
# +arabic          +file_in_path    +mouse_sgr       +tag_binary
# +autocmd         +find_in_path    -mouse_sysmouse  +tag_old_static
# -balloon_eval    +float           +mouse_urxvt     -tag_any_white
# -browse          +folding         +mouse_xterm     -tcl
# ++builtin_terms  -footer          +multi_byte      +terminfo
# +byte_offset     +fork()          +multi_lang      +termresponse
# +cindent         +gettext         -mzscheme        +textobjects
# -clientserver    -hangul_input    +netbeans_intg   +title
# -clipboard       +iconv           +path_extra      -toolbar
# +cmdline_compl   +insert_expand   -perl            +user_commands
# +cmdline_hist    +jumplist        +persistent_undo +vertsplit
# +cmdline_info    +keymap          +postscript      +virtualedit
# +comments        +langmap         +printer         +visual
# +conceal         +libcall         +profile         +visualextra
# +cryptv          +linebreak       -python          +viminfo
# +cscope          +lispindent      -python3         +vreplace
# +cursorbind      +listcmds        +quickfix        +wildignore
# +cursorshape     +localmap        +reltime         +wildmenu
# +dialog_con      -lua             +rightleft       +windows
# +diff            +menu            -ruby            +writebackup
# +digraphs        +mksession       +scrollbind      -X11
# -dnd             +modify_fname    +signs           -xfontset
# -ebcdic          +mouse           +smartindent     -xim
# +emacs_tags      -mouseshape      -sniff           -xsmp
# +eval            +mouse_dec       +startuptime     -xterm_clipboard
# +ex_extra        +mouse_gpm       +statusline      -xterm_save
# +extra_search    -mouse_jsbterm   -sun_workshop    -xpm
#           System-vimrc-Datei: "$VIM/vimrc"
#         Benutzer-vimrc-Datei: "$HOME/.vimrc"
#  zweite Benutzer-vimrc-Datei: "~/.vim/vimrc"
#          Benutzer-exrc-Datei: "$HOME/.exrc"
#      Voreinstellung für $VIM: "/usr/share/vim"
# Übersetzt: gcc -c -I. -Iproto -DHAVE_CONFIG_H     -g -O2 -fPIE -fstack-protector-strong -Wformat -Werror=format-security -U_FORTIFY_SOURCE -D_FORTIFY_SOURCE=1      
# Linken: gcc   -fPIE -pie -Wl,-z,relro -Wl,-z,now -Wl,--as-needed -o vim        -lm -ltinfo -lnsl  -lselinux -lacl -lattr -lgpm -ldl          
# 
t/000-vim-version.t .... ok
t/all-syntax-groups.t .. ok
t/ansi.t ............... ok
t/bin.t ................ ok
t/compare-formats.t .... ok
t/encoding.t ........... ok
t/html.t ............... ok
t/input_filename.t ..... ok
t/new.t ................ ok
t/override-options.t ... ok
t/share-dir.t .......... ok
t/tvctestsyn.t ......... ok
t/untie-std-handles.t .. ok
t/vim_let.t ............ ok
t/vim_options.t ........ ok
t/xml.t ................ ok
All tests successful.

Test Summary Report
-------------------
t/encoding.t         (Wstat: 0 Tests: 8 Failed: 0)
  TODO passed:   5-6
Files=18, Tests=146, 18 wallclock secs ( 0.06 usr  0.15 sys +  5.17 cusr  1.94 csys =  7.32 CPU)
Result: PASS

------------------------------
PREREQUISITES
------------------------------

Prerequisite modules loaded:

requires:

    Module                     Need  Have    
    -------------------------- ----- --------
    Carp                       0     1.50    
    constant                   0     1.33    
    File::Copy                 0     2.13    
    File::ShareDir             0     1.116   
    File::Temp                 0     0.2308  
    Getopt::Long               0     2.5     
    IO::File                   0     1.39    
    IPC::Open3                 0     1.03    
    Path::Class                0.04  0.37    
    perl                       5.006 5.008009
    strict                     0     1.03    
    Symbol                     0     1.06    
    Term::ANSIColor            1.03  4.06    
    warnings                   0     1.05_01 

build_requires:

    Module                     Need  Have    
    -------------------------- ----- --------
    Exporter                   0     5.72    
    ExtUtils::MakeMaker        0     7.34    
    File::Spec                 0     3.74    
    File::Temp                 0     0.2308  
    IO::Handle                 0     1.39    
    IPC::Open3                 0     1.03    
    lib                        0     0.61    
    Path::Class                0.04  0.37    
    Test::File::ShareDir::Dist 0     1.001001
    Test::More                 0.88  1.302136

configure_requires:

    Module                     Need  Have    
    -------------------------- ----- --------
    ExtUtils::MakeMaker        0     7.34    
    File::ShareDir::Install    0.06  0.13    
    File::Temp                 0     0.2308  
    IO::File                   0     1.39    
    IPC::Open3                 0     1.03    
    perl                       5.006 5.008009
    strict                     0     1.03    
    warnings                   0     1.05_01 


------------------------------
ENVIRONMENT AND OTHER CONTEXT
------------------------------

Environment variables:

    LANG = C
    LC_ALL = de_DE.UTF-8
    PATH = /usr/local/bin:/usr/bin:/bin:/usr/local/sbin:/usr/sbin:/sbin:/home/cpansand/bin/linux-gnu:/home/cpansand/bin/sh:/home/cpansand/bin:/usr/games:/home/cpansand/devel:/home/eserte/src/srezic-misc/scripts
    PERL5LIB = /home/cpansand/.cpan/build/2018120415/Carp-Clan-6.07-0/blib/arch:/home/cpansand/.cpan/build/2018120415/Carp-Clan-6.07-0/blib/lib:/home/cpansand/.cpan/build/2018120415/Term-ANSIColor-Conditional-0.006-0/blib/arch:/home/cpansand/.cpan/build/2018120415/Term-ANSIColor-Conditional-0.006-0/blib/lib:/home/cpansand/.cpan/build/2018120415/POE-Component-EasyDBI-1.28-0/blib/arch:/home/cpansand/.cpan/build/2018120415/POE-Component-EasyDBI-1.28-0/blib/lib:/home/cpansand/.cpan/build/2018120415/Pod-Tree-1.29-0/blib/arch:/home/cpansand/.cpan/build/2018120415/Pod-Tree-1.29-0/blib/lib:/home/cpansand/.cpan/build/2018120415/HTML-Stream-1.60-0/blib/arch:/home/cpansand/.cpan/build/2018120415/HTML-Stream-1.60-0/blib/lib:/home/cpansand/.cpan/build/2018120415/Acme-CPANAuthors-Danish-0.04-0/blib/arch:/home/cpansand/.cpan/build/2018120415/Acme-CPANAuthors-Danish-0.04-0/blib/lib
    PERL5OPT = 
    PERL5_CPANPLUS_IS_RUNNING = 2053
    PERL5_CPAN_IS_RUNNING = 2053
    PERL5_CPAN_IS_RUNNING_IN_RECURSION = 3651,2053
    PERLDOC = -MPod::Perldoc::ToTextOverstrike
    PERL_BATCH = yes
    PERL_CANARY_STABILITY_NOPROMPT = 1
    PERL_CPAN_REPORTER_CONFIG = /var/tmp/cpansmoker-1023/2018120320/cpanreporter_002_config.ini
    PERL_EXTUTILS_AUTOINSTALL = --defaultdeps
    PERL_PARALLEL_SMOKER = yes
    PERL_USE_UNSAFE_INC = 1
    SHELL = /bin/zsh
    TERM = screen
    TMPDIR = /var/tmp/cpansmoker-1023/2018120320

Perl special variables (and OS-specific diagnostics, for MSWin32):

    $^X = /bbbike/perl-5.8.9/bin/perl
    $UID/$EUID = 1023 / 1023
    $GID = 1023 1023
    $EGID = 1023 1023

Perl module toolchain versions installed:

    Module              Have    
    ------------------- --------
    CPAN                2.16    
    CPAN::Meta          2.150010
    Cwd                 3.74    
    ExtUtils::CBuilder  0.280230
    ExtUtils::Command   7.34    
    ExtUtils::Install   2.14    
    ExtUtils::MakeMaker 7.34    
    ExtUtils::Manifest  1.71    
    ExtUtils::ParseXS   3.30    
    File::Spec          3.74    
    JSON                2.97001 
    JSON::PP            2.27400 
    Module::Build       0.4224  
    Module::Signature   0.81    
    Parse::CPAN::Meta   2.150010
    Test::Harness       3.42    
    Test::More          1.302136
    YAML                1.27    
    YAML::Syck          1.30    
    version             0.9916  


--

Summary of my perl5 (revision 5 version 8 subversion 9) configuration:
  Platform:
    osname=linux, osvers=3.16.0-4-amd64, archname=x86_64-linux
    uname='linux eserte 3.16.0-4-amd64 #1 smp debian 3.16.7-ckt25-2 (2016-04-08) x86_64 gnulinux '
    config_args='-ds -e -Dprefix=/opt/perl-5.8.9 -Dcf_email=srezic@cpan.org'
    hint=recommended, useposix=true, d_sigaction=define
    usethreads=undef use5005threads=undef useithreads=undef usemultiplicity=undef
    useperlio=define d_sfio=undef uselargefiles=define usesocks=undef
    use64bitint=define use64bitall=define uselongdouble=undef
    usemymalloc=n, bincompat5005=undef
  Compiler:
    cc='cc', ccflags ='-fno-strict-aliasing -pipe -I/usr/local/include -D_LARGEFILE_SOURCE -D_FILE_OFFSET_BITS=64',
    optimize='-O2',
    cppflags='-fno-strict-aliasing -pipe -I/usr/local/include'
    ccversion='', gccversion='4.9.2', gccosandvers=''
    intsize=4, longsize=8, ptrsize=8, doublesize=8, byteorder=12345678
    d_longlong=define, longlongsize=8, d_longdbl=define, longdblsize=16
    ivtype='long', ivsize=8, nvtype='double', nvsize=8, Off_t='off_t', lseeksize=8
    alignbytes=8, prototype=define
  Linker and Libraries:
    ld='cc', ldflags =' -L/usr/local/lib'
    libpth=/usr/local/lib /lib/x86_64-linux-gnu /lib/../lib /usr/lib/x86_64-linux-gnu /usr/lib/../lib /lib /usr/lib
    libs=-lnsl -ldl -lm -lcrypt -lutil -lc
    perllibs=-lnsl -ldl -lm -lcrypt -lutil -lc
    libc=libc-2.19.so, so=so, useshrplib=false, libperl=libperl.a
    gnulibc_version='2.19'
  Dynamic Linking:
    dlsrc=dl_dlopen.xs, dlext=so, d_dlsymun=undef, ccdlflags='-Wl,-E'
    cccdlflags='-fPIC', lddlflags='-shared -O2 -L/usr/local/lib'


Characteristics of this binary (from libperl): 
  Compile-time options: PERL_MALLOC_WRAP USE_64_BIT_ALL USE_64_BIT_INT
                        USE_FAST_STDIO USE_LARGE_FILES USE_PERLIO
  Locally applied patches:
	Devel::PatchPerl 1.42
  Built under linux
  Compiled at May  7 2016 09:05:30
  %ENV:
    PERL5LIB="/home/cpansand/.cpan/build/2018120415/Carp-Clan-6.07-0/blib/arch:/home/cpansand/.cpan/build/2018120415/Carp-Clan-6.07-0/blib/lib:/home/cpansand/.cpan/build/2018120415/Term-ANSIColor-Conditional-0.006-0/blib/arch:/home/cpansand/.cpan/build/2018120415/Term-ANSIColor-Conditional-0.006-0/blib/lib:/home/cpansand/.cpan/build/2018120415/POE-Component-EasyDBI-1.28-0/blib/arch:/home/cpansand/.cpan/build/2018120415/POE-Component-EasyDBI-1.28-0/blib/lib:/home/cpansand/.cpan/build/2018120415/Pod-Tree-1.29-0/blib/arch:/home/cpansand/.cpan/build/2018120415/Pod-Tree-1.29-0/blib/lib:/home/cpansand/.cpan/build/2018120415/HTML-Stream-1.60-0/blib/arch:/home/cpansand/.cpan/build/2018120415/HTML-Stream-1.60-0/blib/lib:/home/cpansand/.cpan/build/2018120415/Acme-CPANAuthors-Danish-0.04-0/blib/arch:/home/cpansand/.cpan/build/2018120415/Acme-CPANAuthors-Danish-0.04-0/blib/lib"
    PERL5OPT=""
    PERL5_CPANPLUS_IS_RUNNING="2053"
    PERL5_CPAN_IS_RUNNING="2053"
    PERL5_CPAN_IS_RUNNING_IN_RECURSION="3651,2053"
    PERLDOC="-MPod::Perldoc::ToTextOverstrike"
    PERL_BATCH="yes"
    PERL_CANARY_STABILITY_NOPROMPT="1"
    PERL_CPAN_REPORTER_CONFIG="/var/tmp/cpansmoker-1023/2018120320/cpanreporter_002_config.ini"
    PERL_EXTUTILS_AUTOINSTALL="--defaultdeps"
    PERL_PARALLEL_SMOKER="yes"
    PERL_USE_UNSAFE_INC="1"
  @INC:
    /home/cpansand/.cpan/build/2018120415/Carp-Clan-6.07-0/blib/arch
    /home/cpansand/.cpan/build/2018120415/Carp-Clan-6.07-0/blib/lib
    /home/cpansand/.cpan/build/2018120415/Term-ANSIColor-Conditional-0.006-0/blib/arch
    /home/cpansand/.cpan/build/2018120415/Term-ANSIColor-Conditional-0.006-0/blib/lib
    /home/cpansand/.cpan/build/2018120415/POE-Component-EasyDBI-1.28-0/blib/arch
    /home/cpansand/.cpan/build/2018120415/POE-Component-EasyDBI-1.28-0/blib/lib
    /home/cpansand/.cpan/build/2018120415/Pod-Tree-1.29-0/blib/arch
    /home/cpansand/.cpan/build/2018120415/Pod-Tree-1.29-0/blib/lib
    /home/cpansand/.cpan/build/2018120415/HTML-Stream-1.60-0/blib/arch
    /home/cpansand/.cpan/build/2018120415/HTML-Stream-1.60-0/blib/lib
    /home/cpansand/.cpan/build/2018120415/Acme-CPANAuthors-Danish-0.04-0/blib/arch
    /home/cpansand/.cpan/build/2018120415/Acme-CPANAuthors-Danish-0.04-0/blib/lib
    /opt/perl-5.8.9/lib/5.8.9/x86_64-linux
    /opt/perl-5.8.9/lib/5.8.9
    /opt/perl-5.8.9/lib/site_perl/5.8.9/x86_64-linux
    /opt/perl-5.8.9/lib/site_perl/5.8.9
    .