Report for DBIx-Connector-0.53

Back
From: metabase:user:fb19509c-17e3-11e3-a14d-fdb79081a995
Subject: PASS DBIx-Connector-0.53 v5.14.4 Mac OS X
Date: 2014-09-15T19:34:57Z

This distribution has been tested as part of the CPAN Testers
project, supporting the Perl programming language.  See
http://wiki.cpantesters.org/ for more information or email
questions to cpan-testers-discuss@perl.org


--
Dear DWHEELER,

This is a computer-generated report for DBIx-Connector-0.53
on perl 5.14.4, created by App::cpanminus::reporter 0.11 (1.7009).

Thank you for uploading your work to CPAN.  Congratulations!
All tests were successful.

Sections of this report:

    * Tester comments
    * Program output
    * Prerequisites
    * Environment and other context

------------------------------
TESTER COMMENTS
------------------------------

Additional comments from tester:

none provided

------------------------------
PROGRAM OUTPUT
------------------------------

Output from '':

Building and testing DBIx-Connector-0.53
Building DBIx-Connector
t/driver.t ........ ok
t/load.t .......... ok
t/run_ping.t ...... ok
t/run.t ........... ok
t/pod-coverage.t .. ok
t/run_fixup.t ..... ok
t/svp_live.t ...... skipped: Set DBICTEST_DSN _USER and _PASS to run savepoint tests
t/base.t .......... ok
t/pod.t ........... ok
t/svp_fixup.t ..... ok
t/svp.t ........... ok
t/svp_ping.t ...... ok
t/txn.t ........... ok
t/txn_ping.t ...... ok
t/txn_fixup.t ..... ok
All tests successful.
Files=15, Tests=770,  0 wallclock secs ( 0.14 usr  0.04 sys +  1.20 cusr  0.13 csys =  1.51 CPU)
Result: PASS

------------------------------
PREREQUISITES
------------------------------

Prerequisite modules loaded:

    No requirements found

------------------------------
ENVIRONMENT AND OTHER CONTEXT
------------------------------

Environment variables:

    LANG = en_CA.UTF-8
    PATH = /Users/ether/.perlbrew/libs/14.4@std/bin:/Users/ether/perl5/perlbrew/bin:/Users/ether/perl5/perlbrew/perls/14.4/bin:/Users/ether/bin:/Users/ether/git/misc/install/bourbon/bin:/Users/ether/git/misc/install/generic/bin:/opt/local/bin:/opt/local/sbin:/Users/ether/git/git-hub/lib:/Users/ether/src/CE/devtools:/Users/ether/git/CE/devtools:/Users/ether/src/CE/bin:/Users/ether/git/CE/bin:/usr/bin:/bin:/usr/sbin:/sbin:/usr/local/bin:/opt/local/share/git-core/contrib/workdir
    PERL5LIB = /Users/ether/.perlbrew/libs/14.4@std/lib/perl5
    PERLBREW_BASHRC_VERSION = 0.69
    PERLBREW_HOME = /Users/ether/.perlbrew
    PERLBREW_LIB = std
    PERLBREW_MANPATH = /Users/ether/.perlbrew/libs/14.4@std/man:/Users/ether/perl5/perlbrew/perls/14.4/man
    PERLBREW_PATH = /Users/ether/.perlbrew/libs/14.4@std/bin:/Users/ether/perl5/perlbrew/bin:/Users/ether/perl5/perlbrew/perls/14.4/bin
    PERLBREW_PERL = 14.4
    PERLBREW_ROOT = /Users/ether/perl5/perlbrew
    PERLBREW_VERSION = 0.71
    PERLDOC_PAGER = less -sicMr
    PERL_AUTOINSTALL_PREFER_CPAN = 1
    PERL_INSTALL_QUIET = 1
    PERL_LOCAL_LIB_ROOT = /Users/ether/.perlbrew/libs/14.4@std
    PERL_MB_OPT = --install_base /Users/ether/.perlbrew/libs/14.4@std
    PERL_MM_OPT = INSTALL_BASE=/Users/ether/.perlbrew/libs/14.4@std
    SHELL = /bin/bash
    TERM = xterm-color
    TMPDIR = /var/folders/kx/9dgyhhpn2yb7v2mggnr385fr0000gn/T/

Perl special variables (and OS-specific diagnostics, for MSWin32):

    EGID = 20 20 402 12 61 79 80 81 98
    EUID = 501
    EXECUTABLE_NAME = /Users/ether/perl5/perlbrew/perls/14.4/bin/perl
    GID = 20 20 402 12 61 79 80 81 98
    UID = 501

Perl module toolchain versions installed:

    Module              Have     
    ------------------- ---------
    CPAN                1.9600_01
    CPAN::Meta          2.142060 
    Cwd                 3.47     
    ExtUtils::CBuilder  0.280203 
    ExtUtils::Command   1.17     
    ExtUtils::Install   1.56     
    ExtUtils::MakeMaker 6.98     
    ExtUtils::Manifest  1.60     
    ExtUtils::ParseXS   3.24     
    File::Spec          3.47     
    JSON                2.90     
    JSON::PP            2.27203  
    Module::Build       0.4210   
    Module::Signature   n/a      
    Parse::CPAN::Meta   1.4414   
    Test::Harness       3.32     
    Test::More          1.001006 
    YAML                1.01     
    YAML::Syck          1.27     
    version             0.9909   


--

Summary of my perl5 (revision 5 version 14 subversion 4) configuration:
   
  Platform:
    osname=darwin, osvers=12.5.0, archname=darwin-2level
    uname='darwin bourbon 12.5.0 darwin kernel version 12.5.0: sun sep 29 13:33:47 pdt 2013; root:xnu-2050.48.12~1release_x86_64 x86_64 '
    config_args='-de -Dprefix=/Users/ether/perl5/perlbrew/perls/14.4 -Dman1dir=none -Dman3dir=none -Aeval:scriptdir=/Users/ether/perl5/perlbrew/perls/14.4/bin'
    hint=recommended, useposix=true, d_sigaction=define
    useithreads=undef, usemultiplicity=undef
    useperlio=define, d_sfio=undef, uselargefiles=define, usesocks=undef
    use64bitint=define, use64bitall=define, uselongdouble=undef
    usemymalloc=n, bincompat5005=undef
  Compiler:
    cc='cc', ccflags ='-fno-common -DPERL_DARWIN -fno-strict-aliasing -pipe -fstack-protector -I/opt/local/include',
    optimize='-O3',
    cppflags='-fno-common -DPERL_DARWIN -fno-strict-aliasing -pipe -fstack-protector -I/opt/local/include'
    ccversion='', gccversion='4.2.1 Compatible Apple LLVM 4.2 (clang-425.0.28)', gccosandvers=''
    intsize=4, longsize=8, ptrsize=8, doublesize=8, byteorder=12345678
    d_longlong=define, longlongsize=8, d_longdbl=define, longdblsize=16
    ivtype='long', ivsize=8, nvtype='double', nvsize=8, Off_t='off_t', lseeksize=8
    alignbytes=8, prototype=define
  Linker and Libraries:
    ld='env MACOSX_DEPLOYMENT_TARGET=10.3 cc', ldflags =' -fstack-protector -L/opt/local/lib'
    libpth=/opt/local/lib /usr/lib
    libs=-lgdbm -ldbm -ldl -lm -lutil -lc
    perllibs=-ldl -lm -lutil -lc
    libc=, so=dylib, useshrplib=false, libperl=libperl.a
    gnulibc_version=''
  Dynamic Linking:
    dlsrc=dl_dlopen.xs, dlext=bundle, d_dlsymun=undef, ccdlflags=' '
    cccdlflags=' ', lddlflags=' -bundle -undefined dynamic_lookup -L/opt/local/lib -fstack-protector'


Characteristics of this binary (from libperl): 
  Compile-time options: PERL_DONT_CREATE_GVSV PERL_MALLOC_WRAP
                        PERL_PRESERVE_IVUV USE_64_BIT_ALL USE_64_BIT_INT
                        USE_LARGE_FILES USE_PERLIO USE_PERL_ATOF
  Built under darwin
  Compiled at Aug 14 2014 12:55:54
  %ENV:
    PERL5LIB="/Users/ether/.perlbrew/libs/14.4@std/lib/perl5"
    PERLBREW_BASHRC_VERSION="0.69"
    PERLBREW_HOME="/Users/ether/.perlbrew"
    PERLBREW_LIB="std"
    PERLBREW_MANPATH="/Users/ether/.perlbrew/libs/14.4@std/man:/Users/ether/perl5/perlbrew/perls/14.4/man"
    PERLBREW_PATH="/Users/ether/.perlbrew/libs/14.4@std/bin:/Users/ether/perl5/perlbrew/bin:/Users/ether/perl5/perlbrew/perls/14.4/bin"
    PERLBREW_PERL="14.4"
    PERLBREW_ROOT="/Users/ether/perl5/perlbrew"
    PERLBREW_VERSION="0.71"
    PERLDOC_PAGER="less -sicMr"
    PERL_AUTOINSTALL_PREFER_CPAN="1"
    PERL_INSTALL_QUIET="1"
    PERL_LOCAL_LIB_ROOT="/Users/ether/.perlbrew/libs/14.4@std"
    PERL_MB_OPT="--install_base /Users/ether/.perlbrew/libs/14.4@std"
    PERL_MM_OPT="INSTALL_BASE=/Users/ether/.perlbrew/libs/14.4@std"
  @INC:
    /Users/ether/.perlbrew/libs/14.4@std/lib/perl5/darwin-2level
    /Users/ether/.perlbrew/libs/14.4@std/lib/perl5
    /Users/ether/perl5/perlbrew/perls/14.4/lib/site_perl/5.14.4/darwin-2level
    /Users/ether/perl5/perlbrew/perls/14.4/lib/site_perl/5.14.4
    /Users/ether/perl5/perlbrew/perls/14.4/lib/5.14.4/darwin-2level
    /Users/ether/perl5/perlbrew/perls/14.4/lib/5.14.4
    .