Test-Pod-LinkCheck v0.008 Perl 5 v5.38.0 x86_64-linux

Status
Pass
From
Andreas J. König (ANDK)
Dist
Test-Pod-LinkCheck v0.008
Platform
Perl 5 v5.38.0 x86_64-linux
Date
2023-07-04 02:56:29
ID
60100236-1a16-11ee-9214-512ddbef84cb
This distribution has been tested as part of the CPAN Testers
project, supporting the Perl programming language.  See
http://wiki.cpantesters.org/ for more information or email
questions to cpan-testers-discuss@perl.org


--
Dear Apocalypse,

This is a computer-generated report for Test-Pod-LinkCheck-0.008
on perl 5.38.0, created by CPAN-Reporter-1.2019.

Thank you for uploading your work to CPAN.  Congratulations!
All tests were successful.

Sections of this report:

    * Tester comments
    * Program output
    * Prerequisites
    * Environment and other context

------------------------------
TESTER COMMENTS
------------------------------

Additional comments from tester:

this report is from an automated smoke testing program
and was not reviewed by a human for accuracy

------------------------------
PROGRAM OUTPUT
------------------------------

Output from './Build test':

t/00-compile.t ................ ok
# 
You should load Test::Tester before Test::Builder (or anything that loads Test::Builder) at /home/sand/src/perl/repoperls/installed-perls/host/k93focal/v5.38.0/b254/lib/site_perl/5.38.0/Test/Tester.pm line 9.
# 
# Generated by Dist::Zilla::Plugin::ReportVersions::Tiny v1.10
# perl: 5.038000 (wanted 5.006) on linux from /tmp/basesmoker-reloperl-pcdd/bin/perl
# 
# App::PodLinkCheck::ParseLinks                 => 15         (want 4)      
# App::PodLinkCheck::ParseSections              => 15         (want any version)
# Capture::Tiny                                 => 0.48       (want any version)
# Exporter                                      => 5.77       (want any version)
# ExtUtils::MakeMaker                           => 7.70       (want any version)
# File::Spec                                    => 3.88       (want any version)
# File::Temp                                    => 0.2311     (want any version)
# IO::Handle                                    => 1.52       (want any version)
# IPC::Open3                                    => 1.22       (want any version)
# Module::Build::Tiny                           => 0.046      (want 0.039)  
# Moose                                         => 2.2203     (want 1.01)   
# Moose::Util::TypeConstraints                  => 2.2203     (want 1.01)   
# Pod::Find                                     => 1.66       (want any version)
# Test::Builder                                 => 1.302195   (want 0.94)   
# Test::More                                    => 1.302195   (want 0.88)   
# Test::Pod                                     => 1.52       (want 1.44)   
# Test::Tester                                  => 1.302195   (want any version)
# parent                                        => 0.241      (want any version)
# strict                                        => 1.12       (want any version)
# warnings                                      => 1.65       (want any version)
# 
# Thanks for using my code.  I hope it works for you.
# If not, please try and include this output in the bug report.
# That will help me reproduce the issue and solve your problem.
# 
t/000-report-versions-tiny.t .. ok
t/apocalypse.t ................ skipped: Test::Apocalypse required for validating the distribution
t/cpan_backend.t .............. ok
t/functions.t ................. ok
t/simple.t .................... ok
All tests successful.

Test Summary Report
-------------------
t/cpan_backend.t            (Wstat: 0 Tests: 24 Failed: 0)
  TODO passed:   1-8, 13-24
Files=6, Tests=130, 13 wallclock secs ( 0.04 usr  0.01 sys +  9.76 cusr  1.05 csys = 10.86 CPU)
Result: PASS

------------------------------
PREREQUISITES
------------------------------

Prerequisite modules loaded:

requires:

    Module                           Need  Have    
    -------------------------------- ----- --------
    App::PodLinkCheck::ParseLinks    4     15      
    App::PodLinkCheck::ParseSections 0     15      
    Capture::Tiny                    0     0.48    
    Exporter                         0     5.77    
    File::Spec                       0     3.88    
    Moose                            1.01  2.2203  
    Moose::Util::TypeConstraints     1.01  2.2203  
    parent                           0     0.241   
    perl                             5.006 5.038000
    Pod::Find                        0     1.66    
    strict                           0     1.12    
    Test::Builder                    0.94  1.302195
    Test::Pod                        1.44  1.52    
    warnings                         0     1.65    

build_requires:

    Module                           Need  Have    
    -------------------------------- ----- --------
    File::Spec                       0     3.88    
    File::Temp                       0     0.2311  
    IO::Handle                       0     1.52    
    IPC::Open3                       0     1.22    
    perl                             5.006 5.038000
    Test::More                       0.88  1.302195
    Test::Tester                     0     1.302195

configure_requires:

    Module                           Need  Have    
    -------------------------------- ----- --------
    ExtUtils::MakeMaker              0     7.70    
    Module::Build::Tiny              0.039 0.046   
    perl                             5.006 5.038000


------------------------------
ENVIRONMENT AND OTHER CONTEXT
------------------------------

Environment variables:

    AUTOMATED_TESTING = 1
    LANG = en_US.UTF-8
    PATH = /home/sand/bin:/usr/local/bin:/usr/local/sbin:/usr/sbin:/usr/bin:/sbin:/bin:/usr/games:/usr/local/games:/snap/bin:/usr/local/perl/bin:/usr/X11/bin
    PERL = /tmp/basesmoker-reloperl-pcdd/bin/perl
    PERL5LIB = /tmp/loop_over_bdir-2740-zpdQq4/Net-Async-WebService-lxd-0.03-0/blib/arch:/tmp/loop_over_bdir-2740-zpdQq4/Net-Async-WebService-lxd-0.03-0/blib/lib:/tmp/loop_over_bdir-2740-zpdQq4/HTML-Menu-TreeView-1.22-0/blib/arch:/tmp/loop_over_bdir-2740-zpdQq4/HTML-Menu-TreeView-1.22-0/blib/lib:/tmp/loop_over_bdir-2740-zpdQq4/Dpkg-1.21.22-0/blib/arch:/tmp/loop_over_bdir-2740-zpdQq4/Dpkg-1.21.22-0/blib/lib
    PERL5OPT = 
    PERL5_CPANPLUS_IS_RUNNING = 2749
    PERL5_CPAN_IS_RUNNING = 2749
    PERL_CANARY_STABILITY_NOPROMPT = 1
    PERL_MM_USE_DEFAULT = 1
    PERL_USE_UNSAFE_INC = 1
    SHELL = /usr/bin/zsh
    TERM = screen

Perl special variables (and OS-specific diagnostics, for MSWin32):

    $^X = /tmp/basesmoker-reloperl-pcdd/bin/perl
    $UID/$EUID = 1005 / 1005
    $GID = 1005 1005
    $EGID = 1005 1005

Perl module toolchain versions installed:

    Module              Have    
    ------------------- --------
    CPAN                2.36    
    CPAN::Meta          2.150010
    Cwd                 3.89    
    ExtUtils::CBuilder  0.280238
    ExtUtils::Command   7.70    
    ExtUtils::Install   2.22    
    ExtUtils::MakeMaker 7.70    
    ExtUtils::Manifest  1.73    
    ExtUtils::ParseXS   3.51    
    File::Spec          3.88    
    JSON                4.10    
    JSON::PP            4.16    
    Module::Build       0.4234  
    Module::Signature   0.88    
    Parse::CPAN::Meta   2.150010
    Test2               1.302195
    Test::Harness       3.44    
    Test::More          1.302195
    YAML                1.30    
    YAML::Syck          1.34    
    version             0.9929  


--

Summary of my perl5 (revision 5 version 38 subversion 0) configuration:
  Commit id: 76298ae68aa7796f0ffc05095b127d23f4b2de8f
  Platform:
    osname=linux
    osvers=5.4.0-150-generic
    archname=x86_64-linux
    uname='linux k93focal 5.4.0-150-generic #167-ubuntu smp mon may 15 17:35:05 utc 2023 x86_64 x86_64 x86_64 gnulinux '
    config_args='-Dprefix=/home/sand/src/perl/repoperls/installed-perls/host/k93focal/v5.38.0/b254 -Dmyhostname=k93focal -Dinstallusrbinperl=n -Uversiononly -Dusedevel -des -Ui_db -Dlibswanted=cl pthread socket inet nsl gdbm dbm malloc dl ld sun m crypt sec util c cposix posix ucb BSD gdbm_compat -Uuseithreads -Uuselongdouble -DEBUGGING=both'
    hint=recommended
    useposix=true
    d_sigaction=define
    useithreads=undef
    usemultiplicity=undef
    use64bitint=define
    use64bitall=define
    uselongdouble=undef
    usemymalloc=n
    default_inc_excludes_dot=define
  Compiler:
    cc='cc'
    ccflags ='-fwrapv -DDEBUGGING -fno-strict-aliasing -pipe -fstack-protector-strong -I/usr/local/include -D_LARGEFILE_SOURCE -D_FILE_OFFSET_BITS=64'
    optimize='-O2 -g'
    cppflags='-fwrapv -DDEBUGGING -fno-strict-aliasing -pipe -fstack-protector-strong -I/usr/local/include'
    ccversion=''
    gccversion='9.4.0'
    gccosandvers=''
    intsize=4
    longsize=8
    ptrsize=8
    doublesize=8
    byteorder=12345678
    doublekind=3
    d_longlong=define
    longlongsize=8
    d_longdbl=define
    longdblsize=16
    longdblkind=3
    ivtype='long'
    ivsize=8
    nvtype='double'
    nvsize=8
    Off_t='off_t'
    lseeksize=8
    alignbytes=8
    prototype=define
  Linker and Libraries:
    ld='cc'
    ldflags =' -fstack-protector-strong -L/usr/local/lib'
    libpth=/usr/local/lib /usr/lib/x86_64-linux-gnu /usr/lib /usr/lib64
    libs=-lpthread -lnsl -ldl -lm -lcrypt -lutil -lc
    perllibs=-lpthread -lnsl -ldl -lm -lcrypt -lutil -lc
    libc=libc-2.31.so
    so=so
    useshrplib=false
    libperl=libperl.a
    gnulibc_version='2.31'
  Dynamic Linking:
    dlsrc=dl_dlopen.xs
    dlext=so
    d_dlsymun=undef
    ccdlflags='-Wl,-E'
    cccdlflags='-fPIC'
    lddlflags='-shared -O2 -g -L/usr/local/lib -fstack-protector-strong'


Characteristics of this binary (from libperl): 
  Compile-time options:
    DEBUGGING
    HAS_LONG_DOUBLE
    HAS_STRTOLD
    HAS_TIMES
    PERLIO_LAYERS
    PERL_COPY_ON_WRITE
    PERL_DONT_CREATE_GVSV
    PERL_HASH_FUNC_SIPHASH13
    PERL_HASH_USE_SBOX32
    PERL_MALLOC_WRAP
    PERL_OP_PARENT
    PERL_PRESERVE_IVUV
    PERL_USE_DEVEL
    PERL_USE_SAFE_PUTENV
    USE_64_BIT_ALL
    USE_64_BIT_INT
    USE_LARGE_FILES
    USE_LOCALE
    USE_LOCALE_COLLATE
    USE_LOCALE_CTYPE
    USE_LOCALE_NUMERIC
    USE_LOCALE_TIME
    USE_PERLIO
    USE_PERL_ATOF
  Built under linux
  Compiled at Jul  3 2023 04:01:37
  %ENV:
    PERL="/tmp/basesmoker-reloperl-pcdd/bin/perl"
    PERL5LIB="/tmp/loop_over_bdir-2740-zpdQq4/Net-Async-WebService-lxd-0.03-0/blib/arch:/tmp/loop_over_bdir-2740-zpdQq4/Net-Async-WebService-lxd-0.03-0/blib/lib:/tmp/loop_over_bdir-2740-zpdQq4/HTML-Menu-TreeView-1.22-0/blib/arch:/tmp/loop_over_bdir-2740-zpdQq4/HTML-Menu-TreeView-1.22-0/blib/lib:/tmp/loop_over_bdir-2740-zpdQq4/Dpkg-1.21.22-0/blib/arch:/tmp/loop_over_bdir-2740-zpdQq4/Dpkg-1.21.22-0/blib/lib"
    PERL5OPT=""
    PERL5_CPANPLUS_IS_RUNNING="2749"
    PERL5_CPAN_IS_RUNNING="2749"
    PERL_CANARY_STABILITY_NOPROMPT="1"
    PERL_MM_USE_DEFAULT="1"
    PERL_USE_UNSAFE_INC="1"
  @INC:
    /tmp/loop_over_bdir-2740-zpdQq4/Net-Async-WebService-lxd-0.03-0/blib/arch
    /tmp/loop_over_bdir-2740-zpdQq4/Net-Async-WebService-lxd-0.03-0/blib/lib
    /tmp/loop_over_bdir-2740-zpdQq4/HTML-Menu-TreeView-1.22-0/blib/arch
    /tmp/loop_over_bdir-2740-zpdQq4/HTML-Menu-TreeView-1.22-0/blib/lib
    /tmp/loop_over_bdir-2740-zpdQq4/Dpkg-1.21.22-0/blib/arch
    /tmp/loop_over_bdir-2740-zpdQq4/Dpkg-1.21.22-0/blib/lib
    /home/sand/src/perl/repoperls/installed-perls/host/k93focal/v5.38.0/b254/lib/site_perl/5.38.0/x86_64-linux
    /home/sand/src/perl/repoperls/installed-perls/host/k93focal/v5.38.0/b254/lib/site_perl/5.38.0
    /home/sand/src/perl/repoperls/installed-perls/host/k93focal/v5.38.0/b254/lib/5.38.0/x86_64-linux
    /home/sand/src/perl/repoperls/installed-perls/host/k93focal/v5.38.0/b254/lib/5.38.0
    .