TaskPipe v0.09 Perl 5 v5.18.2 x86_64-linux

Status
Pass
From
Slaven Rezić (SREZIC)
Dist
TaskPipe v0.09
Platform
Perl 5 v5.18.2 x86_64-linux
Date
2018-11-28 17:31:01
ID
601f7cfc-f333-11e8-aded-fe87c5bafc01
This distribution has been tested as part of the CPAN Testers
project, supporting the Perl programming language.  See
http://wiki.cpantesters.org/ for more information or email
questions to cpan-testers-discuss@perl.org


--
Dear Tom Gracey,

This is a computer-generated report for TaskPipe-0.09
on perl 5.18.2, created by CPAN-Reporter-1.2018.

Thank you for uploading your work to CPAN.  Congratulations!
All tests were successful.

Sections of this report:

    * Tester comments
    * Program output
    * Prerequisites
    * Environment and other context

------------------------------
TESTER COMMENTS
------------------------------

Additional comments from tester:

none provided

------------------------------
PROGRAM OUTPUT
------------------------------

Output from '/usr/bin/make test':

PERL_DL_NONLAZY=1 "/bbbike/perl-5.18.2/bin/perl" "-MExtUtils::Command::MM" "-MTest::Harness" "-e" "undef *Test::Harness::Switches; test_harness(0, 'blib/lib', 'blib/arch')" t/*.t
t/00_base_modules.t .......... ok
t/01_resume.t ................ skipped: DB info for threaded tests was not provided
t/02_threads.t ............... skipped: DB info for threaded tests was not provided
Running resume mechanism tests. Please be patient - this will take some time
t/03_single_thread_resume.t .. ok
Running plan tests. Please be patient - this will take some time
t/04_plan.t .................. ok
All tests successful.
Files=5, Tests=277, 483 wallclock secs ( 0.04 usr  0.04 sys + 139.75 cusr  5.47 csys = 145.30 CPU)
Result: PASS

------------------------------
PREREQUISITES
------------------------------

Prerequisite modules loaded:

requires:

    Module                                      Need Have    
    ------------------------------------------- ---- --------
    Array::Utils                                0    0.5     
    Carp                                        0    1.50    
    Clone                                       0    0.41    
    Cwd                                         0    3.74    
    Data::Dumper                                0    2.161   
    DateTime                                    0    1.49    
    DateTime::Format::MySQL                     0    0.06    
    DateTime::Format::SQLite                    0    0.11    
    DBIx::Class                                 0    0.082841
    DBIx::Class::Schema::Loader                 0    0.07049 
    DBIx::Error                                 0    1.0.1   
    Digest::MD5                                 0    2.55    
    Fatal                                       0    2.29    
    File::Basename                              0    2.84    
    File::Inplace                               0    0.20    
    File::Path                                  0    2.16    
    File::Path::Expand                          0    1.02    
    File::Save::Home                            0    0.11    
    File::Slurp                                 0    9999.25 
    File::Spec                                  0    3.74    
    Hash::Merge                                 0    0.300   
    IO::Socket::INET                            0    1.39    
    Log::Log4perl                               0    1.49    
    Log::Log4perl::Layout::ColoredPatternLayout 0.01 0.01    
    LWP::UserAgent                              0    6.36    
    Module::Runtime                             0    0.016   
    Moose                                       0    2.2011  
    Moose::Util::TypeConstraints                0    2.2011  
    MooseX::ClassAttribute                      0    0.29    
    MooseX::ConfigCascade                       0.02 0.02    
    Net::EmptyPort                              0    0       
    Path::Tiny                                  0    0.108   
    Pod::POM                                    0    2.01    
    Pod::Term                                   0.02 0.02    
    POSIX                                       0    1.32    
    Proc::Background                            0    1.10    
    Proc::Exists                                0    1.01    
    Proc::ProcessTable                          0    0.53    
    Selenium::Remote::Driver                    0    1.28    
    SQL::Translator                             0    0.11024 
    String::CamelCase                           0    0.04    
    Template::Nest                              0.03 0.03    
    Term::ANSIColor                             0    4.06    
    Text::Table::TinyColor                      0    0.002   
    Time::HiRes                                 0    1.9758  
    Try::Tiny                                   0    0.30    
    TryCatch                                    0    1.003002
    URI::Escape                                 0    3.31    
    Web::Scraper                                0    0.38    
    WWW::Mechanize::PhantomJS                   0.18 0.18    
    YAML::XS                                    0    0.74    

build_requires:

    Module                                      Need Have    
    ------------------------------------------- ---- --------
    Data::Dumper                                0    2.161   
    ExtUtils::MakeMaker                         0    7.34    
    File::Basename                              0    2.84    
    File::Spec                                  0    3.74    
    Moose                                       0    2.2011  
    MooseX::ConfigCascade                       0    0.02    
    Proc::ProcessTable                          0    0.53    
    Test::More                                  0    1.302136
    Time::HiRes                                 0    1.9758  
    Try::Tiny                                   0    0.30    

configure_requires:

    Module                                      Need Have    
    ------------------------------------------- ---- --------
    ExtUtils::MakeMaker                         0    7.34    


------------------------------
ENVIRONMENT AND OTHER CONTEXT
------------------------------

Environment variables:

    LANG = C
    LC_ALL = de_DE.UTF-8
    PATH = /usr/local/bin:/usr/bin:/bin:/usr/local/sbin:/usr/sbin:/sbin:/home/cpansand/bin/linux-gnu:/home/cpansand/bin/sh:/home/cpansand/bin:/usr/games:/home/cpansand/devel:/home/eserte/src/srezic-misc/scripts
    PERL5LIB = 
    PERL5OPT = 
    PERL5_CPANPLUS_IS_RUNNING = 3885
    PERL5_CPAN_IS_RUNNING = 3885
    PERL5_CPAN_IS_RUNNING_IN_RECURSION = 4992,3885
    PERLDOC = -MPod::Perldoc::ToTextOverstrike
    PERL_BATCH = yes
    PERL_CANARY_STABILITY_NOPROMPT = 1
    PERL_CPAN_REPORTER_CONFIG = /var/tmp/cpansmoker-1023/2018112815/cpanreporter_000_config.ini
    PERL_EXTUTILS_AUTOINSTALL = --defaultdeps
    PERL_PARALLEL_SMOKER = yes
    PERL_USE_UNSAFE_INC = 1
    SHELL = /bin/zsh
    TERM = screen
    TMPDIR = /var/tmp/cpansmoker-1023/2018112815

Perl special variables (and OS-specific diagnostics, for MSWin32):

    $^X = /bbbike/perl-5.18.2/bin/perl
    $UID/$EUID = 1023 / 1023
    $GID = 1023 1023
    $EGID = 1023 1023

Perl module toolchain versions installed:

    Module              Have    
    ------------------- --------
    CPAN                2.16    
    CPAN::Meta          2.150010
    Cwd                 3.74    
    ExtUtils::CBuilder  0.280230
    ExtUtils::Command   7.34    
    ExtUtils::Install   2.14    
    ExtUtils::MakeMaker 7.34    
    ExtUtils::Manifest  1.71    
    ExtUtils::ParseXS   3.30    
    File::Spec          3.74    
    JSON                2.97001 
    JSON::PP            2.97001 
    Module::Build       0.4224  
    Module::Signature   0.81    
    Parse::CPAN::Meta   2.150010
    Test::Harness       3.42    
    Test::More          1.302136
    YAML                1.27    
    YAML::Syck          1.30    
    version             0.9918  


--

Summary of my perl5 (revision 5 version 18 subversion 2) configuration:
   
  Platform:
    osname=linux, osvers=3.16.0-4-amd64, archname=x86_64-linux
    uname='linux eserte 3.16.0-4-amd64 #1 smp debian 3.16.7-ckt25-2 (2016-04-08) x86_64 gnulinux '
    config_args='-ds -e -Dprefix=/opt/perl-5.18.2 -Dcf_email=srezic@cpan.org'
    hint=recommended, useposix=true, d_sigaction=define
    useithreads=undef, usemultiplicity=undef
    useperlio=define, d_sfio=undef, uselargefiles=define, usesocks=undef
    use64bitint=define, use64bitall=define, uselongdouble=undef
    usemymalloc=n, bincompat5005=undef
  Compiler:
    cc='cc', ccflags ='-fno-strict-aliasing -pipe -fstack-protector -I/usr/local/include -D_LARGEFILE_SOURCE -D_FILE_OFFSET_BITS=64',
    optimize='-O2',
    cppflags='-fno-strict-aliasing -pipe -fstack-protector -I/usr/local/include'
    ccversion='', gccversion='4.9.2', gccosandvers=''
    intsize=4, longsize=8, ptrsize=8, doublesize=8, byteorder=12345678
    d_longlong=define, longlongsize=8, d_longdbl=define, longdblsize=16
    ivtype='long', ivsize=8, nvtype='double', nvsize=8, Off_t='off_t', lseeksize=8
    alignbytes=8, prototype=define
  Linker and Libraries:
    ld='cc', ldflags =' -fstack-protector -L/usr/local/lib'
    libpth=/usr/local/lib /lib/x86_64-linux-gnu /lib/../lib /usr/lib/x86_64-linux-gnu /usr/lib/../lib /lib /usr/lib
    libs=-lnsl -lgdbm -ldb -ldl -lm -lcrypt -lutil -lc -lgdbm_compat
    perllibs=-lnsl -ldl -lm -lcrypt -lutil -lc
    libc=, so=so, useshrplib=false, libperl=libperl.a
    gnulibc_version='2.19'
  Dynamic Linking:
    dlsrc=dl_dlopen.xs, dlext=so, d_dlsymun=undef, ccdlflags='-Wl,-E'
    cccdlflags='-fPIC', lddlflags='-shared -O2 -L/usr/local/lib -fstack-protector'


Characteristics of this binary (from libperl): 
  Compile-time options: HAS_TIMES PERLIO_LAYERS PERL_DONT_CREATE_GVSV
                        PERL_HASH_FUNC_ONE_AT_A_TIME_HARD PERL_MALLOC_WRAP
                        PERL_PRESERVE_IVUV PERL_SAWAMPERSAND USE_64_BIT_ALL
                        USE_64_BIT_INT USE_LARGE_FILES USE_LOCALE
                        USE_LOCALE_COLLATE USE_LOCALE_CTYPE
                        USE_LOCALE_NUMERIC USE_PERLIO USE_PERL_ATOF
  Built under linux
  Compiled at May  7 2016 16:24:49
  %ENV:
    PERL5LIB=""
    PERL5OPT=""
    PERL5_CPANPLUS_IS_RUNNING="3885"
    PERL5_CPAN_IS_RUNNING="3885"
    PERL5_CPAN_IS_RUNNING_IN_RECURSION="4992,3885"
    PERLDOC="-MPod::Perldoc::ToTextOverstrike"
    PERL_BATCH="yes"
    PERL_CANARY_STABILITY_NOPROMPT="1"
    PERL_CPAN_REPORTER_CONFIG="/var/tmp/cpansmoker-1023/2018112815/cpanreporter_000_config.ini"
    PERL_EXTUTILS_AUTOINSTALL="--defaultdeps"
    PERL_PARALLEL_SMOKER="yes"
    PERL_USE_UNSAFE_INC="1"
  @INC:
    /opt/perl-5.18.2/lib/site_perl/5.18.2/x86_64-linux
    /opt/perl-5.18.2/lib/site_perl/5.18.2
    /opt/perl-5.18.2/lib/5.18.2/x86_64-linux
    /opt/perl-5.18.2/lib/5.18.2
    .