ODF-lpOD_Helper v6.014 Perl 5 v5.32.1 MSWin32-x64-multi-thread

Status
Pass
From
David Solimano
Dist
ODF-lpOD_Helper v6.014
Platform
Perl 5 v5.32.1 MSWin32-x64-multi-thread
Date
2024-08-28 15:13:05
ID
6067f3ed-71f0-1014-8a29-9ca3f90819c6
This distribution has been tested as part of the CPAN Testers
project, supporting the Perl programming language.  See
http://wiki.cpantesters.org/ for more information or email
questions to cpan-testers-discuss@perl.org


--
Dear Jim Avera,

This is a computer-generated report for ODF-lpOD_Helper-6.014
on perl 5.32.1, created by CPAN-Reporter-1.2019.

Thank you for uploading your work to CPAN.  Congratulations!
All tests were successful.

Sections of this report:

    * Tester comments
    * Program output
    * Prerequisites
    * Environment and other context

------------------------------
TESTER COMMENTS
------------------------------

Additional comments from tester:

this report is from an automated smoke testing program
and was not reviewed by a human for accuracy

------------------------------
PROGRAM OUTPUT
------------------------------

Output from 'C:\STRAWB~1\c\bin\gmake.exe test':

"C:\Strawberry\perl\bin\perl.exe" "-MExtUtils::Command::MM" "-MTest::Harness" "-e" "undef *Test::Harness::Switches; test_harness(0, 'blib\lib', 'blib\arch')" t/*.t
t/20_next_elt_masked.t .... ok
t/25_Hnormalize.t ......... ok
t/30_styles.t ............. ok
t/40_unicode.t ............ ok
t/41_charstag.t ........... ok
t/42_Hor_cond.t ........... ok
t/45_Hsearch.t ............ ok
t/47_Hsplit_element_at.t .. ok
t/50_Hinsert_element.t .... skipped: These tests are for testing by the author
t/51_insert_content.t ..... ok
t/55_Hreplace.t ........... ok
t/60_encoding.t ........... ok
t/author-pod-coverage.t ... skipped: these tests are for testing by the author
t/author-pod-syntax.t ..... skipped: these tests are for testing by the author
All tests successful.
Files=14, Tests=904, 24 wallclock secs ( 0.06 usr +  0.14 sys =  0.20 CPU)
Result: PASS

------------------------------
PREREQUISITES
------------------------------

Prerequisite modules loaded:

requires:

    Module                    Need  Have    
    ------------------------- ----- --------
    Carp                      0     1.50    
    constant                  0     1.33    
    Data::Dumper::Interp      6.006 7.007   
    Exporter                  0     5.78    
    feature                   0     1.58    
    File::Basename            0     2.85    
    Getopt::Long              0     2.58    
    List::Util                0     1.63    
    ODF::lpOD                 1.201 2.001   
    open                      0     1.12    
    parent                    0     0.241   
    perl                      5.018 5.032001
    Scalar::Util              0     1.63    
    strict                    0     1.11    
    utf8                      0     1.22    
    warnings                  0     1.47    
    warnings::register        0     1.04    

build_requires:

    Module                    Need  Have    
    ------------------------- ----- --------
    Archive::Zip              0     1.68    
    autovivification          0     0.18    
    bytes                     0     1.07    
    Capture::Tiny             0     0.48    
    Carp::Always              0     0.16    
    Cwd                       0     3.78    
    Data::Dumper              0     2.183   
    Data::Dumper::Interp      6.006 7.007   
    Encode                    0     3.21    
    English                   0     1.11    
    Env                       0     1.04    
    ExtUtils::MakeMaker       0     7.70    
    File::Path                0     2.18    
    File::Spec                0     3.78    
    File::Spec::Functions     0     3.78    
    File::Temp                0.23  0.2311  
    FindBin                   0     1.54    
    Guard                     0     1.023   
    Import::Into              0     1.002005
    indirect                  0     0.39    
    JSON                      0     4.10    
    lib                       0     0.65    
    multidimensional          0     0.014   
    Path::Tiny                0     0.146   
    POSIX                     0     1.94    
    Test2::Plugin::BailOnFail 0     0.000163
    Test2::Tools::Compare     0     0.000163
    Test2::V0                 0     0.000163
    Time::HiRes               0     1.9764  

configure_requires:

    Module                    Need  Have    
    ------------------------- ----- --------
    ExtUtils::MakeMaker       0     7.70    


------------------------------
ENVIRONMENT AND OTHER CONTEXT
------------------------------

Environment variables:

    AUTOMATED_TESTING = 1
    COMSPEC = C:\WINDOWS\system32\cmd.exe
    NUMBER_OF_PROCESSORS = 8
    PATH = C:\Program Files\Eclipse Foundation\jdk-8.0.302.8-hotspot\bin;C:\Program Files\Microsoft\jdk-11.0.12.7-hotspot\bin;C:\WINDOWS\system32;C:\WINDOWS;C:\WINDOWS\System32\Wbem;C:\WINDOWS\System32\WindowsPowerShell\v1.0\;C:\WINDOWS\System32\OpenSSH\;C:\Program Files\TortoiseSVN\bin;C:\RV\BIN;C:\Program Files\Microsoft SQL Server\130\Tools\Binn\;C:\Program Files\Microsoft SQL Server\Client SDK\ODBC\170\Tools\Binn\;C:\Program Files (x86)\Microsoft SQL Server\150\DTS\Binn\;C:\Program Files\SlikSvn\bin;C:\Program Files\dotnet\;C:\Program Files\Microsoft SQL Server\150\Tools\Binn\;C:\Program Files\Git\cmd;C:\Program Files\Azure Data Studio\bin;C:\Program Files\MIT\Kerberos\bin;C:\Strawberry\c\bin;C:\Strawberry\perl\site\bin;C:\Strawberry\perl\bin;C:\Program Files\TortoiseGit\bin;C:\Users\solimanod\AppData\Local\Microsoft\WindowsApps;
    PERL5LIB = C:\STRAWB~1\cpan\build\ODF-lpOD-2.001-0/blib/arch;C:\STRAWB~1\cpan\build\ODF-lpOD-2.001-0/blib/lib;C:\STRAWB~1\cpan\build\Image-Size-3.300-0/blib/arch;C:\STRAWB~1\cpan\build\Image-Size-3.300-0/blib/lib;C:\STRAWB~1\cpan\build\File-Type-0.22-0/blib/arch;C:\STRAWB~1\cpan\build\File-Type-0.22-0/blib/lib;C:\STRAWB~1\cpan\build\DateTime-Format-Strptime-1.79-1/blib/arch;C:\STRAWB~1\cpan\build\DateTime-Format-Strptime-1.79-1/blib/lib;C:\STRAWB~1\cpan\build\Data-Dumper-Interp-7.007-1/blib/arch;C:\STRAWB~1\cpan\build\Data-Dumper-Interp-7.007-1/blib/lib;C:\STRAWB~1\cpan\build\autovivification-0.18-1/blib/arch;C:\STRAWB~1\cpan\build\autovivification-0.18-1/blib/lib;C:\STRAWB~1\cpan\build\Test-Regexp-2017040101-2/blib/arch;C:\STRAWB~1\cpan\build\Test-Regexp-2017040101-2/blib/lib;C:\STRAWB~1\cpan\build\Regexp-Common-2024080801-2/blib/arch;C:\STRAWB~1\cpan\build\Regexp-Common-2024080801-2/blib/lib;C:\STRAWB~1\cpan\build\Guard-1.023-1/blib/arch;C:\STRAWB~1\cpan\build\Guard-1.023-1/blib/lib;C:\STRAWB~1\cpan\build\Data-Visitor-0.32-1/blib/arch;C:\STRAWB~1\cpan\build\Data-Visitor-0.32-1/blib/lib;C:\STRAWB~1\cpan\build\Tie-ToObject-0.03-1/blib/arch;C:\STRAWB~1\cpan\build\Tie-ToObject-0.03-1/blib/lib;C:\STRAWB~1\cpan\build\Data-Structure-Util-0.16-1/blib/arch;C:\STRAWB~1\cpan\build\Data-Structure-Util-0.16-1/blib/lib
    PERL5OPT = 
    PERL5_CPANPLUS_IS_RUNNING = 9304
    PERL5_CPAN_IS_RUNNING = 9304
    PERL5_CPAN_IS_RUNNING_IN_RECURSION = 3592,9304
    PERL_CR_SMOKER_CURRENT = ODF-MailMerge-1.010
    PERL_EXTUTILS_AUTOINSTALL = --defaultdeps
    PERL_MM_USE_DEFAULT = 1
    PERL_USE_UNSAFE_INC = 1
    PROCESSOR_IDENTIFIER = Intel64 Family 6 Model 158 Stepping 13, GenuineIntel
    TEMP = C:\Users\SOLIMA~1\AppData\Local\Temp

Perl special variables (and OS-specific diagnostics, for MSWin32):

    $^X = C:\Strawberry\perl\bin\perl.exe
    $UID/$EUID = 0 / 0
    $GID = 0
    $EGID = 0
    Win32::GetOSName = Win10
    Win32::GetOSVersion = , 10, 0, 19045, 2, 0, 0, 256, 1
    Win32::FsType = NTFS
    Win32::IsAdminUser = 0

Perl module toolchain versions installed:

    Module              Have    
    ------------------- --------
    CPAN                2.28    
    CPAN::Meta          2.150010
    Cwd                 3.78    
    ExtUtils::CBuilder  0.280236
    ExtUtils::Command   7.70    
    ExtUtils::Install   2.22    
    ExtUtils::MakeMaker 7.70    
    ExtUtils::Manifest  1.75    
    ExtUtils::ParseXS   3.51    
    File::Spec          3.78    
    JSON                4.10    
    JSON::PP            4.16    
    Module::Build       0.4234  
    Module::Signature   0.88    
    Parse::CPAN::Meta   2.150010
    Test2               1.302199
    Test::Harness       3.48    
    Test::More          1.302199
    YAML                1.31    
    YAML::Syck          n/a     
    version             0.9932  


--

Summary of my perl5 (revision 5 version 32 subversion 1) configuration:
   
  Platform:
    osname=MSWin32
    osvers=10.0.19042.746
    archname=MSWin32-x64-multi-thread
    uname='Win32 strawberry-perl 5.32.1.1 #1 Sun Jan 24 15:00:15 2021 x64'
    config_args='undef'
    hint=recommended
    useposix=true
    d_sigaction=undef
    useithreads=define
    usemultiplicity=define
    use64bitint=define
    use64bitall=undef
    uselongdouble=undef
    usemymalloc=n
    default_inc_excludes_dot=define
    bincompat5005=undef
  Compiler:
    cc='gcc'
    ccflags =' -DWIN32 -DWIN64 -D__USE_MINGW_ANSI_STDIO -DPERL_TEXTMODE_SCRIPTS -DPERL_IMPLICIT_CONTEXT -DPERL_IMPLICIT_SYS -DUSE_PERLIO -fwrapv -fno-strict-aliasing -mms-bitfields'
    optimize='-s -O2'
    cppflags='-DWIN32'
    ccversion=''
    gccversion='8.3.0'
    gccosandvers=''
    intsize=4
    longsize=4
    ptrsize=8
    doublesize=8
    byteorder=12345678
    doublekind=3
    d_longlong=define
    longlongsize=8
    d_longdbl=define
    longdblsize=16
    longdblkind=3
    ivtype='long long'
    ivsize=8
    nvtype='double'
    nvsize=8
    Off_t='long long'
    lseeksize=8
    alignbytes=8
    prototype=define
  Linker and Libraries:
    ld='g++'
    ldflags ='-s -L"C:\STRAWB~1\perl\lib\CORE" -L"C:\STRAWB~1\c\lib"'
    libpth=C:\STRAWB~1\c\lib C:\STRAWB~1\c\x86_64-w64-mingw32\lib C:\STRAWB~1\c\lib\gcc\x86_64-w64-mingw32\8.3.0
    libs= -lmoldname -lkernel32 -luser32 -lgdi32 -lwinspool -lcomdlg32 -ladvapi32 -lshell32 -lole32 -loleaut32 -lnetapi32 -luuid -lws2_32 -lmpr -lwinmm -lversion -lodbc32 -lodbccp32 -lcomctl32
    perllibs= -lmoldname -lkernel32 -luser32 -lgdi32 -lwinspool -lcomdlg32 -ladvapi32 -lshell32 -lole32 -loleaut32 -lnetapi32 -luuid -lws2_32 -lmpr -lwinmm -lversion -lodbc32 -lodbccp32 -lcomctl32
    libc=
    so=dll
    useshrplib=true
    libperl=libperl532.a
    gnulibc_version=''
  Dynamic Linking:
    dlsrc=dl_win32.xs
    dlext=xs.dll
    d_dlsymun=undef
    ccdlflags=' '
    cccdlflags=' '
    lddlflags='-mdll -s -L"C:\STRAWB~1\perl\lib\CORE" -L"C:\STRAWB~1\c\lib"'


Characteristics of this binary (from libperl): 
  Compile-time options:
    HAS_TIMES
    HAVE_INTERP_INTERN
    MULTIPLICITY
    PERLIO_LAYERS
    PERL_COPY_ON_WRITE
    PERL_DONT_CREATE_GVSV
    PERL_IMPLICIT_CONTEXT
    PERL_IMPLICIT_SYS
    PERL_MALLOC_WRAP
    PERL_OP_PARENT
    PERL_PRESERVE_IVUV
    USE_64_BIT_INT
    USE_ITHREADS
    USE_LARGE_FILES
    USE_LOCALE
    USE_LOCALE_COLLATE
    USE_LOCALE_CTYPE
    USE_LOCALE_NUMERIC
    USE_LOCALE_TIME
    USE_PERLIO
    USE_PERL_ATOF
  Built under MSWin32
  Compiled at Jan 24 2021 15:05:42
  %ENV:
    PERL5LIB="C:\STRAWB~1\cpan\build\ODF-lpOD-2.001-0/blib/arch;C:\STRAWB~1\cpan\build\ODF-lpOD-2.001-0/blib/lib;C:\STRAWB~1\cpan\build\Image-Size-3.300-0/blib/arch;C:\STRAWB~1\cpan\build\Image-Size-3.300-0/blib/lib;C:\STRAWB~1\cpan\build\File-Type-0.22-0/blib/arch;C:\STRAWB~1\cpan\build\File-Type-0.22-0/blib/lib;C:\STRAWB~1\cpan\build\DateTime-Format-Strptime-1.79-1/blib/arch;C:\STRAWB~1\cpan\build\DateTime-Format-Strptime-1.79-1/blib/lib;C:\STRAWB~1\cpan\build\Data-Dumper-Interp-7.007-1/blib/arch;C:\STRAWB~1\cpan\build\Data-Dumper-Interp-7.007-1/blib/lib;C:\STRAWB~1\cpan\build\autovivification-0.18-1/blib/arch;C:\STRAWB~1\cpan\build\autovivification-0.18-1/blib/lib;C:\STRAWB~1\cpan\build\Test-Regexp-2017040101-2/blib/arch;C:\STRAWB~1\cpan\build\Test-Regexp-2017040101-2/blib/lib;C:\STRAWB~1\cpan\build\Regexp-Common-2024080801-2/blib/arch;C:\STRAWB~1\cpan\build\Regexp-Common-2024080801-2/blib/lib;C:\STRAWB~1\cpan\build\Guard-1.023-1/blib/arch;C:\STRAWB~1\cpan\build\Guard-1.023-1/blib/lib;C:\STRAWB~1\cpan\build\Data-Visitor-0.32-1/blib/arch;C:\STRAWB~1\cpan\build\Data-Visitor-0.32-1/blib/lib;C:\STRAWB~1\cpan\build\Tie-ToObject-0.03-1/blib/arch;C:\STRAWB~1\cpan\build\Tie-ToObject-0.03-1/blib/lib;C:\STRAWB~1\cpan\build\Data-Structure-Util-0.16-1/blib/arch;C:\STRAWB~1\cpan\build\Data-Structure-Util-0.16-1/blib/lib"
    PERL5_CPANPLUS_IS_RUNNING="9304"
    PERL5_CPAN_IS_RUNNING="9304"
    PERL5_CPAN_IS_RUNNING_IN_RECURSION="3592,9304"
    PERL_CR_SMOKER_CURRENT="ODF-MailMerge-1.010"
    PERL_EXTUTILS_AUTOINSTALL="--defaultdeps"
    PERL_MM_USE_DEFAULT="1"
    PERL_USE_UNSAFE_INC="1"
  @INC:
    C:\STRAWB~1\cpan\build\ODF-lpOD-2.001-0/blib/arch
    C:\STRAWB~1\cpan\build\ODF-lpOD-2.001-0/blib/lib
    C:\STRAWB~1\cpan\build\Image-Size-3.300-0/blib/arch
    C:\STRAWB~1\cpan\build\Image-Size-3.300-0/blib/lib
    C:\STRAWB~1\cpan\build\File-Type-0.22-0/blib/arch
    C:\STRAWB~1\cpan\build\File-Type-0.22-0/blib/lib
    C:\STRAWB~1\cpan\build\DateTime-Format-Strptime-1.79-1/blib/arch
    C:\STRAWB~1\cpan\build\DateTime-Format-Strptime-1.79-1/blib/lib
    C:\STRAWB~1\cpan\build\Data-Dumper-Interp-7.007-1/blib/arch
    C:\STRAWB~1\cpan\build\Data-Dumper-Interp-7.007-1/blib/lib
    C:\STRAWB~1\cpan\build\autovivification-0.18-1/blib/arch
    C:\STRAWB~1\cpan\build\autovivification-0.18-1/blib/lib
    C:\STRAWB~1\cpan\build\Test-Regexp-2017040101-2/blib/arch
    C:\STRAWB~1\cpan\build\Test-Regexp-2017040101-2/blib/lib
    C:\STRAWB~1\cpan\build\Regexp-Common-2024080801-2/blib/arch
    C:\STRAWB~1\cpan\build\Regexp-Common-2024080801-2/blib/lib
    C:\STRAWB~1\cpan\build\Guard-1.023-1/blib/arch
    C:\STRAWB~1\cpan\build\Guard-1.023-1/blib/lib
    C:\STRAWB~1\cpan\build\Data-Visitor-0.32-1/blib/arch
    C:\STRAWB~1\cpan\build\Data-Visitor-0.32-1/blib/lib
    C:\STRAWB~1\cpan\build\Tie-ToObject-0.03-1/blib/arch
    C:\STRAWB~1\cpan\build\Tie-ToObject-0.03-1/blib/lib
    C:\STRAWB~1\cpan\build\Data-Structure-Util-0.16-1/blib/arch
    C:\STRAWB~1\cpan\build\Data-Structure-Util-0.16-1/blib/lib
    C:/Strawberry/perl/site/lib/MSWin32-x64-multi-thread
    C:/Strawberry/perl/site/lib
    C:/Strawberry/perl/vendor/lib
    C:/Strawberry/perl/lib
    .