Catmandu v1.2019 Perl 5 v5.22.4 x86_64-linux-ld

Status
Pass
From
Andreas J. König (ANDK)
Dist
Catmandu v1.2019
Platform
Perl 5 v5.22.4 x86_64-linux-ld
Date
2022-04-13 00:48:04
ID
606a42d6-bac3-11ec-9438-76cab1698bc5
This distribution has been tested as part of the CPAN Testers
project, supporting the Perl programming language.  See
http://wiki.cpantesters.org/ for more information or email
questions to cpan-testers-discuss@perl.org


--
Dear Nicolas Steenlant,

This is a computer-generated report for Catmandu-1.2019
on perl 5.22.4, created by CPAN-Reporter-1.2018.

Thank you for uploading your work to CPAN.  Congratulations!
All tests were successful.

Sections of this report:

    * Tester comments
    * Program output
    * Prerequisites
    * Environment and other context

------------------------------
TESTER COMMENTS
------------------------------

Additional comments from tester:

this report is from an automated smoke testing program
and was not reviewed by a human for accuracy

------------------------------
PROGRAM OUTPUT
------------------------------

Output from './Build test':

t/Catmandu-Addable.t ..................... ok
t/Catmandu-ArrayIterator.t ............... ok
t/Catmandu-Bag.t ......................... ok
t/Catmandu-Buffer.t ...................... ok
t/Catmandu-CLI.t ......................... ok
t/Catmandu-CQLSearchable.t ............... ok
t/Catmandu-Cmd-compile.t ................. ok
t/Catmandu-Cmd-config.t .................. ok
t/Catmandu-Cmd-convert.t ................. ok
t/Catmandu-Cmd-copy.t .................... ok
t/Catmandu-Cmd-count.t ................... ok
t/Catmandu-Cmd-delete.t .................. ok
t/Catmandu-Cmd-export.t .................. ok
t/Catmandu-Cmd-help.t .................... ok
t/Catmandu-Cmd-import.t .................. ok
t/Catmandu-Cmd-info.t .................... ok
t/Catmandu-Cmd-run.t ..................... ok
t/Catmandu-Cmd-touch.t ................... ok
t/Catmandu-Cmd.t ......................... ok
t/Catmandu-Counter.t ..................... ok
t/Catmandu-Env.t ......................... ok
t/Catmandu-Error.t ....................... ok
t/Catmandu-Exporter-CSV.t ................ ok
t/Catmandu-Exporter-Count.t .............. ok
t/Catmandu-Exporter-JSON.t ............... ok
t/Catmandu-Exporter-Mock.t ............... ok
t/Catmandu-Exporter-Multi.t .............. ok
t/Catmandu-Exporter-Null.t ............... ok
t/Catmandu-Exporter-TSV.t ................ ok
t/Catmandu-Exporter-Text.t ............... ok
t/Catmandu-Exporter-YAML.t ............... ok
t/Catmandu-Exporter.t .................... ok
t/Catmandu-Fix-Base.t .................... ok
t/Catmandu-Fix-Bind-Group.t .............. ok
t/Catmandu-Fix-Bind-benchmark.t .......... ok
t/Catmandu-Fix-Bind-each.t ............... ok
t/Catmandu-Fix-Bind-hashmap.t ............ ok
t/Catmandu-Fix-Bind-identity.t ........... ok
t/Catmandu-Fix-Bind-importer.t ........... ok
t/Catmandu-Fix-Bind-iterate.t ............ ok
t/Catmandu-Fix-Bind-list.t ............... ok
t/Catmandu-Fix-Bind-maybe.t .............. ok
t/Catmandu-Fix-Bind-timeout.t ............ ok
t/Catmandu-Fix-Bind-visitor.t ............ ok
t/Catmandu-Fix-Bind-with.t ............... ok
t/Catmandu-Fix-Bind.t .................... ok
t/Catmandu-Fix-Condition-all_equal.t ..... ok
t/Catmandu-Fix-Condition-all_match.t ..... ok
t/Catmandu-Fix-Condition-any_equal.t ..... ok
t/Catmandu-Fix-Condition-any_match.t ..... ok
t/Catmandu-Fix-Condition-exists.t ........ ok
t/Catmandu-Fix-Condition-greater_than.t .. ok
t/Catmandu-Fix-Condition-in.t ............ ok
t/Catmandu-Fix-Condition-is_array.t ...... ok
t/Catmandu-Fix-Condition-is_false.t ...... ok
t/Catmandu-Fix-Condition-is_null.t ....... ok
t/Catmandu-Fix-Condition-is_number.t ..... ok
t/Catmandu-Fix-Condition-is_object.t ..... ok
t/Catmandu-Fix-Condition-is_string.t ..... ok
t/Catmandu-Fix-Condition-is_true.t ....... ok
t/Catmandu-Fix-Condition-less_than.t ..... ok
t/Catmandu-Fix-Condition-valid.t ......... ok
t/Catmandu-Fix-Condition.t ............... ok
t/Catmandu-Fix-Inlineable.t .............. ok
t/Catmandu-Fix-Parser.t .................. ok
t/Catmandu-Fix-add_field.t ............... ok
t/Catmandu-Fix-add_to_exporter.t ......... ok
t/Catmandu-Fix-add_to_store.t ............ ok
t/Catmandu-Fix-append.t .................. ok
t/Catmandu-Fix-array.t ................... ok
t/Catmandu-Fix-assoc.t ................... ok
t/Catmandu-Fix-capitalize.t .............. ok
t/Catmandu-Fix-clone.t ................... ok
t/Catmandu-Fix-code.t .................... ok
t/Catmandu-Fix-collapse.t ................ ok
t/Catmandu-Fix-compact.t ................. ok
t/Catmandu-Fix-copy.t .................... ok
t/Catmandu-Fix-copy_field.t .............. ok
t/Catmandu-Fix-count.t ................... ok
t/Catmandu-Fix-cp.t ...................... ok
t/Catmandu-Fix-disassoc.t ................ ok
t/Catmandu-Fix-downcase.t ................ ok
t/Catmandu-Fix-error.t ................... ok
t/Catmandu-Fix-eval.t .................... ok
t/Catmandu-Fix-expand.t .................. ok
t/Catmandu-Fix-expand_date.t ............. ok
t/Catmandu-Fix-export_to_string.t ........ ok
t/Catmandu-Fix-filter.t .................. ok
t/Catmandu-Fix-flatten.t ................. ok
t/Catmandu-Fix-format.t .................. ok
t/Catmandu-Fix-from_json.t ............... ok
t/Catmandu-Fix-hash.t .................... ok
t/Catmandu-Fix-import_from_string.t ...... ok
t/Catmandu-Fix-include.t ................. ok
t/Catmandu-Fix-index.t ................... ok
t/Catmandu-Fix-int.t ..................... ok
t/Catmandu-Fix-join_field.t .............. ok
t/Catmandu-Fix-log.t ..................... ok
t/Catmandu-Fix-lookup.t .................. ok
t/Catmandu-Fix-lookup_in_store.t ......... ok
t/Catmandu-Fix-mapping.t ................. ok
t/Catmandu-Fix-move.t .................... ok
t/Catmandu-Fix-move_field.t .............. ok
t/Catmandu-Fix-mv.t ...................... ok
t/Catmandu-Fix-nothing.t ................. ok
t/Catmandu-Fix-parse_text.t .............. ok
t/Catmandu-Fix-paste.t ................... ok
t/Catmandu-Fix-perlcode.t ................ ok
t/Catmandu-Fix-prepend.t ................. ok
t/Catmandu-Fix-random.t .................. ok
t/Catmandu-Fix-reject.t .................. ok
t/Catmandu-Fix-remove.t .................. ok
t/Catmandu-Fix-remove_field.t ............ ok
t/Catmandu-Fix-rename.t .................. ok
t/Catmandu-Fix-replace_all.t ............. ok
t/Catmandu-Fix-retain.t .................. ok
t/Catmandu-Fix-retain_field.t ............ ok
t/Catmandu-Fix-reverse.t ................. ok
t/Catmandu-Fix-rm.t ...................... ok
t/Catmandu-Fix-search_in_store.t ......... ok
t/Catmandu-Fix-set_array.t ............... ok
t/Catmandu-Fix-set_field.t ............... ok
t/Catmandu-Fix-set_hash.t ................ ok
t/Catmandu-Fix-sleep.t ................... ok
t/Catmandu-Fix-sort_field.t .............. ok
t/Catmandu-Fix-split_field.t ............. ok
t/Catmandu-Fix-string.t .................. ok
t/Catmandu-Fix-substring.t ............... ok
t/Catmandu-Fix-sum.t ..................... ok
t/Catmandu-Fix-to_json.t ................. ok
t/Catmandu-Fix-trim.t .................... ok
t/Catmandu-Fix-uniq.t .................... ok
t/Catmandu-Fix-upcase.t .................. ok
t/Catmandu-Fix-uri_decode.t .............. ok
t/Catmandu-Fix-uri_encode.t .............. ok
t/Catmandu-Fix-uri_encode_decode.t ....... ok
t/Catmandu-Fix-vacuum.t .................. ok
t/Catmandu-Fix-validate.t ................ ok
t/Catmandu-Fix.t ......................... ok
t/Catmandu-Fixable.t ..................... ok
t/Catmandu-Flushable.t ................... ok
t/Catmandu-Hits.t ........................ ok
t/Catmandu-IdGenerator-Mock.t ............ ok
t/Catmandu-IdGenerator-UUID.t ............ ok
t/Catmandu-IdGenerator.t ................. ok
t/Catmandu-Importer-CSV.t ................ ok
t/Catmandu-Importer-JSON.t ............... ok
t/Catmandu-Importer-Mock.t ............... ok
t/Catmandu-Importer-Modules.t ............ ok
t/Catmandu-Importer-Multi.t .............. ok
t/Catmandu-Importer-TSV.t ................ ok
t/Catmandu-Importer-Text.t ............... ok
t/Catmandu-Importer-YAML.t ............... ok
t/Catmandu-Importer.t .................... ok
t/Catmandu-Interactive.t ................. ok
t/Catmandu-Iterable.t .................... ok
t/Catmandu-IterableOnce.t ................ ok
t/Catmandu-Iterator.t .................... ok
t/Catmandu-MultiIterator.t ............... ok
t/Catmandu-Paged.t ....................... ok
t/Catmandu-Path-simple.t ................. ok
t/Catmandu-Pluggable.t ................... ok
t/Catmandu-Plugin-Datestamps.t ........... ok
t/Catmandu-Plugin-Readonly.t ............. ok
t/Catmandu-Plugin-Versioning.t ........... ok
t/Catmandu-Sane.t ........................ ok
t/Catmandu-Searchable.t .................. ok
t/Catmandu-Serializer.t .................. ok
t/Catmandu-Store-Hash.t .................. ok
t/Catmandu-Store-Multi-Bag.t ............. ok
t/Catmandu-Store-Multi.t ................. ok
t/Catmandu-Store.t ....................... ok
t/Catmandu-Util.t ........................ ok
t/Catmandu-Validator-Mock.t .............. ok
t/Catmandu-Validator-Simple.t ............ ok
t/Catmandu-Validator.t ................... ok
t/Catmandu.t ............................. ok
t/author-pod-syntax.t .................... skipped: these tests are for testing by the author
t/release-perltidy.t ..................... skipped: these tests are for release candidate testing
All tests successful.
Files=179, Tests=2126, 74 wallclock secs ( 0.46 usr  0.50 sys + 34.05 cusr  7.19 csys = 42.20 CPU)
Result: PASS

------------------------------
PREREQUISITES
------------------------------

Prerequisite modules loaded:

requires:

    Module                      Need     Have     
    --------------------------- -------- ---------
    Any::URI::Escape            0        0.01     
    App::Cmd                    0.33     0.334    
    asa                         0        1.04     
    CGI::Expand                 2.02     2.05     
    Class::Method::Modifiers    0        2.13     
    Clone                       0.31     0.45     
    Config::Onion               1.004    1.007    
    Cpanel::JSON::XS            3.0213   4.27     
    Data::Compare               1.22     1.27     
    Data::Util                  0.66     0.67     
    Hash::Merge::Simple         0        0.051    
    HTTP::Request               0        6.36     
    IO::Handle::Util            0.01     0.02     
    List::MoreUtils             0.401    0.430    
    Log::Any                    0        1.710    
    Log::Any::Adapter           0        1.710    
    LWP::UserAgent              0        6.61     
    MIME::Types                 0        2.22     
    Module::Build               0.4229   0.4231   
    Module::Info                0        0.37     
    Moo                         1.004006 2.005004 
    MooX::Aliases               0.001006 0.001006 
    namespace::clean            0.24     0.27     
    Package::Stash              0        0.40     
    Parser::MGC                 0.21     0.21     
    Path::Iterator::Rule        0        1.015    
    Path::Tiny                  0        0.122    
    perl                        v5.14.0  5.022004 
    Role::Tiny                  0        2.002004 
    Role::Tiny::With            0        2.002004 
    String::CamelCase           0        0.04     
    Sub::Exporter               0.982    0.988    
    Sub::Quote                  0        2.006_007
    Text::CSV                   1.21     2.01     
    Text::Hogan::Compiler       1.02     2.03     
    Throwable                   0.200004 1.000    
    Time::HiRes                 0        1.9764   
    Try::Tiny::ByClass          0.01     0.01     
    Unicode::Normalize          0        1.18     
    URI                         0        5.10     
    URI::Template               0.22     0.24     
    UUID::Tiny                  1.04     1.04     
    YAML::XS                    0.83     0.83     

build_requires:

    Module                      Need     Have     
    --------------------------- -------- ---------
    Capture::Tiny               0        0.48     
    Log::Any::Adapter::Log4perl 0        0.09     
    Log::Any::Test              1.03     1.710    
    Log::Log4perl               0        1.54     
    Module::Build               0.4229   0.4231   
    Test::Deep                  0.112    1.130    
    Test::Exception             0.43     0.43     
    Test::LWP::UserAgent        0        0.036    
    Test::More                  0.99     1.302190 
    Test::Pod                   0        1.52     

configure_requires:

    Module                      Need     Have     
    --------------------------- -------- ---------
    Module::Build               0.28     0.4231   

opt_requires:

    Module                      Need     Have     
    --------------------------- -------- ---------
    Log::Any::Adapter::Log4perl 0.06     0.09     
    Log::Log4perl               1.44     1.54     


------------------------------
ENVIRONMENT AND OTHER CONTEXT
------------------------------

Environment variables:

    AUTOMATED_TESTING = 1
    LANG = en_US.UTF-8
    PATH = /home/sand/bin:/usr/local/bin:/usr/bin:/bin:/usr/games:/usr/local/perl/bin:/usr/X11/bin:/sbin:/usr/sbin
    PERL5LIB = 
    PERL5OPT = 
    PERL5_CPANPLUS_IS_RUNNING = 1360956
    PERL5_CPAN_IS_RUNNING = 1360956
    PERL_CANARY_STABILITY_NOPROMPT = 1
    PERL_MM_USE_DEFAULT = 1
    PERL_USE_UNSAFE_INC = 1
    SHELL = /usr/bin/zsh
    TERM = screen

Perl special variables (and OS-specific diagnostics, for MSWin32):

    $^X = /home/sand/src/perl/repoperls/installed-perls/host/k93msid/v5.22.4/fc43/bin/perl
    $UID/$EUID = 1005 / 1005
    $GID = 1005 1005
    $EGID = 1005 1005

Perl module toolchain versions installed:

    Module              Have      
    ------------------- ----------
    CPAN                2.33      
    CPAN::Meta          2.150010  
    Cwd                 3.75      
    ExtUtils::CBuilder  0.280236  
    ExtUtils::Command   7.64      
    ExtUtils::Install   2.06      
    ExtUtils::MakeMaker 7.64      
    ExtUtils::Manifest  1.70      
    ExtUtils::ParseXS   3.44      
    File::Spec          3.75      
    JSON                4.05      
    JSON::PP            2.27300_01
    Module::Build       0.4231    
    Module::Signature   0.88      
    Parse::CPAN::Meta   2.150010  
    Test::Harness       3.43_04   
    Test::More          1.302190  
    YAML                1.30      
    YAML::Syck          1.34      
    version             0.9929    


--

Summary of my perl5 (revision 5 version 22 subversion 4) configuration:
  Derived from: a26666a1317770d8a2228ac3657ba58020c3511f
  Platform:
    osname=linux, osvers=5.16.0-5-amd64, archname=x86_64-linux-ld
    uname='linux k93msid 5.16.0-5-amd64 #1 smp preempt debian 5.16.14-1 (2022-03-15) x86_64 gnulinux '
    config_args='-Dprefix=/home/sand/src/perl/repoperls/installed-perls/host/k93msid/v5.22.4/fc43 -Dmyhostname=k93msid -Dinstallusrbinperl=n -Uversiononly -Dusedevel -des -Ui_db -Dlibswanted=cl pthread socket inet nsl gdbm dbm malloc dl ld sun m crypt sec util c cposix posix ucb BSD gdbm_compat -Uuseithreads -Duselongdouble -DEBUGGING=both'
    hint=recommended, useposix=true, d_sigaction=define
    useithreads=undef, usemultiplicity=undef
    use64bitint=define, use64bitall=define, uselongdouble=define
    usemymalloc=n, bincompat5005=undef
  Compiler:
    cc='cc', ccflags ='-fwrapv -DDEBUGGING -fno-strict-aliasing -pipe -fstack-protector-strong -I/usr/local/include -D_LARGEFILE_SOURCE -D_FILE_OFFSET_BITS=64 -D_FORTIFY_SOURCE=2',
    optimize='-O2 -g',
    cppflags='-fwrapv -DDEBUGGING -fno-strict-aliasing -pipe -fstack-protector-strong -I/usr/local/include'
    ccversion='', gccversion='11.2.0', gccosandvers=''
    intsize=4, longsize=8, ptrsize=8, doublesize=8, byteorder=12345678, doublekind=3
    d_longlong=define, longlongsize=8, d_longdbl=define, longdblsize=16, longdblkind=3
    ivtype='long', ivsize=8, nvtype='long double', nvsize=16, Off_t='off_t', lseeksize=8
    alignbytes=16, prototype=define
  Linker and Libraries:
    ld='cc', ldflags =' -fstack-protector-strong -L/usr/local/lib'
    libpth=/usr/local/lib /usr/include/x86_64-linux-gnu /usr/lib /lib/x86_64-linux-gnu /lib/../lib /usr/lib/x86_64-linux-gnu /usr/lib/../lib /lib
    libs=-lpthread -lnsl -ldl -lm -lcrypt -lutil -lc
    perllibs=-lpthread -lnsl -ldl -lm -lcrypt -lutil -lc
    libc=libc-2.33.so, so=so, useshrplib=false, libperl=libperl.a
    gnulibc_version='2.33'
  Dynamic Linking:
    dlsrc=dl_dlopen.xs, dlext=so, d_dlsymun=undef, ccdlflags='-Wl,-E'
    cccdlflags='-fPIC', lddlflags='-shared -O2 -g -L/usr/local/lib -fstack-protector-strong'


Characteristics of this binary (from libperl): 
  Compile-time options: DEBUGGING HAS_TIMES PERLIO_LAYERS
                        PERL_DONT_CREATE_GVSV
                        PERL_HASH_FUNC_ONE_AT_A_TIME_HARD PERL_MALLOC_WRAP
                        PERL_NEW_COPY_ON_WRITE PERL_PRESERVE_IVUV
                        PERL_USE_DEVEL USE_64_BIT_ALL USE_64_BIT_INT
                        USE_LARGE_FILES USE_LOCALE USE_LOCALE_COLLATE
                        USE_LOCALE_CTYPE USE_LOCALE_NUMERIC USE_LOCALE_TIME
                        USE_LONG_DOUBLE USE_PERLIO USE_PERL_ATOF
  Locally applied patches:
	uncommitted-changes
  Built under linux
  Compiled at Mar 19 2022 18:41:40
  %ENV:
    PERL5LIB=""
    PERL5OPT=""
    PERL5_CPANPLUS_IS_RUNNING="1360956"
    PERL5_CPAN_IS_RUNNING="1360956"
    PERL_CANARY_STABILITY_NOPROMPT="1"
    PERL_MM_USE_DEFAULT="1"
    PERL_USE_UNSAFE_INC="1"
  @INC:
    /home/sand/src/perl/repoperls/installed-perls/host/k93msid/v5.22.4/fc43/lib/site_perl/5.22.4/x86_64-linux-ld
    /home/sand/src/perl/repoperls/installed-perls/host/k93msid/v5.22.4/fc43/lib/site_perl/5.22.4
    /home/sand/src/perl/repoperls/installed-perls/host/k93msid/v5.22.4/fc43/lib/5.22.4/x86_64-linux-ld
    /home/sand/src/perl/repoperls/installed-perls/host/k93msid/v5.22.4/fc43/lib/5.22.4
    .