ETL-Yertl v0.039 Perl 5 v5.16.3 x86_64-linux

Status
Pass
From
Andreas J. König (ANDK)
Dist
ETL-Yertl v0.039
Platform
Perl 5 v5.16.3 x86_64-linux
Date
2018-08-22 19:05:47
ID
6070e4c6-a63e-11e8-9784-3ad0061acdfd
This distribution has been tested as part of the CPAN Testers
project, supporting the Perl programming language.  See
http://wiki.cpantesters.org/ for more information or email
questions to cpan-testers-discuss@perl.org


--
Dear Doug Bell,

This is a computer-generated report for ETL-Yertl-0.039
on perl 5.16.3, created by CPAN-Reporter-1.2018.

Thank you for uploading your work to CPAN.  Congratulations!
All tests were successful.

Sections of this report:

    * Tester comments
    * Program output
    * Prerequisites
    * Environment and other context

------------------------------
TESTER COMMENTS
------------------------------

Additional comments from tester:

this report is from an automated smoke testing program
and was not reviewed by a human for accuracy

------------------------------
PROGRAM OUTPUT
------------------------------

Output from '/usr/bin/make test':

PERL_DL_NONLAZY=1 "/home/sand/src/perl/repoperls/installed-perls/host/k93msid/v5.16.3/da1c/bin/perl" "-MExtUtils::Command::MM" "-MTest::Harness" "-e" "undef *Test::Harness::Switches; test_harness(0, 'blib/lib', 'blib/arch')" t/*.t t/adapter/*.t t/bin/*.t t/command/ygrok/*.t t/command/ygrok/pattern/*.t t/command/yq/*.t t/format/*.t t/integration/*.t
t/00-compile.t ........................... ok
# 
# Versions for all modules listed in MYMETA.json (including optional ones):
# 
# === Configure Requires ===
# 
#     Module              Want Have
#     ------------------- ---- ----
#     ExtUtils::MakeMaker  any 7.34
# 
# === Build Requires ===
# 
#     Module              Want Have
#     ------------------- ---- ----
#     ExtUtils::MakeMaker  any 7.34
# 
# === Test Requires ===
# 
#     Module                  Want     Have
#     ------------------- -------- --------
#     Capture::Tiny            any     0.46
#     Dir::Self                any     0.11
#     ExtUtils::MakeMaker      any     7.34
#     File::Spec               any     3.74
#     Future                   any     0.38
#     IO::Handle               any     1.39
#     IPC::Open3               any     1.12
#     JSON::PP                 any  2.97001
#     Mock::MonkeyPatch        any     0.04
#     Test::Deep               any    1.128
#     Test::Differences        any     0.64
#     Test::Exception          any     0.43
#     Test::Lib                any    0.002
#     Test::More          1.001005 1.302138
# 
# === Test Recommends ===
# 
#     Module         Want     Have
#     ---------- -------- --------
#     CPAN::Meta 2.120900 2.150010
# 
# === Runtime Requires ===
# 
#     Module                    Want       Have
#     ------------------- ---------- ----------
#     File::HomeDir              any  1.003_002
#     File::Spec                 any       3.74
#     Getopt::Long              2.36        2.5
#     Hash::Merge::Simple        any      0.051
#     IO::Async                 0.72       0.72
#     IO::Interactive            any      1.022
#     Import::Base             0.010      1.004
#     JSON::MaybeXS              any   1.004000
#     List::Util                 any       1.50
#     Module::Runtime            any      0.016
#     Net::Async::HTTP           any       0.41
#     Path::Tiny               0.072      0.106
#     Pod::Usage::Return         any      0.003
#     Regexp::Common      2013031301 2017060201
#     SQL::Abstract              any       1.86
#     Time::Local                any       1.28
#     Time::Piece                any     1.3204
#     URI                        any       1.74
#     YAML::Tiny                 any       1.73
#     boolean                    any       0.46
# 
# === Runtime Recommends ===
# 
#     Module       Want    Have
#     ------------ ---- -------
#     DBD::SQLite   any    1.58
#     DBI           any   1.640
#     JSON::PP      any 2.97001
#     JSON::XS      any    3.04
#     Text::CSV     any    1.97
#     Text::CSV_XS  any    1.34
#     YAML::Syck    any    1.30
#     YAML::XS      any    0.72
# 
t/00-report-prereqs.t .................... ok
Name "CORE::GLOBAL::time" used only once: possible typo at t/adapter/graphite.t line 142.
t/adapter/graphite.t ..................... ok
Name "CORE::GLOBAL::time" used only once: possible typo at t/adapter/influxdb.t line 151.
t/adapter/influxdb.t ..................... ok
t/bin/yfrom.t ............................ ok
t/bin/ygrok.t ............................ ok
t/bin/yq.t ............................... ok
t/bin/ysql.t ............................. ok
t/bin/yto.t .............................. ok
t/bin/yts.t .............................. ok
t/command/ygrok/edit_patterns.t .......... ok
t/command/ygrok/pattern/http_combined.t .. ok
t/command/ygrok/pattern/http_common.t .... ok
t/command/ygrok/pattern/linux_proc.t ..... ok
t/command/ygrok/pattern/ls-l.t ........... ok
t/command/ygrok/pattern/ps-u.t ........... ok
t/command/ygrok/pattern/ps-x.t ........... ok
t/command/ygrok/pattern/ps.t ............. ok
t/command/ygrok/pattern/syslog.t ......... ok
t/command/yq/combinator.t ................ ok
t/command/yq/comparison.t ................ ok
t/command/yq/conditional.t ............... ok
t/command/yq/filter.t .................... ok
empty does not take arguments
t/command/yq/functions.t ................. ok
t/command/yq/regression.t ................ ok
t/command/yq/values.t .................... ok
t/format/csv.t ........................... ok
Prototype mismatch: sub main::decode_json ($) vs none at /home/sand/src/perl/repoperls/installed-perls/host/k93msid/v5.16.3/da1c/lib/site_perl/5.16.3/Exporter.pm line 66.
 at (eval 41) line 1.
t/format/json.t .......................... ok
t/format/yaml.t .......................... ok
t/integration/parse_apache_log.t ......... ok
All tests successful.
Files=30, Tests=102, 22 wallclock secs ( 0.16 usr  0.13 sys +  6.21 cusr  1.26 csys =  7.76 CPU)
Result: PASS

------------------------------
PREREQUISITES
------------------------------

Prerequisite modules loaded:

requires:

    Module              Need       Have      
    ------------------- ---------- ----------
    boolean             0          0.46      
    File::HomeDir       0          1.003_002 
    File::Spec          0          3.74      
    Getopt::Long        2.36       2.5       
    Hash::Merge::Simple 0          0.051     
    Import::Base        0.010      1.004     
    IO::Async           0.72       0.72      
    IO::Interactive     0          1.022     
    JSON::MaybeXS       0          1.004000  
    List::Util          0          1.50      
    Module::Runtime     0          0.016     
    Net::Async::HTTP    0          0.41      
    Path::Tiny          0.072      0.106     
    perl                5.010      5.016003  
    Pod::Usage::Return  0          0.003     
    Regexp::Common      2013031301 2017060201
    SQL::Abstract       0          1.86      
    Time::Local         0          1.28      
    Time::Piece         0          1.3204    
    URI                 0          1.74      
    YAML::Tiny          0          1.73      

build_requires:

    Module              Need       Have      
    ------------------- ---------- ----------
    Capture::Tiny       0          0.46      
    Dir::Self           0          0.11      
    ExtUtils::MakeMaker 0          7.34      
    File::Spec          0          3.74      
    Future              0          0.38      
    IO::Handle          0          1.39      
    IPC::Open3          0          1.12      
    JSON::PP            0          2.97001   
    Mock::MonkeyPatch   0          0.04      
    Test::Deep          0          1.128     
    Test::Differences   0          0.64      
    Test::Exception     0          0.43      
    Test::Lib           0          0.002     
    Test::More          1.001005   1.302138  

configure_requires:

    Module              Need       Have      
    ------------------- ---------- ----------
    ExtUtils::MakeMaker 0          7.34      


------------------------------
ENVIRONMENT AND OTHER CONTEXT
------------------------------

Environment variables:

    AUTOMATED_TESTING = 1
    LANG = en_US.UTF-8
    PATH = /home/sand/bin:/usr/local/bin:/usr/bin:/bin:/usr/games:/usr/local/perl/bin:/usr/X11/bin:/sbin:/usr/sbin
    PERL5LIB = 
    PERL5OPT = 
    PERL5_CPANPLUS_IS_RUNNING = 4826
    PERL5_CPAN_IS_RUNNING = 4826
    PERL_CANARY_STABILITY_NOPROMPT = 1
    PERL_MM_USE_DEFAULT = 1
    PERL_USE_UNSAFE_INC = 1
    SHELL = /usr/bin/zsh
    TERM = screen

Perl special variables (and OS-specific diagnostics, for MSWin32):

    $^X = /home/sand/src/perl/repoperls/installed-perls/host/k93msid/v5.16.3/da1c/bin/perl
    $UID/$EUID = 1005 / 1005
    $GID = 1005 1005
    $EGID = 1005 1005

Perl module toolchain versions installed:

    Module              Have    
    ------------------- --------
    CPAN                2.20    
    CPAN::Meta          2.150010
    Cwd                 3.74    
    ExtUtils::CBuilder  0.280230
    ExtUtils::Command   7.34    
    ExtUtils::Install   2.06    
    ExtUtils::MakeMaker 7.34    
    ExtUtils::Manifest  1.71    
    ExtUtils::ParseXS   3.35    
    File::Spec          3.74    
    JSON                2.97001 
    JSON::PP            2.97001 
    Module::Build       0.4224  
    Module::Signature   0.81    
    Parse::CPAN::Meta   2.150010
    Test::Harness       3.43_01 
    Test::More          1.302138
    YAML                1.26    
    YAML::Syck          1.30    
    version             0.9924  


--

Summary of my perl5 (revision 5 version 16 subversion 3) configuration:
  Derived from: fd04d42d38f4751b981eb6e9213ee1ab8ef11ea6
  Platform:
    osname=linux, osvers=4.14.0-3-amd64, archname=x86_64-linux
    uname='linux k93msid 4.14.0-3-amd64 #1 smp debian 4.14.12-2 (2018-01-06) x86_64 gnulinux '
    config_args='-Dprefix=/home/sand/src/perl/repoperls/installed-perls/host/k93msid/v5.16.3/da1c -Dmyhostname=k93msid -Dinstallusrbinperl=n -Uversiononly -Dusedevel -des -Ui_db -Dlibswanted=cl pthread socket inet nsl gdbm dbm malloc dl ld sun m crypt sec util c cposix posix ucb BSD gdbm_compat -Uuseithreads -Uuselongdouble -DEBUGGING=-g'
    hint=recommended, useposix=true, d_sigaction=define
    useithreads=undef, usemultiplicity=undef
    useperlio=define, d_sfio=undef, uselargefiles=define, usesocks=undef
    use64bitint=define, use64bitall=define, uselongdouble=undef
    usemymalloc=n, bincompat5005=undef
  Compiler:
    cc='cc', ccflags ='-fno-strict-aliasing -pipe -fstack-protector -I/usr/local/include -D_LARGEFILE_SOURCE -D_FILE_OFFSET_BITS=64',
    optimize='-O2 -g',
    cppflags='-fno-strict-aliasing -pipe -fstack-protector -I/usr/local/include'
    ccversion='', gccversion='7.2.0', gccosandvers=''
    intsize=4, longsize=8, ptrsize=8, doublesize=8, byteorder=12345678
    d_longlong=define, longlongsize=8, d_longdbl=define, longdblsize=16
    ivtype='long', ivsize=8, nvtype='double', nvsize=8, Off_t='off_t', lseeksize=8
    alignbytes=8, prototype=define
  Linker and Libraries:
    ld='cc', ldflags =' -fstack-protector -L/usr/local/lib'
    libpth=/usr/local/lib /lib/x86_64-linux-gnu /lib/../lib /usr/lib/x86_64-linux-gnu /usr/lib/../lib /lib /usr/lib
    libs=-lpthread -lnsl -ldl -lm -lcrypt -lutil -lc
    perllibs=-lpthread -lnsl -ldl -lm -lcrypt -lutil -lc
    libc=libc-2.26.so, so=so, useshrplib=false, libperl=libperl.a
    gnulibc_version='2.26'
  Dynamic Linking:
    dlsrc=dl_dlopen.xs, dlext=so, d_dlsymun=undef, ccdlflags='-Wl,-E'
    cccdlflags='-fPIC', lddlflags='-shared -O2 -g -L/usr/local/lib -fstack-protector'


Characteristics of this binary (from libperl): 
  Compile-time options: HAS_TIMES PERLIO_LAYERS PERL_DONT_CREATE_GVSV
                        PERL_MALLOC_WRAP PERL_PRESERVE_IVUV PERL_USE_DEVEL
                        USE_64_BIT_ALL USE_64_BIT_INT USE_LARGE_FILES
                        USE_LOCALE USE_LOCALE_COLLATE USE_LOCALE_CTYPE
                        USE_LOCALE_NUMERIC USE_PERLIO USE_PERL_ATOF
  Locally applied patches:
	uncommitted-changes
  Built under linux
  Compiled at Mar  6 2018 22:16:59
  %ENV:
    PERL5LIB=""
    PERL5OPT=""
    PERL5_CPANPLUS_IS_RUNNING="4826"
    PERL5_CPAN_IS_RUNNING="4826"
    PERL_CANARY_STABILITY_NOPROMPT="1"
    PERL_MM_USE_DEFAULT="1"
    PERL_USE_UNSAFE_INC="1"
  @INC:
    /home/sand/src/perl/repoperls/installed-perls/host/k93msid/v5.16.3/da1c/lib/site_perl/5.16.3/x86_64-linux
    /home/sand/src/perl/repoperls/installed-perls/host/k93msid/v5.16.3/da1c/lib/site_perl/5.16.3
    /home/sand/src/perl/repoperls/installed-perls/host/k93msid/v5.16.3/da1c/lib/5.16.3/x86_64-linux
    /home/sand/src/perl/repoperls/installed-perls/host/k93msid/v5.16.3/da1c/lib/5.16.3
    .