Report for TAP-Harness-JUnit-0.36

Back
From: metabase:user:9820532a-708b-1014-9a05-b18a96298da1
Subject: PASS TAP-Harness-JUnit-0.36 v5.15.2 GNU/Linux
Date: 2011-08-28T14:09:43Z

This distribution has been tested as part of the CPAN Testers
project, supporting the Perl programming language.  See
http://wiki.cpantesters.org/ for more information or email
questions to cpan-testers-discuss@perl.org


--

Dear LKUNDRAK,

This is a computer-generated error report created automatically by
CPANPLUS, version 0.9109. Testers personal comments may appear
at the end of this report.

MAKE TEST passed:
t/large_suite.t ........ ok
t/outputs.t ............ ok
t/outputs_with_time.t .. ok
t/use.t ................ ok
t/xmlfile_default.t .... ok
All tests successful.
Files=5, Tests=27, 11 wallclock secs ( 0.05 usr  0.01 sys + 10.14 cusr  0.14 csys = 10.34 CPU)
Result: PASS

[MSG] [Sun Aug 28 15:09:43 2011] Sending test report for 'TAP-Harness-JUnit-0.36'

This report was machine-generated by CPANPLUS::Dist::YACSmoke 0.64.
Powered by minismokebox version 0.54

------------------------------
ENVIRONMENT AND OTHER CONTEXT
------------------------------

Environment variables:

    AUTOMATED_TESTING = 1
    LANG = C
    LANGUAGE = en_GB:en
    LC_ALL = C
    PATH = /home/bri/perl5/perlbrew/bin:/home/bri/perl5/perlbrew/perls/perl-5.12.4/bin:~/bin:/usr/local/sbin:/usr/local/bin:/usr/sbin:/usr/bin:/sbin:/bin:/usr/games
    PATH_WITHOUT_PERLBREW = ~/bin:/usr/local/sbin:/usr/local/bin:/usr/sbin:/usr/bin:/sbin:/bin:/usr/games
    PERL5LIB = :/home/bri/.cpanplus/5.15.2/build/XML-Simple-2.18/blib/lib:/home/bri/.cpanplus/5.15.2/build/XML-Simple-2.18/blib/arch:/home/bri/.cpanplus/5.15.2/build/TAP-Harness-JUnit-0.36/blib/lib:/home/bri/.cpanplus/5.15.2/build/TAP-Harness-JUnit-0.36/blib/arch
    PERL5_CPANPLUS_IS_RUNNING = 31322
    PERL5_CPANPLUS_IS_VERSION = 0.9109
    PERL5_MINISMOKEBOX = 0.54
    PERLBREW_HOME = /home/bri/.perlbrew
    PERLBREW_PATH = /home/bri/perl5/perlbrew/bin:/home/bri/perl5/perlbrew/perls/perl-5.12.4/bin
    PERLBREW_PERL = perl-5.12.4
    PERLBREW_ROOT = /home/bri/perl5/perlbrew
    PERLBREW_VERSION = 0.28
    PERL_CPANM_OPT = --prompt --mirror http://172.16.1.3/cpan/
    PERL_EXTUTILS_AUTOINSTALL = --defaultdeps
    PERL_MM_USE_DEFAULT = 1
    SHELL = /bin/bash
    TERM = linux

Perl special variables (and OS-specific diagnostics, for MSWin32):

    Perl: $^X = /home/bri/perl5/perlbrew/perls/perl-5.15.2/bin/perl5.15.2
    UID:  $<  = 1000
    EUID: $>  = 1000
    GID:  $(  = 1000 4 20 24 46 112 120 122 1000
    EGID: $)  = 1000 4 20 24 46 112 120 122 1000


-------------------------------


--

Summary of my perl5 (revision 5 version 15 subversion 2) configuration:
   
  Platform:
    osname=linux, osvers=2.6.38-11-generic, archname=i686-linux
    uname='linux lappy 2.6.38-11-generic #48-ubuntu smp fri jul 29 19:05:14 utc 2011 i686 i686 i386 gnulinux '
    config_args='-de -Dprefix=/home/bri/perl5/perlbrew/perls/perl-5.15.2 -Dusedevel'
    hint=recommended, useposix=true, d_sigaction=define
    useithreads=undef, usemultiplicity=undef
    useperlio=define, d_sfio=undef, uselargefiles=define, usesocks=undef
    use64bitint=undef, use64bitall=undef, uselongdouble=undef
    usemymalloc=n, bincompat5005=undef
  Compiler:
    cc='cc', ccflags ='-fno-strict-aliasing -pipe -fstack-protector -I/usr/local/include -D_LARGEFILE_SOURCE -D_FILE_OFFSET_BITS=64',
    optimize='-O2',
    cppflags='-fno-strict-aliasing -pipe -fstack-protector -I/usr/local/include'
    ccversion='', gccversion='4.5.2', gccosandvers=''
    intsize=4, longsize=4, ptrsize=4, doublesize=8, byteorder=1234
    d_longlong=define, longlongsize=8, d_longdbl=define, longdblsize=12
    ivtype='long', ivsize=4, nvtype='double', nvsize=8, Off_t='off_t', lseeksize=8
    alignbytes=4, prototype=define
  Linker and Libraries:
    ld='cc', ldflags =' -fstack-protector -L/usr/local/lib'
    libpth=/usr/local/lib /lib /usr/lib /usr/lib/i386-linux-gnu /usr/lib64
    libs=-lnsl -ldl -lm -lcrypt -lutil -lc
    perllibs=-lnsl -ldl -lm -lcrypt -lutil -lc
    libc=, so=so, useshrplib=false, libperl=libperl.a
    gnulibc_version='2.13'
  Dynamic Linking:
    dlsrc=dl_dlopen.xs, dlext=so, d_dlsymun=undef, ccdlflags='-Wl,-E'
    cccdlflags='-fPIC', lddlflags='-shared -O2 -L/usr/local/lib -fstack-protector'


Characteristics of this binary (from libperl): 
  Compile-time options: HAS_TIMES PERLIO_LAYERS PERL_DONT_CREATE_GVSV
                        PERL_MALLOC_WRAP PERL_PRESERVE_IVUV PERL_USE_DEVEL
                        USE_LARGE_FILES USE_LOCALE USE_LOCALE_COLLATE
                        USE_LOCALE_CTYPE USE_LOCALE_NUMERIC USE_PERLIO
                        USE_PERL_ATOF
  Built under linux
  Compiled at Aug 26 2011 17:14:20
  %ENV:
    PERL5LIB=":/home/bri/.cpanplus/5.15.2/build/XML-Simple-2.18/blib/lib:/home/bri/.cpanplus/5.15.2/build/XML-Simple-2.18/blib/arch:/home/bri/.cpanplus/5.15.2/build/TAP-Harness-JUnit-0.36/blib/lib:/home/bri/.cpanplus/5.15.2/build/TAP-Harness-JUnit-0.36/blib/arch"
    PERL5_CPANPLUS_IS_RUNNING="31322"
    PERL5_CPANPLUS_IS_VERSION="0.9109"
    PERL5_MINISMOKEBOX="0.54"
    PERLBREW_HOME="/home/bri/.perlbrew"
    PERLBREW_PATH="/home/bri/perl5/perlbrew/bin:/home/bri/perl5/perlbrew/perls/perl-5.12.4/bin"
    PERLBREW_PERL="perl-5.12.4"
    PERLBREW_ROOT="/home/bri/perl5/perlbrew"
    PERLBREW_VERSION="0.28"
    PERL_CPANM_OPT="--prompt --mirror http://172.16.1.3/cpan/"
    PERL_EXTUTILS_AUTOINSTALL="--defaultdeps"
    PERL_MM_USE_DEFAULT="1"
  @INC:
    /home/bri/.cpanplus/5.15.2/build/XML-Simple-2.18/blib/lib
    /home/bri/.cpanplus/5.15.2/build/XML-Simple-2.18/blib/arch
    /home/bri/.cpanplus/5.15.2/build/TAP-Harness-JUnit-0.36/blib/lib
    /home/bri/.cpanplus/5.15.2/build/TAP-Harness-JUnit-0.36/blib/arch
    /home/bri/perl5/perlbrew/perls/perl-5.15.2/lib/site_perl/5.15.2/i686-linux
    /home/bri/perl5/perlbrew/perls/perl-5.15.2/lib/site_perl/5.15.2
    /home/bri/perl5/perlbrew/perls/perl-5.15.2/lib/5.15.2/i686-linux
    /home/bri/perl5/perlbrew/perls/perl-5.15.2/lib/5.15.2
    .