Report for HTML-FormHandlerX-Field-noCAPTCHA-0.09

Back
From: metabase:user:30f4dfbe-2aae-11df-837a-5e0a49663a4f
Subject: PASS HTML-FormHandlerX-Field-noCAPTCHA-0.09 v5.22.2 Mac OS X
Date: 2017-01-02T05:29:05Z

This distribution has been tested as part of the CPAN Testers
project, supporting the Perl programming language.  See
http://wiki.cpantesters.org/ for more information or email
questions to cpan-testers-discuss@perl.org


--
Dear Chuck Larson,

This is a computer-generated report for HTML-FormHandlerX-Field-noCAPTCHA-0.09
on perl 5.22.2, created by CPAN-Reporter-1.2018.

Thank you for uploading your work to CPAN.  Congratulations!
All tests were successful.

Sections of this report:

    * Tester comments
    * Program output
    * Prerequisites
    * Environment and other context

------------------------------
TESTER COMMENTS
------------------------------

Additional comments from tester:

this report is from an automated smoke testing program
and was not reviewed by a human for accuracy

------------------------------
PROGRAM OUTPUT
------------------------------

Output from '/sw/bin/make test':

PERL_DL_NONLAZY=1 "/Users/hornenj/perl5/perlbrew/perls/perl-5.22.2/bin/perl5.22.2" "-MExtUtils::Command::MM" "-MTest::Harness" "-e" "undef *Test::Harness::Switches; test_harness(0, 'blib/lib', 'blib/arch')" t/*.t
# 
# 
# Generated by Dist::Zilla::Plugin::ReportVersions::Tiny v1.10
# perl: 5.022002 (wanted any version) on darwin from /Users/hornenj/perl5/perlbrew/perls/perl-5.22.2/bin/perl5.22.2
# 
# Captcha::noCAPTCHA                            => 0.12       (want 0.12)   
# ExtUtils::MakeMaker                           => 7.22       (want any version)
# HTML::FormHandler                             => 0.40067    (want any version)
# HTML::FormHandler::Field                      => 0.40067    (want any version)
# Moose                                         => 2.1801     (want any version)
# Moose::Role                                   => 2.1801     (want any version)
# Moose::Util::TypeConstraints                  => 2.1801     (want any version)
# Test::Mock::Class                             => 0.0303     (want any version)
# Test::More                                    => 1.302073   (want 0.88)   
# namespace::autoclean                          => 0.28       (want any version)
# strict                                        => 1.09       (want any version)
# warnings                                      => 1.34       (want any version)
# 
# Thanks for using my code.  I hope it works for you.
# If not, please try and include this output in the bug report.
# That will help me reproduce the issue and solve your problem.
# 
t/000-report-versions-tiny.t .. ok
t/01-success.t ................ ok
t/02-failure.t ................ ok
t/03-no-response.t ............ ok
t/04-render-light.t ........... ok
t/05-render-dark.t ............ ok
t/06-render-default.t ......... ok
t/07-render-noscript.t ........ ok
All tests successful.
Files=8, Tests=22,  5 wallclock secs ( 0.02 usr  0.02 sys +  4.24 cusr  0.69 csys =  4.97 CPU)
Result: PASS

------------------------------
PREREQUISITES
------------------------------

Prerequisite modules loaded:

requires:

    Module                       Need Have    
    ---------------------------- ---- --------
    Captcha::noCAPTCHA           0.12 0.12    
    HTML::FormHandler::Field     0    0.40067 
    Moose                        0    2.1801  
    Moose::Role                  0    2.1801  
    Moose::Util::TypeConstraints 0    2.1801  
    namespace::autoclean         0    0.28    

build_requires:

    Module                       Need Have    
    ---------------------------- ---- --------
    ExtUtils::MakeMaker          0    7.22    
    HTML::FormHandler            0    0.40067 
    strict                       0    1.09    
    Test::Mock::Class            0    0.0303  
    Test::More                   0.88 1.302073
    warnings                     0    1.34    

configure_requires:

    Module                       Need Have    
    ---------------------------- ---- --------
    ExtUtils::MakeMaker          0    7.22    


------------------------------
ENVIRONMENT AND OTHER CONTEXT
------------------------------

Environment variables:

    AUTOMATED_TESTING = 1
    LANG = en_US.UTF-8
    LC_ALL = POSIX
    LDFLAGS = 
    PATH = /Users/hornenj/perl5/perlbrew/bin:/Users/hornenj/perl5/perlbrew/perls/perl-5.22.2/bin:/Users/hornenj/perl5/perlbrew/bin:/Users/hornenj/bin:/sw/lib/perl5/ExtUtils:/sw/bin:/am/ncbiapdata/bin:/usr/bin:/bin:/usr/X11R6/bin:/netopt/ncbi_tools/bin:/usr/local/ncbi/blast/bin:/net/traces01.be-md.ncbi.nlm.nih.gov/trace_software/vdb/mac/release/x86_64/bin
    PERL5LIB = /Users/hornenj/.cpan/build/Test-Mock-Class-0.0303-1/blib/arch:/Users/hornenj/.cpan/build/Test-Mock-Class-0.0303-1/blib/lib:/Users/hornenj/.cpan/build/Fatal-Exception-0.05-1/blib/arch:/Users/hornenj/.cpan/build/Fatal-Exception-0.05-1/blib/lib:/Users/hornenj/.cpan/build/Exception-Warning-0.0401-1/blib/arch:/Users/hornenj/.cpan/build/Exception-Warning-0.0401-1/blib/lib:/Users/hornenj/.cpan/build/Exception-Died-0.06-1/blib/arch:/Users/hornenj/.cpan/build/Exception-Died-0.06-1/blib/lib:/Users/hornenj/.cpan/build/Test-Assert-0.0504-1/blib/arch:/Users/hornenj/.cpan/build/Test-Assert-0.0504-1/blib/lib:/Users/hornenj/.cpan/build/constant-boolean-0.02-1/blib/arch:/Users/hornenj/.cpan/build/constant-boolean-0.02-1/blib/lib:/Users/hornenj/.cpan/build/Symbol-Util-0.0203-1/blib/arch:/Users/hornenj/.cpan/build/Symbol-Util-0.0203-1/blib/lib:/Users/hornenj/.cpan/build/Exception-Base-0.2501-1/blib/arch:/Users/hornenj/.cpan/build/Exception-Base-0.2501-1/blib/lib:/Users/hornenj/.cpan/build/Test-Unit-Lite-0.1202-1/blib/arch:/Users/hornenj/.cpan/build/Test-Unit-Lite-0.1202-1/blib/lib:/Users/hornenj/.cpan/build/HTML-FormHandler-0.40067-1/blib/arch:/Users/hornenj/.cpan/build/HTML-FormHandler-0.40067-1/blib/lib:/Users/hornenj/.cpan/build/MooseX-Types-LoadableClass-0.014-1/blib/arch:/Users/hornenj/.cpan/build/MooseX-Types-LoadableClass-0.014-1/blib/lib:/Users/hornenj/.cpan/build/MooseX-Types-Common-0.001013-3/blib/arch:/Users/hornenj/.cpan/build/MooseX-Types-Common-0.001013-3/blib/lib:/Users/hornenj/.cpan/build/Data-Clone-0.004-1/blib/arch:/Users/hornenj/.cpan/build/Data-Clone-0.004-1/blib/lib
    PERL5OPT = 
    PERL5_CPANPLUS_IS_RUNNING = 8895
    PERL5_CPAN_IS_RUNNING = 8895
    PERL5_MINISMOKEBOX = 0.58
    PERLBREW_BASHRC_VERSION = 0.77
    PERLBREW_HOME = /Users/hornenj/.perlbrew
    PERLBREW_LIB = 
    PERLBREW_MANPATH = /Users/hornenj/perl5/perlbrew/perls/perl-5.22.2/man
    PERLBREW_PATH = /Users/hornenj/perl5/perlbrew/bin:/Users/hornenj/perl5/perlbrew/perls/perl-5.22.2/bin
    PERLBREW_PERL = perl-5.22.2
    PERLBREW_ROOT = /Users/hornenj/perl5/perlbrew
    PERLBREW_VERSION = 0.77
    PERL_EXTUTILS_AUTOINSTALL = --defaultdeps
    PERL_LOCAL_LIB_ROOT = 
    PERL_MM_USE_DEFAULT = 1
    SHELL = /bin/bash
    TERM = xterm-256color
    TMPDIR = /var/folders/pz/pd7y1qjs6s3cbk170cw50fjc000c61/T/
    ac_cv_path_INTLTOOL_PERL = /usr/bin/perl

Perl special variables (and OS-specific diagnostics, for MSWin32):

    $^X = /Users/hornenj/perl5/perlbrew/perls/perl-5.22.2/bin/perl5.22.2
    $UID/$EUID = 12481 / 12481
    $GID = 14 14 5344 37191 527 37223 241
    $EGID = 14 14 5344 37191 527 37223 241

Perl module toolchain versions installed:

    Module              Have    
    ------------------- --------
    CPAN                2.14    
    CPAN::Meta          2.150005
    Cwd                 3.62    
    ExtUtils::CBuilder  0.280224
    ExtUtils::Command   7.22    
    ExtUtils::Install   2.04    
    ExtUtils::MakeMaker 7.22    
    ExtUtils::Manifest  1.70    
    ExtUtils::ParseXS   3.30    
    File::Spec          3.62    
    JSON                2.90    
    JSON::PP            2.27400 
    Module::Build       0.4218  
    Module::Signature   0.79    
    Parse::CPAN::Meta   1.4422  
    Test::Harness       3.36    
    Test::More          1.302073
    YAML                1.19    
    YAML::Syck          1.29    
    version             0.9916  


--

Summary of my perl5 (revision 5 version 22 subversion 2) configuration:
   
  Platform:
    osname=darwin, osvers=14.5.0, archname=darwin-thread-multi-2level
    uname='darwin ncbimac2027 14.5.0 darwin kernel version 14.5.0: mon jan 11 18:48:35 pst 2016; root:xnu-2782.50.2~1release_x86_64 x86_64 '
    config_args='-de -Dprefix=/Users/hornenj/perl5/perlbrew/perls/perl-5.22.2 -Duseithreads -Dusemultiplicity -Dusedevel -Accflags=-O2 -W -Wformat=2 -Wswitch -Wshadow -Wwrite-strings -Wuninitialized -Wall -pipe -mtune=native -march=native -fomit-frame-pointer -msse2 -msse -mmmx -pedantic -D_FORTIFY_SOURCE=2 -Wpointer-arith -Wstrict-prototypes -fstack-protector -Wstack-protector -Wextra -Wbad-function-cast -Wcast-align -Wcast-qual -Wdisabled-optimization -Wendif-labels -Wfloat-equal -Wformat-nonliteral -Winline -Wmissing-declarations -Wmissing-prototypes -Wnested-externs -Wpointer-arith -Wundef -Wformat-security -fassociative-math -Acc=cc -Aeval:scriptdir=/Users/hornenj/perl5/perlbrew/perls/perl-5.22.2/bin'
    hint=recommended, useposix=true, d_sigaction=define
    useithreads=define, usemultiplicity=define
    use64bitint=define, use64bitall=define, uselongdouble=undef
    usemymalloc=n, bincompat5005=undef
  Compiler:
    cc=' cc', ccflags ='-fno-common -DPERL_DARWIN -O2 -W -Wformat=2 -Wswitch -Wshadow -Wwrite-strings -Wuninitialized -Wall -pipe -mtune=native -march=native -fomit-frame-pointer -msse2 -msse -mmmx -pedantic -D_FORTIFY_SOURCE=2 -Wpointer-arith -Wstrict-prototypes -fstack-protector -Wstack-protector -Wextra -Wbad-function-cast -Wcast-align -Wcast-qual -Wdisabled-optimization -Wendif-labels -Wfloat-equal -Wformat-nonliteral -Winline -Wmissing-declarations -Wmissing-prototypes -Wnested-externs -Wpointer-arith -Wundef -Wformat-security -fassociative-math -fno-strict-aliasing -fstack-protector-strong -I/usr/local/include',
    optimize='-O3',
    cppflags='-fno-common -DPERL_DARWIN -O2 -W -Wformat=2 -Wswitch -Wshadow -Wwrite-strings -Wuninitialized -Wall -pipe -mtune=native -march=native -fomit-frame-pointer -msse2 -msse -mmmx -pedantic -D_FORTIFY_SOURCE=2 -Wpointer-arith -Wstrict-prototypes -fstack-protector -Wstack-protector -Wextra -Wbad-function-cast -Wcast-align -Wcast-qual -Wdisabled-optimization -Wendif-labels -Wfloat-equal -Wformat-nonliteral -Winline -Wmissing-declarations -Wmissing-prototypes -Wnested-externs -Wpointer-arith -Wundef -Wformat-security -fassociative-math -fno-strict-aliasing -fstack-protector-strong -I/usr/local/include'
    ccversion='', gccversion='4.2.1 Compatible Apple LLVM 7.0.2 (clang-700.1.81)', gccosandvers=''
    intsize=4, longsize=8, ptrsize=8, doublesize=8, byteorder=12345678, doublekind=3
    d_longlong=define, longlongsize=8, d_longdbl=define, longdblsize=16, longdblkind=3
    ivtype='long', ivsize=8, nvtype='double', nvsize=8, Off_t='off_t', lseeksize=8
    alignbytes=8, prototype=define
  Linker and Libraries:
    ld='env MACOSX_DEPLOYMENT_TARGET=10.3 cc', ldflags =' -fstack-protector-strong -L/usr/local/lib'
    libpth=/usr/local/lib /Applications/Xcode.app/Contents/Developer/Toolchains/XcodeDefault.xctoolchain/usr/bin/../lib/clang/7.0.2/lib /Applications/Xcode.app/Contents/Developer/Toolchains/XcodeDefault.xctoolchain/usr/lib /usr/lib
    libs=-lpthread -ldbm -ldl -lm -lutil -lc
    perllibs=-lpthread -ldl -lm -lutil -lc
    libc=, so=dylib, useshrplib=false, libperl=libperl.a
    gnulibc_version=''
  Dynamic Linking:
    dlsrc=dl_dlopen.xs, dlext=bundle, d_dlsymun=undef, ccdlflags=' '
    cccdlflags=' ', lddlflags=' -bundle -undefined dynamic_lookup -L/usr/local/lib -fstack-protector-strong'


Characteristics of this binary (from libperl): 
  Compile-time options: HAS_TIMES MULTIPLICITY PERLIO_LAYERS
                        PERL_DONT_CREATE_GVSV
                        PERL_HASH_FUNC_ONE_AT_A_TIME_HARD
                        PERL_IMPLICIT_CONTEXT PERL_MALLOC_WRAP
                        PERL_NEW_COPY_ON_WRITE PERL_PRESERVE_IVUV
                        PERL_USE_DEVEL USE_64_BIT_ALL USE_64_BIT_INT
                        USE_ITHREADS USE_LARGE_FILES USE_LOCALE
                        USE_LOCALE_COLLATE USE_LOCALE_CTYPE
                        USE_LOCALE_NUMERIC USE_LOCALE_TIME USE_PERLIO
                        USE_PERL_ATOF USE_REENTRANT_API
  Locally applied patches:
	Devel::PatchPerl 1.30
  Built under darwin
  Compiled at May  2 2016 08:59:06
  %ENV:
    PERL5LIB="/Users/hornenj/.cpan/build/Test-Mock-Class-0.0303-1/blib/arch:/Users/hornenj/.cpan/build/Test-Mock-Class-0.0303-1/blib/lib:/Users/hornenj/.cpan/build/Fatal-Exception-0.05-1/blib/arch:/Users/hornenj/.cpan/build/Fatal-Exception-0.05-1/blib/lib:/Users/hornenj/.cpan/build/Exception-Warning-0.0401-1/blib/arch:/Users/hornenj/.cpan/build/Exception-Warning-0.0401-1/blib/lib:/Users/hornenj/.cpan/build/Exception-Died-0.06-1/blib/arch:/Users/hornenj/.cpan/build/Exception-Died-0.06-1/blib/lib:/Users/hornenj/.cpan/build/Test-Assert-0.0504-1/blib/arch:/Users/hornenj/.cpan/build/Test-Assert-0.0504-1/blib/lib:/Users/hornenj/.cpan/build/constant-boolean-0.02-1/blib/arch:/Users/hornenj/.cpan/build/constant-boolean-0.02-1/blib/lib:/Users/hornenj/.cpan/build/Symbol-Util-0.0203-1/blib/arch:/Users/hornenj/.cpan/build/Symbol-Util-0.0203-1/blib/lib:/Users/hornenj/.cpan/build/Exception-Base-0.2501-1/blib/arch:/Users/hornenj/.cpan/build/Exception-Base-0.2501-1/blib/lib:/Users/hornenj/.cpan/build/Test-Unit-Lite-0.1202-1/blib/arch:/Users/hornenj/.cpan/build/Test-Unit-Lite-0.1202-1/blib/lib:/Users/hornenj/.cpan/build/HTML-FormHandler-0.40067-1/blib/arch:/Users/hornenj/.cpan/build/HTML-FormHandler-0.40067-1/blib/lib:/Users/hornenj/.cpan/build/MooseX-Types-LoadableClass-0.014-1/blib/arch:/Users/hornenj/.cpan/build/MooseX-Types-LoadableClass-0.014-1/blib/lib:/Users/hornenj/.cpan/build/MooseX-Types-Common-0.001013-3/blib/arch:/Users/hornenj/.cpan/build/MooseX-Types-Common-0.001013-3/blib/lib:/Users/hornenj/.cpan/build/Data-Clone-0.004-1/blib/arch:/Users/hornenj/.cpan/build/Data-Clone-0.004-1/blib/lib"
    PERL5OPT=""
    PERL5_CPANPLUS_IS_RUNNING="8895"
    PERL5_CPAN_IS_RUNNING="8895"
    PERL5_MINISMOKEBOX="0.58"
    PERLBREW_BASHRC_VERSION="0.77"
    PERLBREW_HOME="/Users/hornenj/.perlbrew"
    PERLBREW_LIB=""
    PERLBREW_MANPATH="/Users/hornenj/perl5/perlbrew/perls/perl-5.22.2/man"
    PERLBREW_PATH="/Users/hornenj/perl5/perlbrew/bin:/Users/hornenj/perl5/perlbrew/perls/perl-5.22.2/bin"
    PERLBREW_PERL="perl-5.22.2"
    PERLBREW_ROOT="/Users/hornenj/perl5/perlbrew"
    PERLBREW_VERSION="0.77"
    PERL_EXTUTILS_AUTOINSTALL="--defaultdeps"
    PERL_LOCAL_LIB_ROOT=""
    PERL_MM_USE_DEFAULT="1"
  @INC:
    /Users/hornenj/.cpan/build/Test-Mock-Class-0.0303-1/blib/arch
    /Users/hornenj/.cpan/build/Test-Mock-Class-0.0303-1/blib/lib
    /Users/hornenj/.cpan/build/Fatal-Exception-0.05-1/blib/arch
    /Users/hornenj/.cpan/build/Fatal-Exception-0.05-1/blib/lib
    /Users/hornenj/.cpan/build/Exception-Warning-0.0401-1/blib/arch
    /Users/hornenj/.cpan/build/Exception-Warning-0.0401-1/blib/lib
    /Users/hornenj/.cpan/build/Exception-Died-0.06-1/blib/arch
    /Users/hornenj/.cpan/build/Exception-Died-0.06-1/blib/lib
    /Users/hornenj/.cpan/build/Test-Assert-0.0504-1/blib/arch
    /Users/hornenj/.cpan/build/Test-Assert-0.0504-1/blib/lib
    /Users/hornenj/.cpan/build/constant-boolean-0.02-1/blib/arch
    /Users/hornenj/.cpan/build/constant-boolean-0.02-1/blib/lib
    /Users/hornenj/.cpan/build/Symbol-Util-0.0203-1/blib/arch
    /Users/hornenj/.cpan/build/Symbol-Util-0.0203-1/blib/lib
    /Users/hornenj/.cpan/build/Exception-Base-0.2501-1/blib/arch
    /Users/hornenj/.cpan/build/Exception-Base-0.2501-1/blib/lib
    /Users/hornenj/.cpan/build/Test-Unit-Lite-0.1202-1/blib/arch
    /Users/hornenj/.cpan/build/Test-Unit-Lite-0.1202-1/blib/lib
    /Users/hornenj/.cpan/build/HTML-FormHandler-0.40067-1/blib/arch
    /Users/hornenj/.cpan/build/HTML-FormHandler-0.40067-1/blib/lib
    /Users/hornenj/.cpan/build/MooseX-Types-LoadableClass-0.014-1/blib/arch
    /Users/hornenj/.cpan/build/MooseX-Types-LoadableClass-0.014-1/blib/lib
    /Users/hornenj/.cpan/build/MooseX-Types-Common-0.001013-3/blib/arch
    /Users/hornenj/.cpan/build/MooseX-Types-Common-0.001013-3/blib/lib
    /Users/hornenj/.cpan/build/Data-Clone-0.004-1/blib/arch
    /Users/hornenj/.cpan/build/Data-Clone-0.004-1/blib/lib
    /Users/hornenj/perl5/perlbrew/perls/perl-5.22.2/lib/site_perl/5.22.2/darwin-thread-multi-2level
    /Users/hornenj/perl5/perlbrew/perls/perl-5.22.2/lib/site_perl/5.22.2
    /Users/hornenj/perl5/perlbrew/perls/perl-5.22.2/lib/5.22.2/darwin-thread-multi-2level
    /Users/hornenj/perl5/perlbrew/perls/perl-5.22.2/lib/5.22.2
    .