Report for DBD-SQLite-Amalgamation-3.6.16

Back
From: metabase:user:314402c4-2aae-11df-837a-5e0a49663a4f
Subject: PASS DBD-SQLite-Amalgamation-3.6.16 v5.10.1 FreeBSD
Date: 2017-03-16T22:03:25Z

This distribution has been tested as part of the CPAN Testers
project, supporting the Perl programming language.  See
http://wiki.cpantesters.org/ for more information or email
questions to cpan-testers-discuss@perl.org


--
Dear Audrey Tang,

This is a computer-generated report for DBD-SQLite-Amalgamation-3.6.16
on perl 5.10.1, created by CPAN-Reporter-1.2018.

Thank you for uploading your work to CPAN.  Congratulations!
All tests were successful.

Sections of this report:

    * Tester comments
    * Program output
    * Prerequisites
    * Environment and other context

------------------------------
TESTER COMMENTS
------------------------------

Additional comments from tester:

none provided

------------------------------
PROGRAM OUTPUT
------------------------------

Output from '/usr/bin/make test':

"/usr/perl5.10.1/bin/perl" -MExtUtils::Command::MM -e 'cp_nonempty' -- SQLite.bs blib/arch/auto/DBD/SQLite/SQLite.bs 644
PERL_DL_NONLAZY=1 "/usr/perl5.10.1/bin/perl" "-MExtUtils::Command::MM" "-MTest::Harness" "-e" "undef *Test::Harness::Switches; test_harness(0, 'blib/lib', 'blib/arch')" t/*.t
# $DBI::VERSION=1.636
t/01_compile.t ............................... ok
# sqlite_version=3.6.16
t/02_logon.t ................................. ok
# sqlite_version=3.6.16
t/02_logon_func.t ............................ ok
t/03_create_table.t .......................... ok
t/04_insert.t ................................ ok
t/05_select.t ................................ ok
t/06_tran.t .................................. ok
t/07_error.t ................................. ok
t/08_busy.t .................................. ok
t/08_busy_func.t ............................. ok
t/09_create_function.t ....................... ok
t/09_create_function_func.t .................. ok
t/10_create_aggregate.t ...................... ok
t/10_create_aggregate_func.t ................. ok
t/12_unicode.t ............................... ok
t/13_create_collation.t ...................... ok
t/13_create_collation_func.t ................. ok
t/14_progress_handler.t ...................... ok
t/14_progress_handler_func.t ................. ok
t/15_ak_dbd.t ................................ ok
t/16_column_info.t ........................... ok
t/17_createdrop.t ............................ ok
t/18_insertfetch.t ........................... ok
t/19_bindparam.t ............................. ok
t/20_blobs.t ................................. ok
t/21_blobtext.t .............................. ok
t/22_listfields.t ............................ ok
t/23_nulls.t ................................. ok
t/24_numrows.t ............................... ok
t/25_chopblanks.t ............................ ok
t/26_commit.t ................................ ok
t/27_metadata.t .............................. ok
t/28_schemachange.t .......................... ok
t/29_cppcomments.t ........................... ok
t/30_auto_rollback.t ......................... ok
t/31_bind_weird_number_param.t ............... ok
t/32_inactive_error.t ........................ ok
t/33_non_latin_path.t ........................ ok
t/34_online_backup.t ......................... ok
t/34_online_backup_func.t .................... ok
t/35_table_info.t ............................ ok
t/97_meta.t .................................. skipped: Author tests not required for installation
t/98_pod.t ................................... skipped: Author tests not required for installation
t/99_pmv.t ................................... skipped: Author tests not required for installation
t/rt_15186_prepcached.t ...................... ok
t/rt_21406_auto_finish.t ..................... ok
t/rt_25371_asymmetric_unicode.t .............. ok
t/rt_25460_numeric_aggregate.t ............... ok
t/rt_25924_user_defined_func_unicode.t ....... ok
t/rt_25924_user_defined_func_unicode_func.t .. ok
t/rt_27553_prepared_cache_and_analyze.t ...... ok
t/rt_29058_group_by.t ........................ ok
t/rt_29629_sqlite_where_length.t ............. ok
t/rt_31324_full_names.t ...................... ok
t/rt_32889_prepare_cached_reexecute.t ........ ok
t/rt_36836_duplicate_key.t ................... ok
t/rt_36838_unique_and_bus_error.t ............ ok
t/rt_40594_nullable.t ........................ ok
All tests successful.
Files=58, Tests=750, 171 wallclock secs ( 1.20 usr  1.01 sys + 25.51 cusr  4.81 csys = 32.52 CPU)
Result: PASS

------------------------------
PREREQUISITES
------------------------------

Prerequisite modules loaded:

requires:

    Module              Need  Have    
    ------------------- ----- --------
    DBI                 1.57  1.636   
    File::Spec          0.82  3.62    
    perl                5.006 5.010001
    Test::More          0.42  1.302078

build_requires:

    Module              Need  Have    
    ------------------- ----- --------
    ExtUtils::MakeMaker 0     7.24    


------------------------------
ENVIRONMENT AND OTHER CONTEXT
------------------------------

Environment variables:

    LC_ALL = de_DE.ISO8859-1
    PATH = /usr/local/bin:/usr/bin:/bin:/usr/local/sbin:/usr/sbin:/sbin:/home/cpansand/bin/freebsd9.3:/home/cpansand/bin/sh:/home/cpansand/bin:/usr/games:/home/cpansand/devel:/usr/home/eserte/src/srezic-misc/scripts
    PERL5LIB = 
    PERL5OPT = 
    PERL5_CPANPLUS_IS_RUNNING = 65544
    PERL5_CPAN_IS_RUNNING = 65544
    PERL5_CPAN_IS_RUNNING_IN_RECURSION = 58628,65544
    PERLDOC = -MPod::Perldoc::ToTextOverstrike
    PERL_BATCH = yes
    PERL_CANARY_STABILITY_NOPROMPT = 1
    PERL_CPAN_REPORTER_CONFIG = /var/tmp/cpansmoker-1023/2017031621/cpanreporter_002_config.ini
    PERL_EXTUTILS_AUTOINSTALL = --defaultdeps
    SHELL = /usr/local/bin/zsh
    TERM = screen
    TMPDIR = /var/tmp/cpansmoker-1023/2017031621

Perl special variables (and OS-specific diagnostics, for MSWin32):

    $^X = /usr/perl5.10.1/bin/perl
    $UID/$EUID = 1023 / 1023
    $GID = 1023 1023
    $EGID = 1023 1023

Perl module toolchain versions installed:

    Module              Have    
    ------------------- --------
    CPAN                2.16    
    CPAN::Meta          2.150010
    Cwd                 3.62    
    ExtUtils::CBuilder  0.280224
    ExtUtils::Command   7.24    
    ExtUtils::Install   2.04    
    ExtUtils::MakeMaker 7.24    
    ExtUtils::Manifest  1.70    
    ExtUtils::ParseXS   3.30    
    File::Spec          3.62    
    JSON                2.90    
    JSON::PP            2.27400 
    Module::Build       0.4220  
    Module::Signature   0.79    
    Parse::CPAN::Meta   2.150010
    Test::Harness       3.36    
    Test::More          1.302078
    YAML                1.23    
    YAML::Syck          1.29    
    version             0.9914  


--

Summary of my perl5 (revision 5 version 10 subversion 1) configuration:
   
  Platform:
    osname=freebsd, osvers=9.2-release-p4, archname=amd64-freebsd
    uname='freebsd cvrsnica-freebsd-92 9.2-release-p4 freebsd 9.2-release-p4 #0: tue apr 8 18:08:22 utc 2014 root@amd64-builder.daemonology.net:usrobjusrsrcsysgeneric amd64 '
    config_args='-ds -e -Dprefix=/usr/perl5.10.1'
    hint=recommended, useposix=true, d_sigaction=define
    useithreads=undef, usemultiplicity=undef
    useperlio=define, d_sfio=undef, uselargefiles=define, usesocks=undef
    use64bitint=define, use64bitall=define, uselongdouble=undef
    usemymalloc=n, bincompat5005=undef
  Compiler:
    cc='cc', ccflags ='-DHAS_FPSETMASK -DHAS_FLOATINGPOINT_H -fno-strict-aliasing -pipe -fstack-protector -I/usr/local/include',
    optimize='-O',
    cppflags='-DHAS_FPSETMASK -DHAS_FLOATINGPOINT_H -fno-strict-aliasing -pipe -fstack-protector -I/usr/local/include'
    ccversion='', gccversion='4.2.1 20070831 patched [FreeBSD]', gccosandvers=''
    intsize=4, longsize=8, ptrsize=8, doublesize=8, byteorder=12345678
    d_longlong=define, longlongsize=8, d_longdbl=define, longdblsize=16
    ivtype='long', ivsize=8, nvtype='double', nvsize=8, Off_t='off_t', lseeksize=8
    alignbytes=8, prototype=define
  Linker and Libraries:
    ld='cc', ldflags ='-Wl,-E  -fstack-protector -L/usr/local/lib'
    libpth=/usr/lib /usr/local/lib
    libs=-lgdbm -lm -lcrypt -lutil -lc
    perllibs=-lm -lcrypt -lutil -lc
    libc=, so=so, useshrplib=false, libperl=libperl.a
    gnulibc_version=''
  Dynamic Linking:
    dlsrc=dl_dlopen.xs, dlext=so, d_dlsymun=undef, ccdlflags=' '
    cccdlflags='-DPIC -fPIC', lddlflags='-shared  -L/usr/local/lib -fstack-protector'


Characteristics of this binary (from libperl): 
  Compile-time options: PERL_DONT_CREATE_GVSV PERL_MALLOC_WRAP USE_64_BIT_ALL
                        USE_64_BIT_INT USE_LARGE_FILES USE_PERLIO
  Built under freebsd
  Compiled at May 15 2014 23:30:26
  %ENV:
    PERL5LIB=""
    PERL5OPT=""
    PERL5_CPANPLUS_IS_RUNNING="65544"
    PERL5_CPAN_IS_RUNNING="65544"
    PERL5_CPAN_IS_RUNNING_IN_RECURSION="58628,65544"
    PERLDOC="-MPod::Perldoc::ToTextOverstrike"
    PERL_BATCH="yes"
    PERL_CANARY_STABILITY_NOPROMPT="1"
    PERL_CPAN_REPORTER_CONFIG="/var/tmp/cpansmoker-1023/2017031621/cpanreporter_002_config.ini"
    PERL_EXTUTILS_AUTOINSTALL="--defaultdeps"
  @INC:
    /usr/perl5.10.1/lib/5.10.1/amd64-freebsd
    /usr/perl5.10.1/lib/5.10.1
    /usr/perl5.10.1/lib/site_perl/5.10.1/amd64-freebsd
    /usr/perl5.10.1/lib/site_perl/5.10.1
    .