Test-PostgreSQL v1.29 Perl 5 v5.38.0 x86_64-linux

Status
Pass
From
Slaven Rezić
Dist
Test-PostgreSQL v1.29
Platform
Perl 5 v5.38.0 x86_64-linux
Date
2023-12-22 16:44:31
ID
60fe4c20-a0e9-11ee-bf9b-9e0c6e8775ea
This distribution has been tested as part of the CPAN Testers
project, supporting the Perl programming language.  See
http://wiki.cpantesters.org/ for more information or email
questions to cpan-testers-discuss@perl.org


--
Dear Toby Corkindale,

This is a computer-generated report for Test-PostgreSQL-1.29
on perl 5.38.0, created by CPAN-Reporter-1.2019.

Thank you for uploading your work to CPAN.  Congratulations!
All tests were successful.

Sections of this report:

    * Tester comments
    * Program output
    * Prerequisites
    * Environment and other context

------------------------------
TESTER COMMENTS
------------------------------

Additional comments from tester:

none provided

------------------------------
PROGRAM OUTPUT
------------------------------

Output from './Build test':

t/00-base.t .............. ok
t/01-raii.t .............. skipped: could not find postmaster, please set appropriate PATH or POSTGRES_HOME at /home/cpansand/.cpan/build/2023122216/Test-PostgreSQL-1.29-0/blib/lib/Test/PostgreSQL.pm line 309.
t/02-multi.t ............. skipped: could not find postmaster, please set appropriate PATH or POSTGRES_HOME at /home/cpansand/.cpan/build/2023122216/Test-PostgreSQL-1.29-0/blib/lib/Test/PostgreSQL.pm line 309.
t/04-multiprocess.t ...... skipped: could not find postmaster, please set appropriate PATH or POSTGRES_HOME at /home/cpansand/.cpan/build/2023122216/Test-PostgreSQL-1.29-0/blib/lib/Test/PostgreSQL.pm line 309.
t/05-recycle-base-dir.t .. skipped: could not find postmaster, please set appropriate PATH or POSTGRES_HOME at /home/cpansand/.cpan/build/2023122216/Test-PostgreSQL-1.29-0/blib/lib/Test/PostgreSQL.pm line 309.
t/06-unix-socket.t ....... skipped: could not find postmaster, please set appropriate PATH or POSTGRES_HOME at /home/cpansand/.cpan/build/2023122216/Test-PostgreSQL-1.29-0/blib/lib/Test/PostgreSQL.pm line 309.
t/07-configs.t ........... skipped: could not find postmaster, please set appropriate PATH or POSTGRES_HOME at /home/cpansand/.cpan/build/2023122216/Test-PostgreSQL-1.29-0/blib/lib/Test/PostgreSQL.pm line 309.
t/08-postgresql_conf.t ... skipped: could not find postmaster, please set appropriate PATH or POSTGRES_HOME at /home/cpansand/.cpan/build/2023122216/Test-PostgreSQL-1.29-0/blib/lib/Test/PostgreSQL.pm line 309.
t/09-run_psql.t .......... skipped: could not find postmaster, please set appropriate PATH or POSTGRES_HOME at /home/cpansand/.cpan/build/2023122216/Test-PostgreSQL-1.29-0/blib/lib/Test/PostgreSQL.pm line 309.
t/10-seed_scripts.t ...... skipped: could not find postmaster, please set appropriate PATH or POSTGRES_HOME at /home/cpansand/.cpan/build/2023122216/Test-PostgreSQL-1.29-0/blib/lib/Test/PostgreSQL.pm line 309.
t/deadlock.t ............. skipped: could not find postmaster, please set appropriate PATH or POSTGRES_HOME at /home/cpansand/.cpan/build/2023122216/Test-PostgreSQL-1.29-0/blib/lib/Test/PostgreSQL.pm line 309.
All tests successful.
Files=11, Tests=1,  3 wallclock secs ( 0.03 usr  0.02 sys +  1.35 cusr  0.34 csys =  1.74 CPU)
Result: PASS

------------------------------
PREREQUISITES
------------------------------

Prerequisite modules loaded:

requires:

    Module               Need  Have    
    -------------------- ----- --------
    DBD::Pg              0     3.16.3  
    DBI                  0     1.643   
    File::Spec           0     3.88    
    File::Which          0     1.27    
    Function::Parameters 0     2.002004
    Moo                  0     2.005005
    perl                 5.014 5.038000
    POSIX                0     2.13    
    Tie::Hash::Method    0     0.02    
    Try::Tiny            0     0.31    
    Types::Standard      0     2.004000
    User::pwent          0     1.02    

build_requires:

    Module               Need  Have    
    -------------------- ----- --------
    DBD::Pg              0     3.16.3  
    Test::SharedFork     0.06  0.35    

configure_requires:

    Module               Need  Have    
    -------------------- ----- --------
    Module::Build::Tiny  0.035 0.046   


------------------------------
ENVIRONMENT AND OTHER CONTEXT
------------------------------

Environment variables:

    LANG = en_US.UTF-8
    PATH = /usr/local/bin:/usr/bin:/bin:/usr/local/sbin:/usr/sbin:/sbin:/home/cpansand/bin/linux-gnu:/home/cpansand/bin/sh:/home/cpansand/bin:/usr/games:/home/cpansand/devel:/home/eserte/src/srezic-misc/scripts
    PERL5LIB = /home/cpansand/.cpan/build/2023122216/Tie-Hash-Method-0.02-0/blib/arch:/home/cpansand/.cpan/build/2023122216/Tie-Hash-Method-0.02-0/blib/lib:/home/cpansand/.cpan/build/2023122216/RedisDB-2.57-0/blib/arch:/home/cpansand/.cpan/build/2023122216/RedisDB-2.57-0/blib/lib:/home/cpansand/.cpan/build/2023122216/RedisDB-Parser-2.23-0/blib/arch:/home/cpansand/.cpan/build/2023122216/RedisDB-Parser-2.23-0/blib/lib:/home/cpansand/.cpan/build/2023122216/Date-Utility-1.11-0/blib/arch:/home/cpansand/.cpan/build/2023122216/Date-Utility-1.11-0/blib/lib:/home/cpansand/.cpan/build/2023122216/Time-Duration-Concise-Localize-2.62-0/blib/arch:/home/cpansand/.cpan/build/2023122216/Time-Duration-Concise-Localize-2.62-0/blib/lib:/home/cpansand/.cpan/build/2023122216/Tie-Hash-LRU-0.05-0/blib/arch:/home/cpansand/.cpan/build/2023122216/Tie-Hash-LRU-0.05-0/blib/lib:/home/cpansand/.cpan/build/2023122216/DBIx-Connector-0.59-1/blib/arch:/home/cpansand/.cpan/build/2023122216/DBIx-Connector-0.59-1/blib/lib
    PERL5OPT = 
    PERL5_CPANPLUS_IS_RUNNING = 1849779
    PERL5_CPAN_IS_RUNNING = 1849779
    PERL5_CPAN_IS_RUNNING_IN_RECURSION = 1849755,1849779
    PERLDOC = -MPod::Perldoc::ToTextOverstrike
    PERL_BATCH = yes
    PERL_CANARY_STABILITY_NOPROMPT = 1
    PERL_CPAN_REPORTER_CONFIG = /var/tmp/cpansmoker-1023/2023122216/cpanreporter_001_config.ini
    PERL_EXTUTILS_AUTOINSTALL = --defaultdeps
    PERL_USE_UNSAFE_INC = 1
    SHELL = /usr/bin/zsh
    TERM = screen
    TMPDIR = /var/tmp/cpansmoker-1023/2023122216

Perl special variables (and OS-specific diagnostics, for MSWin32):

    $^X = /opt/perl-5.38.0/bin/perl
    $UID/$EUID = 1023 / 1023
    $GID = 1023 1023
    $EGID = 1023 1023

Perl module toolchain versions installed:

    Module              Have    
    ------------------- --------
    CPAN                2.36    
    CPAN::Meta          2.150010
    Cwd                 3.89    
    ExtUtils::CBuilder  0.280238
    ExtUtils::Command   7.70    
    ExtUtils::Install   2.22    
    ExtUtils::MakeMaker 7.70    
    ExtUtils::Manifest  1.75    
    ExtUtils::ParseXS   3.51    
    File::Spec          3.88    
    JSON                4.10    
    JSON::PP            4.16    
    Module::Build       0.4234  
    Module::Signature   n/a     
    Parse::CPAN::Meta   2.150010
    Test2               1.302196
    Test::Harness       3.48    
    Test::More          1.302196
    YAML                1.30    
    YAML::Syck          1.34    
    version             0.9930  


--

Summary of my perl5 (revision 5 version 38 subversion 0) configuration:
   
  Platform:
    osname=linux
    osvers=6.2.15-100.fc36.x86_64
    archname=x86_64-linux
    uname='linux cloud4.bbbike.org 6.2.15-100.fc36.x86_64 #1 smp preempt_dynamic thu may 11 16:51:53 utc 2023 x86_64 x86_64 x86_64 gnulinux '
    config_args='-ds -e -Dprefix=/opt/perl-5.38.0 -Dcf_email=srezic@cpan.org'
    hint=recommended
    useposix=true
    d_sigaction=define
    useithreads=undef
    usemultiplicity=undef
    use64bitint=define
    use64bitall=define
    uselongdouble=undef
    usemymalloc=n
    default_inc_excludes_dot=define
  Compiler:
    cc='cc'
    ccflags ='-fwrapv -fno-strict-aliasing -pipe -fstack-protector-strong -I/usr/local/include -D_LARGEFILE_SOURCE -D_FILE_OFFSET_BITS=64 -D_FORTIFY_SOURCE=2'
    optimize='-O2'
    cppflags='-fwrapv -fno-strict-aliasing -pipe -fstack-protector-strong -I/usr/local/include'
    ccversion=''
    gccversion='12.2.1 20221121 (Red Hat 12.2.1-4)'
    gccosandvers=''
    intsize=4
    longsize=8
    ptrsize=8
    doublesize=8
    byteorder=12345678
    doublekind=3
    d_longlong=define
    longlongsize=8
    d_longdbl=define
    longdblsize=16
    longdblkind=3
    ivtype='long'
    ivsize=8
    nvtype='double'
    nvsize=8
    Off_t='off_t'
    lseeksize=8
    alignbytes=8
    prototype=define
  Linker and Libraries:
    ld='cc'
    ldflags =' -fstack-protector-strong -L/usr/local/lib'
    libpth=/usr/local/lib /usr/lib /usr/lib64 /usr/local/lib64
    libs=-lpthread -ldb -ldl -lm -lcrypt -lutil -lc
    perllibs=-lpthread -ldl -lm -lcrypt -lutil -lc
    libc=/lib/../lib64/libc.so.6
    so=so
    useshrplib=false
    libperl=libperl.a
    gnulibc_version='2.35'
  Dynamic Linking:
    dlsrc=dl_dlopen.xs
    dlext=so
    d_dlsymun=undef
    ccdlflags='-Wl,-E'
    cccdlflags='-fPIC'
    lddlflags='-shared -O2 -L/usr/local/lib -fstack-protector-strong'


Characteristics of this binary (from libperl): 
  Compile-time options:
    HAS_LONG_DOUBLE
    HAS_STRTOLD
    HAS_TIMES
    PERLIO_LAYERS
    PERL_COPY_ON_WRITE
    PERL_DONT_CREATE_GVSV
    PERL_HASH_FUNC_SIPHASH13
    PERL_HASH_USE_SBOX32
    PERL_MALLOC_WRAP
    PERL_OP_PARENT
    PERL_PRESERVE_IVUV
    PERL_USE_SAFE_PUTENV
    USE_64_BIT_ALL
    USE_64_BIT_INT
    USE_LARGE_FILES
    USE_LOCALE
    USE_LOCALE_COLLATE
    USE_LOCALE_CTYPE
    USE_LOCALE_NUMERIC
    USE_LOCALE_TIME
    USE_PERLIO
    USE_PERL_ATOF
  Built under linux
  Compiled at Jul  8 2023 12:26:59
  %ENV:
    PERL5LIB="/home/cpansand/.cpan/build/2023122216/Tie-Hash-Method-0.02-0/blib/arch:/home/cpansand/.cpan/build/2023122216/Tie-Hash-Method-0.02-0/blib/lib:/home/cpansand/.cpan/build/2023122216/RedisDB-2.57-0/blib/arch:/home/cpansand/.cpan/build/2023122216/RedisDB-2.57-0/blib/lib:/home/cpansand/.cpan/build/2023122216/RedisDB-Parser-2.23-0/blib/arch:/home/cpansand/.cpan/build/2023122216/RedisDB-Parser-2.23-0/blib/lib:/home/cpansand/.cpan/build/2023122216/Date-Utility-1.11-0/blib/arch:/home/cpansand/.cpan/build/2023122216/Date-Utility-1.11-0/blib/lib:/home/cpansand/.cpan/build/2023122216/Time-Duration-Concise-Localize-2.62-0/blib/arch:/home/cpansand/.cpan/build/2023122216/Time-Duration-Concise-Localize-2.62-0/blib/lib:/home/cpansand/.cpan/build/2023122216/Tie-Hash-LRU-0.05-0/blib/arch:/home/cpansand/.cpan/build/2023122216/Tie-Hash-LRU-0.05-0/blib/lib:/home/cpansand/.cpan/build/2023122216/DBIx-Connector-0.59-1/blib/arch:/home/cpansand/.cpan/build/2023122216/DBIx-Connector-0.59-1/blib/lib"
    PERL5OPT=""
    PERL5_CPANPLUS_IS_RUNNING="1849779"
    PERL5_CPAN_IS_RUNNING="1849779"
    PERL5_CPAN_IS_RUNNING_IN_RECURSION="1849755,1849779"
    PERLDOC="-MPod::Perldoc::ToTextOverstrike"
    PERL_BATCH="yes"
    PERL_CANARY_STABILITY_NOPROMPT="1"
    PERL_CPAN_REPORTER_CONFIG="/var/tmp/cpansmoker-1023/2023122216/cpanreporter_001_config.ini"
    PERL_EXTUTILS_AUTOINSTALL="--defaultdeps"
    PERL_USE_UNSAFE_INC="1"
  @INC:
    /home/cpansand/.cpan/build/2023122216/Tie-Hash-Method-0.02-0/blib/arch
    /home/cpansand/.cpan/build/2023122216/Tie-Hash-Method-0.02-0/blib/lib
    /home/cpansand/.cpan/build/2023122216/RedisDB-2.57-0/blib/arch
    /home/cpansand/.cpan/build/2023122216/RedisDB-2.57-0/blib/lib
    /home/cpansand/.cpan/build/2023122216/RedisDB-Parser-2.23-0/blib/arch
    /home/cpansand/.cpan/build/2023122216/RedisDB-Parser-2.23-0/blib/lib
    /home/cpansand/.cpan/build/2023122216/Date-Utility-1.11-0/blib/arch
    /home/cpansand/.cpan/build/2023122216/Date-Utility-1.11-0/blib/lib
    /home/cpansand/.cpan/build/2023122216/Time-Duration-Concise-Localize-2.62-0/blib/arch
    /home/cpansand/.cpan/build/2023122216/Time-Duration-Concise-Localize-2.62-0/blib/lib
    /home/cpansand/.cpan/build/2023122216/Tie-Hash-LRU-0.05-0/blib/arch
    /home/cpansand/.cpan/build/2023122216/Tie-Hash-LRU-0.05-0/blib/lib
    /home/cpansand/.cpan/build/2023122216/DBIx-Connector-0.59-1/blib/arch
    /home/cpansand/.cpan/build/2023122216/DBIx-Connector-0.59-1/blib/lib
    /opt/perl-5.38.0/lib/site_perl/5.38.0/x86_64-linux
    /opt/perl-5.38.0/lib/site_perl/5.38.0
    /opt/perl-5.38.0/lib/5.38.0/x86_64-linux
    /opt/perl-5.38.0/lib/5.38.0
    .