Report for Module-Info-0.33

Back
From: metabase:user:11c2fc28-e21a-11e0-b760-6f64b2402b71
Subject: PASS Module-Info-0.33 v5.12.4 GNU/Linux
Date: 2013-03-27T16:35:47Z

This distribution has been tested as part of the CPAN Testers
project, supporting the Perl programming language.  See
http://wiki.cpantesters.org/ for more information or email
questions to cpan-testers-discuss@perl.org


--
Dear Mattia Barbon,

This is a computer-generated report for Module-Info-0.33
on perl 5.12.4, created by CPAN-Reporter-1.2006.

Thank you for uploading your work to CPAN.  Congratulations!
All tests were successful.

Sections of this report:

    * Tester comments
    * Program output
    * Prerequisites
    * Environment and other context

------------------------------
TESTER COMMENTS
------------------------------

Additional comments from tester:

none provided

------------------------------
PROGRAM OUTPUT
------------------------------

Output from './Build test':

t/Module-Info.t .......... ok
t/n0_die_on_error.t ...... ok
t/n1_modules_required.t .. ok
t/n2_safe.t .............. ok
t/n3_version.t ........... ok
t/zy_pod_coverage.t ...... ok
t/zz_pod.t ............... ok
All tests successful.
Files=7, Tests=116,  2 wallclock secs ( 0.04 usr  0.01 sys +  1.81 cusr  0.12 csys =  1.98 CPU)
Result: PASS

------------------------------
PREREQUISITES
------------------------------

Prerequisite modules loaded:

requires:

    Module     Need Have
    ---------- ---- ----
    File::Spec 0.08 3.33


------------------------------
ENVIRONMENT AND OTHER CONTEXT
------------------------------

Environment variables:

    LANG = en_US.utf8
    LANGUAGE = en_US.utf8
    LC_MESSAGES = en_US.utf8
    PATH = /sbin:/bin:/usr/sbin:/usr/bin
    PERL5LIB = 
    PERL5OPT = 
    PERL5_CPANPLUS_IS_RUNNING = 14471
    PERL5_CPAN_IS_RUNNING = 14471
    SHELL = /bin/bash
    TERM = xterm

Perl special variables (and OS-specific diagnostics, for MSWin32):

    $^X = /usr/bin/perl5.12.4
    $UID/$EUID = 0 / 0
    $GID = 0 0 1 2 3 4 6 7 10 11 20 26 27 409 410 411
    $EGID = 0 0 1 2 3 4 6 7 10 11 20 26 27 409 410 411

Perl module toolchain versions installed:

    Module              Have    
    ------------------- --------
    CPAN                1.9600  
    CPAN::Meta          2.120921
    Cwd                 3.33    
    ExtUtils::CBuilder  0.280205
    ExtUtils::Command   1.17    
    ExtUtils::Install   1.54    
    ExtUtils::MakeMaker 6.64    
    ExtUtils::Manifest  1.61    
    ExtUtils::ParseXS   3.18    
    File::Spec          3.33    
    JSON                2.53    
    JSON::PP            2.27202 
    Module::Build       0.4003  
    Module::Signature   n/a     
    Parse::CPAN::Meta   1.4404  
    Test::Harness       3.26    
    Test::More          0.98    
    YAML                0.84    
    YAML::Syck          n/a     
    version             0.9901  


--

Summary of my perl5 (revision 5 version 12 subversion 4) configuration:
   
  Platform:
    osname=linux, osvers=3.2.0-server, archname=x86_64-linux-thread-multi
    uname='linux orion.sabayon.org 3.2.0-server #1 smp sat feb 11 09:16:23 utc 2012 x86_64 amd opteron(tm) processor 6128 authenticamd gnulinux '
    config_args='-des -Duseshrplib -Darchname=x86_64-linux-thread -Dcc=x86_64-pc-linux-gnu-gcc -Doptimize=-O2 -march=x86-64 -pipe -Dldflags=-Wl,-O1 -Wl,--as-needed -Dprefix=/usr -Dsiteprefix=/usr -Dvendorprefix=/usr -Dscriptdir=/usr/bin -Dprivlib=/usr/lib64/perl5/5.12.4 -Darchlib=/usr/lib64/perl5/5.12.4/x86_64-linux-thread-multi -Dsitelib=/usr/lib64/perl5/site_perl/5.12.4 -Dsitearch=/usr/lib64/perl5/site_perl/5.12.4/x86_64-linux-thread-multi -Dvendorlib=/usr/lib64/perl5/vendor_perl/5.12.4 -Dvendorarch=/usr/lib64/perl5/vendor_perl/5.12.4/x86_64-linux-thread-multi -Dman1dir=/usr/share/man/man1 -Dman3dir=/usr/share/man/man3 -Dsiteman1dir=/usr/share/man/man1 -Dsiteman3dir=/usr/share/man/man3 -Dvendorman1dir=/usr/share/man/man1 -Dvendorman3dir=/usr/share/man/man3 -Dman1ext=1 -Dman3ext=3pm -Dlibperl=libperl.so.5.12.4 -Dlocincpth=  -Duselargefiles -Dd_semctl_semun -Dcf_by=Gentoo -Dmyhostname=localhost -Dperladmin=root@localhost -Dinstallusrbinperl=n -Ud_csh -Uusenm -Di_ndbm -Di_gdbm -Di_db -Dusethreads -DDEBUGGING=none -Dinc_version_list=5.12.3/x86_64-linux-thread-multi 5.12.3 5.12.2/x86_64-linux-thread-multi 5.12.2 5.12.1/x86_64-linux-thread-multi 5.12.1 5.12.0/x86_64-linux-thread-multi 5.12.0  -Dlibpth=/usr/local/lib64 /lib64 /usr/lib64'
    hint=recommended, useposix=true, d_sigaction=define
    useithreads=define, usemultiplicity=define
    useperlio=define, d_sfio=undef, uselargefiles=define, usesocks=undef
    use64bitint=define, use64bitall=define, uselongdouble=undef
    usemymalloc=n, bincompat5005=undef
  Compiler:
    cc='x86_64-pc-linux-gnu-gcc', ccflags ='-D_REENTRANT -D_GNU_SOURCE -fno-strict-aliasing -pipe -D_LARGEFILE_SOURCE -D_FILE_OFFSET_BITS=64',
    optimize='-O2 -march=x86-64 -pipe',
    cppflags='-D_REENTRANT -D_GNU_SOURCE -fno-strict-aliasing -pipe'
    ccversion='', gccversion='4.6.3', gccosandvers=''
    intsize=4, longsize=8, ptrsize=8, doublesize=8, byteorder=12345678
    d_longlong=define, longlongsize=8, d_longdbl=define, longdblsize=16
    ivtype='long', ivsize=8, nvtype='double', nvsize=8, Off_t='off_t', lseeksize=8
    alignbytes=8, prototype=define
  Linker and Libraries:
    ld='x86_64-pc-linux-gnu-gcc', ldflags ='-Wl,-O1 -Wl,--as-needed'
    libpth=/usr/local/lib64 /lib64 /usr/lib64
    libs=-lnsl -lgdbm -ldb -ldl -lm -lcrypt -lutil -lpthread -lc -lgdbm_compat
    perllibs=-lnsl -ldl -lm -lcrypt -lutil -lpthread -lc
    libc=/lib/libc-2.15.so, so=so, useshrplib=true, libperl=libperl.so.5.12.4
    gnulibc_version='2.15'
  Dynamic Linking:
    dlsrc=dl_dlopen.xs, dlext=so, d_dlsymun=undef, ccdlflags='-Wl,-E'
    cccdlflags='-fPIC', lddlflags='-shared -O2 -march=x86-64 -pipe -Wl,-O1 -Wl,--as-needed'


Characteristics of this binary (from libperl): 
  Compile-time options: MULTIPLICITY PERL_DONT_CREATE_GVSV
                        PERL_IMPLICIT_CONTEXT PERL_MALLOC_WRAP USE_64_BIT_ALL
                        USE_64_BIT_INT USE_ITHREADS USE_LARGE_FILES
                        USE_PERLIO USE_PERL_ATOF USE_REENTRANT_API
  Locally applied patches:
	0001-gentoo_MakeMaker-RUNPATH.diff
	0002-gentoo_config_over.diff
	0003-gentoo_cpan_definstalldirs.diff
	0004-gentoo_cpanplus_definstalldirs.diff
	0005-gentoo_create-libperl-soname.diff
	0006-gentoo_MakeMaker-delete_packlist.diff
	0007-fixes_8d66b3f9_h2hp_fix.diff
	0008-fixes_f178b03b_h2ph_using_deprecated_goto.diff
	0009-gentoo_mod-paths.diff
	0010-gentoo_enc2xs.diff
	0011-gentoo_IO-Compress_AutoLoader_dropped_from_Compress-Zlib.diff
	0012-gentoo_drop-fstack-protector.diff
  Built under linux
  Compiled at Jan 13 2013 20:34:02
  %ENV:
    PERL5LIB=""
    PERL5OPT=""
    PERL5_CPANPLUS_IS_RUNNING="14471"
    PERL5_CPAN_IS_RUNNING="14471"
  @INC:
    /etc/perl
    /usr/lib64/perl5/site_perl/5.12.4/x86_64-linux-thread-multi
    /usr/lib64/perl5/site_perl/5.12.4
    /usr/lib64/perl5/vendor_perl/5.12.4/x86_64-linux-thread-multi
    /usr/lib64/perl5/vendor_perl/5.12.4
    /usr/lib64/perl5/site_perl/5.12.3/x86_64-linux-thread-multi
    /usr/lib64/perl5/site_perl/5.12.3
    /usr/lib64/perl5/site_perl/5.12.2/x86_64-linux-thread-multi
    /usr/lib64/perl5/site_perl/5.12.2
    /usr/lib64/perl5/site_perl
    /usr/lib64/perl5/vendor_perl/5.12.3
    /usr/lib64/perl5/vendor_perl/5.12.2
    /usr/lib64/perl5/vendor_perl
    /usr/lib64/perl5/5.12.4/x86_64-linux-thread-multi
    /usr/lib64/perl5/5.12.4
    /usr/local/lib/site_perl
    .