File-KDBX v0.906 Perl 5 v5.39.2 x86_64-linux-thread-multi
- Status
- Pass
- From
- Andreas J. König (ANDK)
- Dist
-
File-KDBX v0.906
- Platform
- Perl 5 v5.39.2 x86_64-linux-thread-multi
- Date
- 2023-09-07 14:03:53
- ID
- 610b78f6-4d87-11ee-a61d-3ca34996da87
This distribution has been tested as part of the CPAN Testers
project, supporting the Perl programming language. See
http://wiki.cpantesters.org/ for more information or email
questions to cpan-testers-discuss@perl.org
--
Dear Charles McGarvey,
This is a computer-generated report for File-KDBX-0.906
on perl 5.39.2, created by CPAN-Reporter-1.2019.
Thank you for uploading your work to CPAN. Congratulations!
All tests were successful.
Sections of this report:
* Tester comments
* Program output
* Prerequisites
* Environment and other context
------------------------------
TESTER COMMENTS
------------------------------
Additional comments from tester:
this report is from an automated smoke testing program
and was not reviewed by a human for accuracy
------------------------------
PROGRAM OUTPUT
------------------------------
Output from '/usr/bin/make test':
PERL_DL_NONLAZY=1 "/tmp/basesmoker-reloperl-uUkW/bin/perl" "-MExtUtils::Command::MM" "-MTest::Harness" "-e" "undef *Test::Harness::Switches; test_harness(0, 'blib/lib', 'blib/arch')" t/*.t
t/00-compile.t ......... ok
#
# Versions for all modules listed in MYMETA.json (including optional ones):
#
# === Configure Requires ===
#
# Module Want Have
# ------------------- ---- ----
# ExtUtils::MakeMaker any 7.70
#
# === Build Requires ===
#
# Module Want Have
# ------------------- ---- ----
# ExtUtils::MakeMaker any 7.70
#
# === Test Requires ===
#
# Module Want Have
# ------------------- ------------ --------
# ExtUtils::MakeMaker any 7.70
# File::Spec any 3.90
# FindBin any 1.53
# Getopt::Std any 1.13
# IO::Handle any 1.52
# IPC::Open3 any 1.22
# Math::BigInt 1.993 1.999839
# Test::Deep any 1.204
# Test::Fatal any 0.017
# Test::More 1.001004_001 1.302195
# Test::Warnings any 0.031
# lib any 0.65
# utf8 any 1.25
#
# === Test Recommends ===
#
# Module Want Have
# ---------- -------- --------
# CPAN::Meta 2.120900 2.150010
# Pass::OTP any missing
#
# === Test Suggests ===
#
# Module Want Have
# ----------- ---- -------
# POSIX::1003 any missing
#
# === Runtime Requires ===
#
# Module Want Have
# ------------------------ ----- ---------
# Carp any 1.54
# Crypt::Argon2 any 0.019
# Crypt::Cipher any 0.078
# Crypt::Cipher::AES any 0.078
# Crypt::Digest any 0.078
# Crypt::Mac::HMAC any 0.078
# Crypt::Misc 0.049 0.078
# Crypt::Mode::CBC any 0.078
# Crypt::PRNG any 0.078
# Crypt::Stream::ChaCha 0.048 0.078
# Crypt::Stream::Salsa20 0.055 0.078
# Data::Dumper any 2.188
# Devel::GlobalDestruction any 0.14
# Encode any 3.19
# Exporter any 5.77
# File::Temp any 0.2311
# Hash::Util::FieldHash any 1.26
# IO::Handle any 1.52
# IPC::Cmd 0.84 1.04
# Iterator::Simple any 0.07
# List::Util 1.33 1.63
# Math::BigInt 1.993 1.999839
# Module::Load any 0.36
# Module::Loaded any 0.08
# POSIX any 2.15
# Ref::Util any 0.204
# Scalar::Util any 1.63
# Scope::Guard any 0.21
# Storable any 3.32
# Symbol any 1.09
# Text::ParseWords any 3.31
# Time::Local 1.19 1.35
# Time::Piece 1.33 1.3401_01
# XML::LibXML any 2.0209
# XML::LibXML::Reader any 2.0209
# boolean any 0.46
# namespace::clean any 0.27
# overload any 1.37
# strict any 1.13
# warnings any 1.67
#
# === Runtime Recommends ===
#
# Module Want Have
# ---------------------- ---- -------
# Compress::Raw::Zlib any 2.206
# File::KDBX::XS any missing
# File::Spec any 3.90
# IO::Compress::Gzip any 2.206
# IO::Uncompress::Gunzip any 2.206
# Pass::OTP any missing
#
# === Runtime Suggests ===
#
# Module Want Have
# ---------------------- ----- -------
# Crypt::Stream::Serpent 0.055 missing
# Crypt::Stream::Twofish any missing
#
t/00-report-prereqs.t .. ok
t/crypt.t .............. ok
t/database.t ........... ok
t/entry.t .............. ok
t/erase.t .............. ok
t/error.t .............. ok
t/group.t .............. ok
t/hash-block.t ......... ok
t/hmac-block.t ......... ok
t/iterator.t ........... ok
t/kdb.t ................ skipped: File::KeePass and File::KeePass::KDBX required to test KDB files
t/kdbx2.t .............. ok
t/kdbx3.t .............. ok
t/kdbx4.t .............. ok
t/kdf-aes-pp.t ......... ok
t/kdf.t ................ ok
t/keys.t ............... ok
t/memory-protection.t .. skipped: AUTHOR_TESTING required to test memory protection
t/object.t ............. ok
t/otp.t ................ skipped: Pass::OTP required to test one-time-passwords
t/placeholders.t ....... ok
t/query.t .............. ok
t/references.t ......... ok
t/safe.t ............... ok
t/util.t ............... ok
t/yubikey.t ............ ok
All tests successful.
Files=27, Tests=193, 13 wallclock secs ( 0.13 usr 0.05 sys + 8.13 cusr 1.50 csys = 9.81 CPU)
Result: PASS
------------------------------
PREREQUISITES
------------------------------
Prerequisite modules loaded:
requires:
Module Need Have
------------------------ ------------ ---------
boolean 0 0.46
Carp 0 1.54
Crypt::Argon2 0 0.019
Crypt::Cipher 0 0.078
Crypt::Cipher::AES 0 0.078
Crypt::Digest 0 0.078
Crypt::Mac::HMAC 0 0.078
Crypt::Misc 0.049 0.078
Crypt::Mode::CBC 0 0.078
Crypt::PRNG 0 0.078
Crypt::Stream::ChaCha 0.048 0.078
Crypt::Stream::Salsa20 0.055 0.078
Data::Dumper 0 2.188
Devel::GlobalDestruction 0 0.14
Encode 0 3.19
Exporter 0 5.77
File::Temp 0 0.2311
Hash::Util::FieldHash 0 1.26
IO::Handle 0 1.52
IPC::Cmd 0.84 1.04
Iterator::Simple 0 0.07
List::Util 1.33 1.63
Math::BigInt 1.993 1.999839
Module::Load 0 0.36
Module::Loaded 0 0.08
namespace::clean 0 0.27
overload 0 1.37
perl 5.010 5.039002
POSIX 0 2.15
Ref::Util 0 0.204
Scalar::Util 0 1.63
Scope::Guard 0 0.21
Storable 0 3.32
strict 0 1.13
Symbol 0 1.09
Text::ParseWords 0 3.31
Time::Local 1.19 1.35
Time::Piece 1.33 1.3401_01
warnings 0 1.67
XML::LibXML 0 2.0209
XML::LibXML::Reader 0 2.0209
build_requires:
Module Need Have
------------------------ ------------ ---------
ExtUtils::MakeMaker 0 7.70
File::Spec 0 3.90
FindBin 0 1.53
Getopt::Std 0 1.13
IO::Handle 0 1.52
IPC::Open3 0 1.22
lib 0 0.65
Math::BigInt 1.993 1.999839
Test::Deep 0 1.204
Test::Fatal 0 0.017
Test::More 1.001004_001 1.302195
Test::Warnings 0 0.031
utf8 0 1.25
configure_requires:
Module Need Have
------------------------ ------------ ---------
ExtUtils::MakeMaker 0 7.70
opt_requires:
Module Need Have
------------------------ ------------ ---------
Compress::Raw::Zlib 0 2.206
! File::KDBX::XS 0 n/a
File::Spec 0 3.90
IO::Compress::Gzip 0 2.206
IO::Uncompress::Gunzip 0 2.206
! Pass::OTP 0 n/a
------------------------------
ENVIRONMENT AND OTHER CONTEXT
------------------------------
Environment variables:
AUTOMATED_TESTING = 1
LANG = en_US.UTF-8
LC_ADDRESS = de_DE.UTF-8
LC_IDENTIFICATION = de_DE.UTF-8
LC_MEASUREMENT = de_DE.UTF-8
LC_MONETARY = de_DE.UTF-8
LC_NAME = de_DE.UTF-8
LC_NUMERIC = de_DE.UTF-8
LC_PAPER = de_DE.UTF-8
LC_TELEPHONE = de_DE.UTF-8
LC_TIME = de_DE.UTF-8
PATH = /home/sand/bin:/usr/local/bin:/usr/local/sbin:/usr/sbin:/usr/bin:/sbin:/bin:/usr/games:/usr/local/games:/snap/bin:/usr/local/perl/bin:/usr/X11/bin
PERL = /tmp/basesmoker-reloperl-uUkW/bin/perl
PERL5LIB = /tmp/loop_over_bdir-3476-qrra1b/shishi-0.0.1-0/blib/arch:/tmp/loop_over_bdir-3476-qrra1b/shishi-0.0.1-0/blib/lib:/tmp/loop_over_bdir-3476-qrra1b/Devel-Required-0.16-0/blib/arch:/tmp/loop_over_bdir-3476-qrra1b/Devel-Required-0.16-0/blib/lib:/tmp/loop_over_bdir-3476-qrra1b/WWW-Mechanize-Chrome-DOMops-0.06-0/blib/arch:/tmp/loop_over_bdir-3476-qrra1b/WWW-Mechanize-Chrome-DOMops-0.06-0/blib/lib:/tmp/loop_over_bdir-3476-qrra1b/Lemonldap-NG-Cli-0.2-0/blib/arch:/tmp/loop_over_bdir-3476-qrra1b/Lemonldap-NG-Cli-0.2-0/blib/lib:/tmp/loop_over_bdir-3476-qrra1b/RDF-NLP-SPARQLQuery-0.1-0/blib/arch:/tmp/loop_over_bdir-3476-qrra1b/RDF-NLP-SPARQLQuery-0.1-0/blib/lib:/tmp/loop_over_bdir-3476-qrra1b/DBIx-Migration-Directories-0.12-0/blib/arch:/tmp/loop_over_bdir-3476-qrra1b/DBIx-Migration-Directories-0.12-0/blib/lib
PERL5OPT =
PERL5_CPANPLUS_IS_RUNNING = 3484
PERL5_CPAN_IS_RUNNING = 3484
PERL_CANARY_STABILITY_NOPROMPT = 1
PERL_MM_USE_DEFAULT = 1
PERL_USE_UNSAFE_INC = 1
SHELL = /usr/bin/zsh
TERM = screen
Perl special variables (and OS-specific diagnostics, for MSWin32):
$^X = /tmp/basesmoker-reloperl-uUkW/bin/perl
$UID/$EUID = 1005 / 1005
$GID = 1005 1005
$EGID = 1005 1005
Perl module toolchain versions installed:
Module Have
------------------- --------
CPAN 2.36
CPAN::Meta 2.150010
Cwd 3.90
ExtUtils::CBuilder 0.280239
ExtUtils::Command 7.70
ExtUtils::Install 2.22
ExtUtils::MakeMaker 7.70
ExtUtils::Manifest 1.75
ExtUtils::ParseXS 3.51
File::Spec 3.90
JSON 4.10
JSON::PP 4.16
Module::Build 0.4234
Module::Signature 0.88
Parse::CPAN::Meta 2.150010
Test2 1.302195
Test::Harness 3.47
Test::More 1.302195
YAML 1.30
YAML::Syck 1.34
version 0.9929
--
Summary of my perl5 (revision 5 version 39 subversion 2) configuration:
Commit id: e246fd63c3ad4034efc21113d44231047f6b2909
Platform:
osname=linux
osvers=6.2.0-26-generic
archname=x86_64-linux-thread-multi
uname='linux k93jammy 6.2.0-26-generic #26~22.04.1-ubuntu smp preempt_dynamic thu jul 13 16:27:29 utc 2 x86_64 x86_64 x86_64 gnulinux '
config_args='-Dprefix=/home/sand/src/perl/repoperls/installed-perls/host/k93jammy/v5.39.2/b4f3 -Dmyhostname=k93jammy -Dinstallusrbinperl=n -Uversiononly -Dusedevel -des -Ui_db -Dlibswanted=cl pthread socket inet nsl gdbm dbm malloc dl ld sun m crypt sec util c cposix posix ucb BSD gdbm_compat -Duseithreads -Uuselongdouble -DEBUGGING=-g'
hint=recommended
useposix=true
d_sigaction=define
useithreads=define
usemultiplicity=define
use64bitint=define
use64bitall=define
uselongdouble=undef
usemymalloc=n
default_inc_excludes_dot=define
Compiler:
cc='cc'
ccflags ='-D_REENTRANT -D_GNU_SOURCE -fwrapv -fno-strict-aliasing -pipe -fstack-protector-strong -I/usr/local/include -D_LARGEFILE_SOURCE -D_FILE_OFFSET_BITS=64'
optimize='-O2 -g'
cppflags='-D_REENTRANT -D_GNU_SOURCE -fwrapv -fno-strict-aliasing -pipe -fstack-protector-strong -I/usr/local/include'
ccversion=''
gccversion='11.4.0'
gccosandvers=''
intsize=4
longsize=8
ptrsize=8
doublesize=8
byteorder=12345678
doublekind=3
d_longlong=define
longlongsize=8
d_longdbl=define
longdblsize=16
longdblkind=3
ivtype='long'
ivsize=8
nvtype='double'
nvsize=8
Off_t='off_t'
lseeksize=8
alignbytes=8
prototype=define
Linker and Libraries:
ld='cc'
ldflags =' -fstack-protector-strong -L/usr/local/lib'
libpth=/usr/local/lib /usr/lib/x86_64-linux-gnu /usr/lib /usr/lib64
libs=-lpthread -lnsl -ldl -lm -lcrypt -lutil -lc
perllibs=-lpthread -lnsl -ldl -lm -lcrypt -lutil -lc
libc=/lib/x86_64-linux-gnu/libc.so.6
so=so
useshrplib=false
libperl=libperl.a
gnulibc_version='2.35'
Dynamic Linking:
dlsrc=dl_dlopen.xs
dlext=so
d_dlsymun=undef
ccdlflags='-Wl,-E'
cccdlflags='-fPIC'
lddlflags='-shared -O2 -g -L/usr/local/lib -fstack-protector-strong'
Characteristics of this binary (from libperl):
Compile-time options:
HAS_LONG_DOUBLE
HAS_STRTOLD
HAS_TIMES
MULTIPLICITY
PERLIO_LAYERS
PERL_COPY_ON_WRITE
PERL_DONT_CREATE_GVSV
PERL_HASH_FUNC_SIPHASH13
PERL_HASH_USE_SBOX32
PERL_MALLOC_WRAP
PERL_OP_PARENT
PERL_PRESERVE_IVUV
PERL_USE_DEVEL
PERL_USE_SAFE_PUTENV
USE_64_BIT_ALL
USE_64_BIT_INT
USE_ITHREADS
USE_LARGE_FILES
USE_LOCALE
USE_LOCALE_COLLATE
USE_LOCALE_CTYPE
USE_LOCALE_NUMERIC
USE_LOCALE_TIME
USE_PERLIO
USE_PERL_ATOF
USE_REENTRANT_API
USE_THREAD_SAFE_LOCALE
Built under linux
Compiled at Sep 4 2023 06:57:05
%ENV:
PERL="/tmp/basesmoker-reloperl-uUkW/bin/perl"
PERL5LIB="/tmp/loop_over_bdir-3476-qrra1b/shishi-0.0.1-0/blib/arch:/tmp/loop_over_bdir-3476-qrra1b/shishi-0.0.1-0/blib/lib:/tmp/loop_over_bdir-3476-qrra1b/Devel-Required-0.16-0/blib/arch:/tmp/loop_over_bdir-3476-qrra1b/Devel-Required-0.16-0/blib/lib:/tmp/loop_over_bdir-3476-qrra1b/WWW-Mechanize-Chrome-DOMops-0.06-0/blib/arch:/tmp/loop_over_bdir-3476-qrra1b/WWW-Mechanize-Chrome-DOMops-0.06-0/blib/lib:/tmp/loop_over_bdir-3476-qrra1b/Lemonldap-NG-Cli-0.2-0/blib/arch:/tmp/loop_over_bdir-3476-qrra1b/Lemonldap-NG-Cli-0.2-0/blib/lib:/tmp/loop_over_bdir-3476-qrra1b/RDF-NLP-SPARQLQuery-0.1-0/blib/arch:/tmp/loop_over_bdir-3476-qrra1b/RDF-NLP-SPARQLQuery-0.1-0/blib/lib:/tmp/loop_over_bdir-3476-qrra1b/DBIx-Migration-Directories-0.12-0/blib/arch:/tmp/loop_over_bdir-3476-qrra1b/DBIx-Migration-Directories-0.12-0/blib/lib"
PERL5OPT=""
PERL5_CPANPLUS_IS_RUNNING="3484"
PERL5_CPAN_IS_RUNNING="3484"
PERL_CANARY_STABILITY_NOPROMPT="1"
PERL_MM_USE_DEFAULT="1"
PERL_USE_UNSAFE_INC="1"
@INC:
/tmp/loop_over_bdir-3476-qrra1b/shishi-0.0.1-0/blib/arch
/tmp/loop_over_bdir-3476-qrra1b/shishi-0.0.1-0/blib/lib
/tmp/loop_over_bdir-3476-qrra1b/Devel-Required-0.16-0/blib/arch
/tmp/loop_over_bdir-3476-qrra1b/Devel-Required-0.16-0/blib/lib
/tmp/loop_over_bdir-3476-qrra1b/WWW-Mechanize-Chrome-DOMops-0.06-0/blib/arch
/tmp/loop_over_bdir-3476-qrra1b/WWW-Mechanize-Chrome-DOMops-0.06-0/blib/lib
/tmp/loop_over_bdir-3476-qrra1b/Lemonldap-NG-Cli-0.2-0/blib/arch
/tmp/loop_over_bdir-3476-qrra1b/Lemonldap-NG-Cli-0.2-0/blib/lib
/tmp/loop_over_bdir-3476-qrra1b/RDF-NLP-SPARQLQuery-0.1-0/blib/arch
/tmp/loop_over_bdir-3476-qrra1b/RDF-NLP-SPARQLQuery-0.1-0/blib/lib
/tmp/loop_over_bdir-3476-qrra1b/DBIx-Migration-Directories-0.12-0/blib/arch
/tmp/loop_over_bdir-3476-qrra1b/DBIx-Migration-Directories-0.12-0/blib/lib
/home/sand/src/perl/repoperls/installed-perls/host/k93jammy/v5.39.2/b4f3/lib/site_perl/5.39.2/x86_64-linux-thread-multi
/home/sand/src/perl/repoperls/installed-perls/host/k93jammy/v5.39.2/b4f3/lib/site_perl/5.39.2
/home/sand/src/perl/repoperls/installed-perls/host/k93jammy/v5.39.2/b4f3/lib/5.39.2/x86_64-linux-thread-multi
/home/sand/src/perl/repoperls/installed-perls/host/k93jammy/v5.39.2/b4f3/lib/5.39.2
.