MooseX-Types-Structured v0.36 Perl 5 v5.14.3 darwin-thread-multi-2level

Status
Pass
From
Nigel Horne
Dist
MooseX-Types-Structured v0.36
Platform
Perl 5 v5.14.3 darwin-thread-multi-2level
Date
2017-10-13 21:35:06
ID
61871c08-b05e-11e7-ada1-ec42db1c1d4b
This distribution has been tested as part of the CPAN Testers
project, supporting the Perl programming language.  See
http://wiki.cpantesters.org/ for more information or email
questions to cpan-testers-discuss@perl.org


--
Dear Karen Etheridge,

This is a computer-generated report for MooseX-Types-Structured-0.36
on perl 5.14.3, created by CPAN-Reporter-1.2018.

Thank you for uploading your work to CPAN.  Congratulations!
All tests were successful.

Sections of this report:

    * Tester comments
    * Program output
    * Prerequisites
    * Environment and other context

------------------------------
TESTER COMMENTS
------------------------------

Additional comments from tester:

this report is from an automated smoke testing program
and was not reviewed by a human for accuracy

------------------------------
PROGRAM OUTPUT
------------------------------

Output from './Build test':

t/00-load.t .................... ok
# 
# Versions for all modules listed in MYMETA.json (including optional ones):
# 
# === Configure Requires ===
# 
#     Module               Want  Have
#     ------------------- ----- -----
#     Module::Build::Tiny 0.034 0.039
# 
# === Configure Suggests ===
# 
#     Module      Want    Have
#     -------- ------- -------
#     JSON::PP 2.27300 2.27400
# 
# === Test Requires ===
# 
#     Module               Want     Have
#     -------------------- ---- --------
#     Data::Dumper          any    2.154
#     DateTime              any     1.42
#     File::Spec            any     3.47
#     Module::Metadata      any 1.000027
#     MooseX::Types::Moose  any     0.46
#     Test::Fatal           any    0.014
#     Test::More           0.88 1.302098
#     Test::Needs           any 0.002005
#     strict                any     1.04
#     warnings              any     1.12
# 
# === Test Recommends ===
# 
#     Module         Want     Have
#     ---------- -------- --------
#     CPAN::Meta 2.120900 2.150005
# 
# === Test Suggests ===
# 
#     Module                  Want    Have
#     ----------------------- ---- -------
#     MooseX::Types::DateTime  any missing
# 
# === Runtime Requires ===
# 
#     Module                                        Want   Have
#     -------------------------------------------- ----- ------
#     Devel::PartialDump                            0.13   0.20
#     Moose                                          any 2.1603
#     Moose::Meta::TypeCoercion                      any 2.1603
#     Moose::Meta::TypeConstraint                    any 2.1603
#     Moose::Meta::TypeConstraint::Parameterizable   any 2.1603
#     Moose::Util::TypeConstraints                  1.06 2.1603
#     MooseX::Types                                 0.22   0.46
#     Scalar::Util                                   any   1.47
#     Sub::Exporter                                0.982  0.987
#     if                                             any 0.0606
#     namespace::clean                              0.19   0.26
#     overload                                       any   1.13
# 
# === Other Modules ===
# 
#     Module                  Have
#     -------------------- -------
#     Dist::CheckConflicts    0.11
#     JSON::PP             2.27400
#     Sub::Name               0.14
#     YAML                    1.23
#     autodie                 2.29
# 
t/00-report-prereqs.t .......... ok
t/01-basic.t ................... ok
t/02-tuple.t ................... ok
t/03-dict.t .................... ok
t/04-combined.t ................ ok
t/04-map.t ..................... ok
t/05-advanced.t ................ ok
t/06-api.t ..................... ok
t/07-coerce.t .................. ok
t/08-examples.t ................ skipped: Need MooseX::Types::DateTime
t/09-optional.t ................ ok
t/10-recursion.t ............... ok
t/11-overflow.t ................ ok
t/12-error.t ................... ok
t/13-deeper_error.t ............ ok
t/14-fully-qualified.t ......... ok
t/bug-incorrect-message.t ...... ok
t/bug-is-subtype.t ............. ok
t/bug-mixed-stringy.t .......... ok
t/bug-optional.t ............... ok
t/regressions/01-is_type_of.t .. ok
t/zzz-check-breaks.t ........... ok
All tests successful.
Files=23, Tests=352,  7 wallclock secs ( 0.07 usr  0.04 sys +  5.52 cusr  0.94 csys =  6.57 CPU)
Result: PASS

------------------------------
PREREQUISITES
------------------------------

Prerequisite modules loaded:

requires:

    Module                                       Need  Have    
    -------------------------------------------- ----- --------
    Devel::PartialDump                           0.13  0.20    
    if                                           0     0.0606  
    Moose                                        0     2.1603  
    Moose::Meta::TypeCoercion                    0     2.1603  
    Moose::Meta::TypeConstraint                  0     2.1603  
    Moose::Meta::TypeConstraint::Parameterizable 0     2.1603  
    Moose::Util::TypeConstraints                 1.06  2.1603  
    MooseX::Types                                0.22  0.46    
    namespace::clean                             0.19  0.26    
    overload                                     0     1.13    
    perl                                         5.008 5.014003
    Scalar::Util                                 0     1.47    
    Sub::Exporter                                0.982 0.987   

build_requires:

    Module                                       Need  Have    
    -------------------------------------------- ----- --------
    Data::Dumper                                 0     2.154   
    DateTime                                     0     1.42    
    File::Spec                                   0     3.47    
    Module::Metadata                             0     1.000027
    MooseX::Types::Moose                         0     0.46    
    perl                                         5.008 5.014003
    strict                                       0     1.04    
    Test::Fatal                                  0     0.014   
    Test::More                                   0.88  1.302098
    Test::Needs                                  0     0.002005
    warnings                                     0     1.12    

configure_requires:

    Module                                       Need  Have    
    -------------------------------------------- ----- --------
    Module::Build::Tiny                          0.034 0.039   
    perl                                         5.008 5.014003


------------------------------
ENVIRONMENT AND OTHER CONTEXT
------------------------------

Environment variables:

    AUTOMATED_TESTING = 1
    LANG = en_US.UTF-8
    LC_ALL = POSIX
    LDFLAGS = 
    PATH = /Users/hornenj/perl5/perlbrew/bin:/Users/hornenj/perl5/perlbrew/perls/perl-5.14.3/bin:/Users/hornenj/perl5/perlbrew/bin:/Users/hornenj/perl5/perlbrew/perls/perl-5.26.1-thread/bin:/Users/hornenj/bin:/sw/bin:/usr/bin:/bin:/usr/X11R6/bin
    PERL5LIB = /Users/hornenj/.cpan/build/Devel-PartialDump-0.20-1/blib/arch:/Users/hornenj/.cpan/build/Devel-PartialDump-0.20-1/blib/lib:/Users/hornenj/.cpan/build/MooseX-Types-Common-0.001014-2/blib/arch:/Users/hornenj/.cpan/build/MooseX-Types-Common-0.001014-2/blib/lib:/Users/hornenj/.cpan/build/File-ChangeNotify-0.27-1/blib/arch:/Users/hornenj/.cpan/build/File-ChangeNotify-0.27-1/blib/lib:/Users/hornenj/.cpan/build/Test-MockModule-0.13-2/blib/arch:/Users/hornenj/.cpan/build/Test-MockModule-0.13-2/blib/lib:/Users/hornenj/.cpan/build/SUPER-1.20141117-2/blib/arch:/Users/hornenj/.cpan/build/SUPER-1.20141117-2/blib/lib:/Users/hornenj/.cpan/build/Net-Stomp-0.57-1/blib/arch:/Users/hornenj/.cpan/build/Net-Stomp-0.57-1/blib/lib:/Users/hornenj/.cpan/build/Method-Signatures-Simple-1.07-1/blib/arch:/Users/hornenj/.cpan/build/Method-Signatures-Simple-1.07-1/blib/lib:/Users/hornenj/.cpan/build/Devel-Declare-0.006019-1/blib/arch:/Users/hornenj/.cpan/build/Devel-Declare-0.006019-1/blib/lib
    PERL5OPT = 
    PERL5_CPANPLUS_IS_RUNNING = 6992
    PERL5_CPAN_IS_RUNNING = 6992
    PERL5_MINISMOKEBOX = 0.68
    PERLBREW_BASHRC_VERSION = 0.80
    PERLBREW_HOME = /Users/hornenj/.perlbrew
    PERLBREW_LIB = 
    PERLBREW_MANPATH = /Users/hornenj/perl5/perlbrew/perls/perl-5.14.3/man
    PERLBREW_PATH = /Users/hornenj/perl5/perlbrew/bin:/Users/hornenj/perl5/perlbrew/perls/perl-5.14.3/bin
    PERLBREW_PERL = perl-5.14.3
    PERLBREW_ROOT = /Users/hornenj/perl5/perlbrew
    PERLBREW_VERSION = 0.80
    PERL_CPAN_REPORTER_DIR = 
    PERL_EXTUTILS_AUTOINSTALL = --defaultdeps
    PERL_LOCAL_LIB_ROOT = 
    PERL_MM_USE_DEFAULT = 1
    SHELL = /bin/bash
    TERM = xterm-256color
    TMPDIR = /var/folders/pz/pd7y1qjs6s3cbk170cw50fjc000c61/T/

Perl special variables (and OS-specific diagnostics, for MSWin32):

    $^X = /Users/hornenj/perl5/perlbrew/perls/perl-5.14.3/bin/perl5.14.3
    $UID/$EUID = 12481 / 12481
    $GID = 14 14 5344 37191 527 12 62 204 399 206 37223 241 223
    $EGID = 14 14 5344 37191 527 12 62 204 399 206 37223 241 223

Perl module toolchain versions installed:

    Module              Have    
    ------------------- --------
    CPAN                2.16    
    CPAN::Meta          2.150005
    Cwd                 3.47    
    ExtUtils::CBuilder  0.280224
    ExtUtils::Command   7.30    
    ExtUtils::Install   2.06    
    ExtUtils::MakeMaker 7.30    
    ExtUtils::Manifest  1.70    
    ExtUtils::ParseXS   3.30    
    File::Spec          3.47    
    JSON                2.93    
    JSON::PP            2.27400 
    Module::Build       0.4214  
    Module::Signature   n/a     
    Parse::CPAN::Meta   1.4422  
    Test::Harness       3.36    
    Test::More          1.302098
    YAML                1.23    
    YAML::Syck          1.30    
    version             0.9912  


--

Summary of my perl5 (revision 5 version 14 subversion 3) configuration:
   
  Platform:
    osname=darwin, osvers=14.3.0, archname=darwin-thread-multi-2level
    uname='darwin ncbimac2027.ncbi.nlm.nih.gov 14.3.0 darwin kernel version 14.3.0: mon mar 23 11:59:05 pdt 2015; root:xnu-2782.20.48~5release_x86_64 x86_64 '
    config_args='-de -Dprefix=/Users/hornenj/perl5/perlbrew/perls/perl-5.14.3 -Duseithreads -Dusemultiplicity -Dusedevel -Accflags=-O2 -W -Wformat=2 -Wswitch -Wshadow -Wwrite-strings -Wuninitialized -Wall -pipe -mtune=native -march=native -fomit-frame-pointer -msse2 -msse -mmmx -pedantic -D_FORTIFY_SOURCE=2 -Wpointer-arith -Wstrict-prototypes -fstack-protector -Wstack-protector -Wextra -Wbad-function-cast -Wcast-align -Wcast-qual -Wdisabled-optimization -Wendif-labels -Wfloat-equal -Wformat-nonliteral -Winline -Wmissing-declarations -Wmissing-prototypes -Wnested-externs -Wpointer-arith -Wundef -Wformat-security -fassociative-math -Acc=cc -Aeval:scriptdir=/Users/hornenj/perl5/perlbrew/perls/perl-5.14.3/bin'
    hint=recommended, useposix=true, d_sigaction=define
    useithreads=define, usemultiplicity=define
    useperlio=define, d_sfio=undef, uselargefiles=define, usesocks=undef
    use64bitint=define, use64bitall=define, uselongdouble=undef
    usemymalloc=n, bincompat5005=undef
  Compiler:
    cc=' cc', ccflags ='-fno-common -DPERL_DARWIN -O2 -W -Wformat=2 -Wswitch -Wshadow -Wwrite-strings -Wuninitialized -Wall -pipe -mtune=native -march=native -fomit-frame-pointer -msse2 -msse -mmmx -pedantic -D_FORTIFY_SOURCE=2 -Wpointer-arith -Wstrict-prototypes -fstack-protector -Wstack-protector -Wextra -Wbad-function-cast -Wcast-align -Wcast-qual -Wdisabled-optimization -Wendif-labels -Wfloat-equal -Wformat-nonliteral -Winline -Wmissing-declarations -Wmissing-prototypes -Wnested-externs -Wpointer-arith -Wundef -Wformat-security -fassociative-math -fno-strict-aliasing -I/usr/local/include',
    optimize='-O3',
    cppflags='-fno-common -DPERL_DARWIN -O2 -W -Wformat=2 -Wswitch -Wshadow -Wwrite-strings -Wuninitialized -Wall -pipe -mtune=native -march=native -fomit-frame-pointer -msse2 -msse -mmmx -pedantic -D_FORTIFY_SOURCE=2 -Wpointer-arith -Wstrict-prototypes -fstack-protector -Wstack-protector -Wextra -Wbad-function-cast -Wcast-align -Wcast-qual -Wdisabled-optimization -Wendif-labels -Wfloat-equal -Wformat-nonliteral -Winline -Wmissing-declarations -Wmissing-prototypes -Wnested-externs -Wpointer-arith -Wundef -Wformat-security -fassociative-math -fno-strict-aliasing -I/usr/local/include'
    ccversion='', gccversion='4.2.1 Compatible Apple LLVM 6.0 (clang-600.0.56)', gccosandvers=''
    intsize=4, longsize=8, ptrsize=8, doublesize=8, byteorder=12345678
    d_longlong=define, longlongsize=8, d_longdbl=define, longdblsize=16
    ivtype='long', ivsize=8, nvtype='double', nvsize=8, Off_t='off_t', lseeksize=8
    alignbytes=8, prototype=define
  Linker and Libraries:
    ld='env MACOSX_DEPLOYMENT_TARGET=10.3 cc', ldflags =' -fstack-protector -L/usr/local/lib'
    libpth=/usr/local/lib /usr/lib
    libs=-ldbm -ldl -lm -lutil -lc
    perllibs=-ldl -lm -lutil -lc
    libc=, so=dylib, useshrplib=false, libperl=libperl.a
    gnulibc_version=''
  Dynamic Linking:
    dlsrc=dl_dlopen.xs, dlext=bundle, d_dlsymun=undef, ccdlflags=' '
    cccdlflags=' ', lddlflags=' -bundle -undefined dynamic_lookup -L/usr/local/lib -fstack-protector'


Characteristics of this binary (from libperl): 
  Compile-time options: MULTIPLICITY PERL_DONT_CREATE_GVSV
                        PERL_IMPLICIT_CONTEXT PERL_MALLOC_WRAP
                        PERL_PRESERVE_IVUV PERL_USE_DEVEL USE_64_BIT_ALL
                        USE_64_BIT_INT USE_ITHREADS USE_LARGE_FILES
                        USE_PERLIO USE_PERL_ATOF USE_REENTRANT_API
  Locally applied patches:
	Devel::PatchPerl 1.30
  Built under darwin
  Compiled at Apr 20 2015 10:10:59
  %ENV:
    PERL5LIB="/Users/hornenj/.cpan/build/Devel-PartialDump-0.20-1/blib/arch:/Users/hornenj/.cpan/build/Devel-PartialDump-0.20-1/blib/lib:/Users/hornenj/.cpan/build/MooseX-Types-Common-0.001014-2/blib/arch:/Users/hornenj/.cpan/build/MooseX-Types-Common-0.001014-2/blib/lib:/Users/hornenj/.cpan/build/File-ChangeNotify-0.27-1/blib/arch:/Users/hornenj/.cpan/build/File-ChangeNotify-0.27-1/blib/lib:/Users/hornenj/.cpan/build/Test-MockModule-0.13-2/blib/arch:/Users/hornenj/.cpan/build/Test-MockModule-0.13-2/blib/lib:/Users/hornenj/.cpan/build/SUPER-1.20141117-2/blib/arch:/Users/hornenj/.cpan/build/SUPER-1.20141117-2/blib/lib:/Users/hornenj/.cpan/build/Net-Stomp-0.57-1/blib/arch:/Users/hornenj/.cpan/build/Net-Stomp-0.57-1/blib/lib:/Users/hornenj/.cpan/build/Method-Signatures-Simple-1.07-1/blib/arch:/Users/hornenj/.cpan/build/Method-Signatures-Simple-1.07-1/blib/lib:/Users/hornenj/.cpan/build/Devel-Declare-0.006019-1/blib/arch:/Users/hornenj/.cpan/build/Devel-Declare-0.006019-1/blib/lib"
    PERL5OPT=""
    PERL5_CPANPLUS_IS_RUNNING="6992"
    PERL5_CPAN_IS_RUNNING="6992"
    PERL5_MINISMOKEBOX="0.68"
    PERLBREW_BASHRC_VERSION="0.80"
    PERLBREW_HOME="/Users/hornenj/.perlbrew"
    PERLBREW_LIB=""
    PERLBREW_MANPATH="/Users/hornenj/perl5/perlbrew/perls/perl-5.14.3/man"
    PERLBREW_PATH="/Users/hornenj/perl5/perlbrew/bin:/Users/hornenj/perl5/perlbrew/perls/perl-5.14.3/bin"
    PERLBREW_PERL="perl-5.14.3"
    PERLBREW_ROOT="/Users/hornenj/perl5/perlbrew"
    PERLBREW_VERSION="0.80"
    PERL_CPAN_REPORTER_DIR=""
    PERL_EXTUTILS_AUTOINSTALL="--defaultdeps"
    PERL_LOCAL_LIB_ROOT=""
    PERL_MM_USE_DEFAULT="1"
  @INC:
    /Users/hornenj/.cpan/build/Devel-PartialDump-0.20-1/blib/arch
    /Users/hornenj/.cpan/build/Devel-PartialDump-0.20-1/blib/lib
    /Users/hornenj/.cpan/build/MooseX-Types-Common-0.001014-2/blib/arch
    /Users/hornenj/.cpan/build/MooseX-Types-Common-0.001014-2/blib/lib
    /Users/hornenj/.cpan/build/File-ChangeNotify-0.27-1/blib/arch
    /Users/hornenj/.cpan/build/File-ChangeNotify-0.27-1/blib/lib
    /Users/hornenj/.cpan/build/Test-MockModule-0.13-2/blib/arch
    /Users/hornenj/.cpan/build/Test-MockModule-0.13-2/blib/lib
    /Users/hornenj/.cpan/build/SUPER-1.20141117-2/blib/arch
    /Users/hornenj/.cpan/build/SUPER-1.20141117-2/blib/lib
    /Users/hornenj/.cpan/build/Net-Stomp-0.57-1/blib/arch
    /Users/hornenj/.cpan/build/Net-Stomp-0.57-1/blib/lib
    /Users/hornenj/.cpan/build/Method-Signatures-Simple-1.07-1/blib/arch
    /Users/hornenj/.cpan/build/Method-Signatures-Simple-1.07-1/blib/lib
    /Users/hornenj/.cpan/build/Devel-Declare-0.006019-1/blib/arch
    /Users/hornenj/.cpan/build/Devel-Declare-0.006019-1/blib/lib
    /Users/hornenj/perl5/perlbrew/perls/perl-5.14.3/lib/site_perl/5.14.3/darwin-thread-multi-2level
    /Users/hornenj/perl5/perlbrew/perls/perl-5.14.3/lib/site_perl/5.14.3
    /Users/hornenj/perl5/perlbrew/perls/perl-5.14.3/lib/5.14.3/darwin-thread-multi-2level
    /Users/hornenj/perl5/perlbrew/perls/perl-5.14.3/lib/5.14.3
    .