HTML-Rebase v0.05 Perl 5 v5.24.1 x86_64-linux-thread-multi

Status
Pass
From
David Cantrell (DCANTRELL)
Dist
HTML-Rebase v0.05
Platform
Perl 5 v5.24.1 x86_64-linux-thread-multi
Date
2018-12-03 16:42:11
ID
619bd45a-f71a-11e8-b598-e6f07247484a
This distribution has been tested as part of the CPAN Testers
project, supporting the Perl programming language.  See
http://wiki.cpantesters.org/ for more information or email
questions to cpan-testers-discuss@perl.org


--
Dear Max Maischein,

This is a computer-generated report for HTML-Rebase-0.05
on perl 5.24.1, created by CPAN-Reporter-1.2018.

Thank you for uploading your work to CPAN.  Congratulations!
All tests were successful.

Sections of this report:

    * Tester comments
    * Program output
    * Prerequisites
    * Environment and other context

------------------------------
TESTER COMMENTS
------------------------------

Additional comments from tester:

this report is from an automated smoke testing program
and was not reviewed by a human for accuracy

------------------------------
PROGRAM OUTPUT
------------------------------

Output from '/usr/bin/make test':

PERL_DL_NONLAZY=1 "/home/david/cpantesting/perl-5.24.1/bin/perl" "-MExtUtils::Command::MM" "-MTest::Harness" "-e" "undef *Test::Harness::Switches; test_harness(0, 'blib/lib', 'blib/arch')" t/00-load.t t/01-synopsis.t t/02-quotes.t t/03-base.t t/04-case.t t/05-rebase-css.t t/06-relative-url.t
# Testing HTML::Rebase 0.05, Perl 5.024001
# Carp 1.40
# Config 5.024001
# Cwd 3.6301
# DirHandle 1.04
# DynaLoader 1.38
# Encode 2.80_01
# Encode::Alias 2.20
# Encode::Config 2.05
# Encode::Encoding 2.07
# Exporter 5.72
# Exporter::Heavy 5.72
# ExtUtils::Liblist 7.10_02
# ExtUtils::Liblist::Kid 7.10_02
# ExtUtils::MM 7.10_02
# ExtUtils::MM_Any 7.10_02
# ExtUtils::MM_Unix 7.1002
# ExtUtils::MY 7.10_02
# ExtUtils::MakeMaker 7.1002
# ExtUtils::MakeMaker::Config 7.10_02
# ExtUtils::MakeMaker::Locale 7.10
# ExtUtils::MakeMaker::version 7.10_01
# Fcntl 1.13
# File::Basename 2.85
# File::Glob 1.26
# File::Path 2.1201
# File::Spec 3.6301
# File::Spec::Unix 3.6301
# HTML::Rebase 0.05
# I18N::Langinfo 0.13
# List::Util 1.5
# POSIX 1.65
# PerlIO 1.09
# Scalar::Util 1.5
# Symbol 1.07
# Test::Builder 1.302141
# Test::Builder::Formatter 1.302141
# Test::Builder::Module 1.302141
# Test::Builder::TodoDiag 1.302141
# Test::More 1.302141
# Test2::API 1.302141
# Test2::API::Context 1.302141
# Test2::API::Instance 1.302141
# Test2::API::Stack 1.302141
# Test2::Event 1.302141
# Test2::Event::Bail 1.302141
# Test2::Event::Diag 1.302141
# Test2::Event::Exception 1.302141
# Test2::Event::Fail 1.302141
# Test2::Event::Note 1.302141
# Test2::Event::Ok 1.302141
# Test2::Event::Pass 1.302141
# Test2::Event::Plan 1.302141
# Test2::Event::Skip 1.302141
# Test2::Event::Subtest 1.302141
# Test2::Event::V2 1.302141
# Test2::Event::Waiting 1.302141
# Test2::EventFacet 1.302141
# Test2::EventFacet::About 1.302141
# Test2::EventFacet::Amnesty 1.302141
# Test2::EventFacet::Assert 1.302141
# Test2::EventFacet::Control 1.302141
# Test2::EventFacet::Error 1.302141
# Test2::EventFacet::Hub 1.302141
# Test2::EventFacet::Info 1.302141
# Test2::EventFacet::Meta 1.302141
# Test2::EventFacet::Parent 1.302141
# Test2::EventFacet::Plan 1.302141
# Test2::EventFacet::Trace 1.302141
# Test2::Formatter 1.302141
# Test2::Formatter::TAP 1.302141
# Test2::Hub 1.302141
# Test2::Hub::Interceptor 1.302141
# Test2::Hub::Interceptor::Terminator 1.302141
# Test2::Hub::Subtest 1.302141
# Test2::Util 1.302141
# Test2::Util::ExternalMeta 1.302141
# Test2::Util::Facets2Legacy 1.302141
# Test2::Util::HashBase 1.302141
# Test2::Util::Trace 1.302141
# Tie::Hash 1.05
# URI 1.71
# URI::Escape 3.31
# URI::URL 5.04
# URI::WithBase 2.20
# XSLoader 0.22
# base 2.23
# bytes 1.05
# constant 1.33
# mro 1.18
# overload 1.26
# overloading 0.02
# parent 0.234
# re 0.32
# strict 1.11
# vars 1.03
# version 0.9916
# version::regex 0.9916
# warnings 1.36
# warnings::register 1.04
t/00-load.t .......... ok
t/01-synopsis.t ...... ok
t/02-quotes.t ........ ok
t/03-base.t .......... ok
t/04-case.t .......... ok
t/05-rebase-css.t .... ok
t/06-relative-url.t .. ok
All tests successful.
Files=7, Tests=12,  3 wallclock secs ( 0.03 usr  0.02 sys +  0.38 cusr  0.05 csys =  0.48 CPU)
Result: PASS

------------------------------
PREREQUISITES
------------------------------

Prerequisite modules loaded:

requires:

    Module              Need  Have    
    ------------------- ----- --------
    Carp                0     1.40    
    Exporter            5     5.72    
    perl                5.006 5.024001
    URI::URL            0     5.04    
    URI::WithBase       0     2.20    

build_requires:

    Module              Need  Have    
    ------------------- ----- --------
    ExtUtils::MakeMaker 0     7.10_02 
    Test::More          0     1.302141

configure_requires:

    Module              Need  Have    
    ------------------- ----- --------
    ExtUtils::MakeMaker 0     7.10_02 


------------------------------
ENVIRONMENT AND OTHER CONTEXT
------------------------------

Environment variables:

    AUTOMATED_TESTING = 1
    NONINTERACTIVE_TESTING = 1
    PATH = /usr/local/bin:/usr/bin:/bin:/usr/local/games:/usr/games
    PERL = 5.24.1
    PERL5LIB = 
    PERL5OPT = 
    PERL5_CPANPLUS_IS_RUNNING = 13081
    PERL5_CPAN_IS_RUNNING = 13081
    PERLVER = 5.24.1
    PERL_INLINE_DIRECTORY = /home/david/.Inline-5.24.1
    PERL_MM_USE_DEFAULT = 1
    PERL_USE_UNSAFE_INC = 0
    SHELL = /bin/bash
    TERM = screen

Perl special variables (and OS-specific diagnostics, for MSWin32):

    $^X = /home/david/cpantesting/perl-5.24.1/bin/perl
    $UID/$EUID = 1000 / 1000
    $GID = 1000 1000
    $EGID = 1000 1000

Perl module toolchain versions installed:

    Module              Have      
    ------------------- ----------
    CPAN                2.11_01   
    CPAN::Meta          2.150005  
    Cwd                 3.63_01   
    ExtUtils::CBuilder  0.280225  
    ExtUtils::Command   7.10_02   
    ExtUtils::Install   2.04      
    ExtUtils::MakeMaker 7.10_02   
    ExtUtils::Manifest  1.70      
    ExtUtils::ParseXS   3.31      
    File::Spec          3.63_01   
    JSON                2.97001   
    JSON::PP            2.27300_01
    Module::Build       0.4224    
    Module::Signature   n/a       
    Parse::CPAN::Meta   1.4417_001
    Test::Harness       3.36_01   
    Test::More          1.302141  
    YAML                n/a       
    YAML::Syck          n/a       
    version             0.9916    


--

Summary of my perl5 (revision 5 version 24 subversion 1) configuration:
   
  Platform:
    osname=linux, osvers=3.16.0-4-amd64, archname=x86_64-linux-thread-multi
    uname='linux pigsty.barnyard.co.uk 3.16.0-4-amd64 #1 smp debian 3.16.36-1+deb8u1 (2016-09-03) x86_64 gnulinux '
    config_args='-de -Duse64bitall -Dusethreads -Dprefix=/home/david/cpantesting/perl-5.24.1'
    hint=recommended, useposix=true, d_sigaction=define
    useithreads=define, usemultiplicity=define
    use64bitint=define, use64bitall=define, uselongdouble=undef
    usemymalloc=n, bincompat5005=undef
  Compiler:
    cc='cc', ccflags ='-D_REENTRANT -D_GNU_SOURCE -fwrapv -fno-strict-aliasing -pipe -fstack-protector-strong -I/usr/local/include -D_LARGEFILE_SOURCE -D_FILE_OFFSET_BITS=64 -D_FORTIFY_SOURCE=2',
    optimize='-O2',
    cppflags='-D_REENTRANT -D_GNU_SOURCE -fwrapv -fno-strict-aliasing -pipe -fstack-protector-strong -I/usr/local/include'
    ccversion='', gccversion='4.9.2', gccosandvers=''
    intsize=4, longsize=8, ptrsize=8, doublesize=8, byteorder=12345678, doublekind=3
    d_longlong=define, longlongsize=8, d_longdbl=define, longdblsize=16, longdblkind=3
    ivtype='long', ivsize=8, nvtype='double', nvsize=8, Off_t='off_t', lseeksize=8
    alignbytes=8, prototype=define
  Linker and Libraries:
    ld='cc', ldflags =' -fstack-protector-strong -L/usr/local/lib'
    libpth=/usr/local/lib /usr/lib/gcc/x86_64-linux-gnu/4.9/include-fixed /usr/include/x86_64-linux-gnu /usr/lib /lib/x86_64-linux-gnu /lib/../lib /usr/lib/x86_64-linux-gnu /usr/lib/../lib /lib
    libs=-lpthread -lnsl -ldb -ldl -lm -lcrypt -lutil -lc
    perllibs=-lpthread -lnsl -ldl -lm -lcrypt -lutil -lc
    libc=libc-2.19.so, so=so, useshrplib=false, libperl=libperl.a
    gnulibc_version='2.19'
  Dynamic Linking:
    dlsrc=dl_dlopen.xs, dlext=so, d_dlsymun=undef, ccdlflags='-Wl,-E'
    cccdlflags='-fPIC', lddlflags='-shared -O2 -L/usr/local/lib -fstack-protector-strong'


Characteristics of this binary (from libperl): 
  Compile-time options: HAS_TIMES MULTIPLICITY PERLIO_LAYERS
                        PERL_COPY_ON_WRITE PERL_DONT_CREATE_GVSV
                        PERL_HASH_FUNC_ONE_AT_A_TIME_HARD
                        PERL_IMPLICIT_CONTEXT PERL_MALLOC_WRAP
                        PERL_PRESERVE_IVUV USE_64_BIT_ALL USE_64_BIT_INT
                        USE_ITHREADS USE_LARGE_FILES USE_LOCALE
                        USE_LOCALE_COLLATE USE_LOCALE_CTYPE
                        USE_LOCALE_NUMERIC USE_LOCALE_TIME USE_PERLIO
                        USE_PERL_ATOF USE_REENTRANT_API
  Built under linux
  Compiled at Jan 17 2017 16:38:59
  %ENV:
    PERL="5.24.1"
    PERL5LIB=""
    PERL5OPT=""
    PERL5_CPANPLUS_IS_RUNNING="13081"
    PERL5_CPAN_IS_RUNNING="13081"
    PERLVER="5.24.1"
    PERL_INLINE_DIRECTORY="/home/david/.Inline-5.24.1"
    PERL_MM_USE_DEFAULT="1"
    PERL_USE_UNSAFE_INC="0"
  @INC:
    /home/david/cpantesting/perl-5.24.1/lib/site_perl/5.24.1/x86_64-linux-thread-multi
    /home/david/cpantesting/perl-5.24.1/lib/site_perl/5.24.1
    /home/david/cpantesting/perl-5.24.1/lib/5.24.1/x86_64-linux-thread-multi
    /home/david/cpantesting/perl-5.24.1/lib/5.24.1
    .