Back
From: metabase:user:315f03b2-2aae-11df-837a-5e0a49663a4f
Subject: PASS Test-DataDriven-0.03 v5.12.1 OpenBSD
Date: 2010-09-15T14:56:12Z
This distribution has been tested as part of the CPAN Testers
project, supporting the Perl programming language. See
http://wiki.cpantesters.org/ for more information or email
questions to cpan-testers-discuss@perl.org
--
Dear Mattia Barbon,
This is a computer-generated report for Test-DataDriven-0.03
on perl 5.12.1, created by CPAN-Reporter-1.1711.
Thank you for uploading your work to CPAN. Congratulations!
All tests were successful.
Sections of this report:
* Tester comments
* Program output
* Prerequisites
* Environment and other context
------------------------------
TESTER COMMENTS
------------------------------
Additional comments from tester:
this report is from an automated smoke testing program
and was not reviewed by a human for accuracy
------------------------------
PROGRAM OUTPUT
------------------------------
Output from '/usr/bin/make test':
/usr/local/perl-5.12.1-threads/bin/perl Build --makefile_env_macros 1 test
t/001_load.t .........
1..2
ok 1 - require Test::DataDriven;
ok 2 - require Test::DataDriven::Plugin;
ok
t/a01_run.t ..........
1..5
ok 1
ok 2
ok 3
ok 4
ok 5
ok
t/a02_prepost.t ......
1..1
ok 1 - Run more actions (2) - end - created
ok
t/a03_create.t .......
1..1
ok 1
ok
t/a04_filters.t ......
1..3
ok 1 - Normal filters in plugins - end - filtered
ok 2 - Normal filters in plugins (2) - end - filtered
ok 3 - Per-block/action filters - end - filtered
ok
t/b01_plugin.t .......
1..1
ok 1 - Run some actions - end - created
ok
t/b02_stop.t .........
1..1
ok 1 - Run some actions - end - created
ok
t/b03_nouse.t ........
1..1
ok 1 - Dummy test - end - created
ok
t/zy_pod_coverage.t .. skipped: Test::Pod::Coverage 1.00 required for testing POD coverage
t/zz_pod.t ........... skipped: Test::Pod 1.00 required for testing POD
All tests successful.
Files=10, Tests=15, 5 wallclock secs ( 0.20 usr 0.09 sys + 4.01 cusr 0.61 csys = 4.91 CPU)
Result: PASS
------------------------------
PREREQUISITES
------------------------------
Prerequisite modules loaded:
requires:
Module Need Have
----------------- ---- -------
Class::Spiffy 0.12 0.15
File::Slurp 0 9999.13
Test::Base 0 0.59
Test::Differences 0 0.500
Test::More 0 0.94
------------------------------
ENVIRONMENT AND OTHER CONTEXT
------------------------------
Environment variables:
AUTOMATED_TESTING = 1
PATH = /usr/bin:/bin:/usr/sbin:/sbin:/usr/X11R6/bin:/usr/local/bin
PERL5LIB = /home/smoke/.cpan/build/Class-Spiffy-0.15-2wm_rK/blib/arch:/home/smoke/.cpan/build/Class-Spiffy-0.15-2wm_rK/blib/lib:/home/smoke/.cpan/build/File-Slurp-9999.13-ickJCM/blib/arch:/home/smoke/.cpan/build/File-Slurp-9999.13-ickJCM/blib/lib:/home/smoke/.cpan/build/Test-Differences-0.500-8fDMeG/blib/arch:/home/smoke/.cpan/build/Test-Differences-0.500-8fDMeG/blib/lib:/home/smoke/.cpan/build/Text-Diff-1.37-NfItt2/blib/arch:/home/smoke/.cpan/build/Text-Diff-1.37-NfItt2/blib/lib:/home/smoke/.cpan/build/Algorithm-Diff-1.1902-ZeaDqq/blib/arch:/home/smoke/.cpan/build/Algorithm-Diff-1.1902-ZeaDqq/blib/lib:/home/smoke/.cpan/build/Test-Base-0.59-VoS7iZ/blib/arch:/home/smoke/.cpan/build/Test-Base-0.59-VoS7iZ/blib/lib:/home/smoke/.cpan/build/Spiffy-0.30-tURGkC/blib/arch:/home/smoke/.cpan/build/Spiffy-0.30-tURGkC/blib/lib
PERL5OPT =
PERL5_CPANPLUS_IS_RUNNING = 7700
PERL5_CPAN_IS_RUNNING = 7700
PERL5_CPAN_IS_RUNNING_IN_RECURSION = 1421,7700
PERL_CR_SMOKER_CURRENT = Test-DataDriven-0.03
PERL_EXTUTILS_AUTOINSTALL = --defaultdeps
PERL_MM_USE_DEFAULT = 1
SHELL = /usr/local/bin/bash
TERM = screen
Perl special variables (and OS-specific diagnostics, for MSWin32):
$^X = /usr/local/perl-5.12.1-threads/bin/perl
$UID/$EUID = 1002 / 1002
$GID = 1002 1002
$EGID = 1002 1002
Perl module toolchain versions installed:
Module Have
------------------- -------
CPAN 1.94_56
Cwd 3.31
ExtUtils::CBuilder 0.27
ExtUtils::Command 1.16
ExtUtils::Install 1.55
ExtUtils::MakeMaker 6.56
ExtUtils::Manifest 1.57
ExtUtils::ParseXS 2.21
File::Spec 3.31
Module::Build 0.3603
Module::Signature n/a
Test::Harness 3.17
Test::More 0.94
YAML n/a
YAML::Syck n/a
version 0.82
--
Summary of my perl5 (revision 5 version 12 subversion 1) configuration:
Platform:
osname=openbsd, osvers=4.5, archname=OpenBSD.i386-openbsd-thread-multi
uname='openbsd minimunch.int.zeroclue.org 4.5 generic#1749 i386 '
config_args=''
hint=recommended, useposix=true, d_sigaction=define
useithreads=define, usemultiplicity=define
useperlio=define, d_sfio=undef, uselargefiles=define, usesocks=undef
use64bitint=undef, use64bitall=undef, uselongdouble=undef
usemymalloc=n, bincompat5005=undef
Compiler:
cc='cc', ccflags ='-pthread -fno-strict-aliasing -pipe -fstack-protector -I/usr/local/include',
optimize='-O2',
cppflags='-pthread -fno-strict-aliasing -pipe -fstack-protector -I/usr/local/include'
ccversion='', gccversion='3.3.5 (propolice)', gccosandvers='openbsd4.5'
intsize=4, longsize=4, ptrsize=4, doublesize=8, byteorder=1234
d_longlong=define, longlongsize=8, d_longdbl=define, longdblsize=12
ivtype='long', ivsize=4, nvtype='double', nvsize=8, Off_t='off_t', lseeksize=8
alignbytes=4, prototype=define
Linker and Libraries:
ld='cc', ldflags ='-pthread -Wl,-E -fstack-protector -L/usr/local/lib'
libpth=/usr/local/lib /usr/lib
libs=-lgdbm -lm -lutil -lc
perllibs=-lm -lutil -lc
libc=/usr/lib/libc.so.50.1, so=so, useshrplib=false, libperl=libperl.a
gnulibc_version=''
Dynamic Linking:
dlsrc=dl_dlopen.xs, dlext=so, d_dlsymun=undef, ccdlflags=' '
cccdlflags='-DPIC -fPIC ', lddlflags='-shared -fPIC -L/usr/local/lib -fstack-protector'
Characteristics of this binary (from libperl):
Compile-time options: MULTIPLICITY PERL_DONT_CREATE_GVSV
PERL_IMPLICIT_CONTEXT PERL_MALLOC_WRAP USE_ITHREADS
USE_LARGE_FILES USE_PERLIO USE_PERL_ATOF
USE_REENTRANT_API
Built under openbsd
Compiled at Jul 10 2010 15:48:57
%ENV:
PERL5LIB="/home/smoke/.cpan/build/Class-Spiffy-0.15-2wm_rK/blib/arch:/home/smoke/.cpan/build/Class-Spiffy-0.15-2wm_rK/blib/lib:/home/smoke/.cpan/build/File-Slurp-9999.13-ickJCM/blib/arch:/home/smoke/.cpan/build/File-Slurp-9999.13-ickJCM/blib/lib:/home/smoke/.cpan/build/Test-Differences-0.500-8fDMeG/blib/arch:/home/smoke/.cpan/build/Test-Differences-0.500-8fDMeG/blib/lib:/home/smoke/.cpan/build/Text-Diff-1.37-NfItt2/blib/arch:/home/smoke/.cpan/build/Text-Diff-1.37-NfItt2/blib/lib:/home/smoke/.cpan/build/Algorithm-Diff-1.1902-ZeaDqq/blib/arch:/home/smoke/.cpan/build/Algorithm-Diff-1.1902-ZeaDqq/blib/lib:/home/smoke/.cpan/build/Test-Base-0.59-VoS7iZ/blib/arch:/home/smoke/.cpan/build/Test-Base-0.59-VoS7iZ/blib/lib:/home/smoke/.cpan/build/Spiffy-0.30-tURGkC/blib/arch:/home/smoke/.cpan/build/Spiffy-0.30-tURGkC/blib/lib"
PERL5OPT=""
PERL5_CPANPLUS_IS_RUNNING="7700"
PERL5_CPAN_IS_RUNNING="7700"
PERL5_CPAN_IS_RUNNING_IN_RECURSION="1421,7700"
PERL_CR_SMOKER_CURRENT="Test-DataDriven-0.03"
PERL_EXTUTILS_AUTOINSTALL="--defaultdeps"
PERL_MM_USE_DEFAULT="1"
@INC:
/home/smoke/.cpan/build/Class-Spiffy-0.15-2wm_rK/blib/arch
/home/smoke/.cpan/build/Class-Spiffy-0.15-2wm_rK/blib/lib
/home/smoke/.cpan/build/File-Slurp-9999.13-ickJCM/blib/arch
/home/smoke/.cpan/build/File-Slurp-9999.13-ickJCM/blib/lib
/home/smoke/.cpan/build/Test-Differences-0.500-8fDMeG/blib/arch
/home/smoke/.cpan/build/Test-Differences-0.500-8fDMeG/blib/lib
/home/smoke/.cpan/build/Text-Diff-1.37-NfItt2/blib/arch
/home/smoke/.cpan/build/Text-Diff-1.37-NfItt2/blib/lib
/home/smoke/.cpan/build/Algorithm-Diff-1.1902-ZeaDqq/blib/arch
/home/smoke/.cpan/build/Algorithm-Diff-1.1902-ZeaDqq/blib/lib
/home/smoke/.cpan/build/Test-Base-0.59-VoS7iZ/blib/arch
/home/smoke/.cpan/build/Test-Base-0.59-VoS7iZ/blib/lib
/home/smoke/.cpan/build/Spiffy-0.30-tURGkC/blib/arch
/home/smoke/.cpan/build/Spiffy-0.30-tURGkC/blib/lib
/usr/local/perl-5.12.1-threads/lib/site_perl/5.12.1/OpenBSD.i386-openbsd-thread-multi
/usr/local/perl-5.12.1-threads/lib/site_perl/5.12.1
/usr/local/perl-5.12.1-threads/lib/5.12.1/OpenBSD.i386-openbsd-thread-multi
/usr/local/perl-5.12.1-threads/lib/5.12.1
.