libwww-perl v6.78 Perl 5 v5.40.1 amd64-netbsd
- Status
- Pass
- From
- Roland van Ipenburg (IPENBURG)
- Dist
-
libwww-perl v6.78
- Platform
- Perl 5 v5.40.1 amd64-netbsd
- Date
- 2025-04-07 21:58:04
- ID
- 61b22c0a-13fb-11f0-8f1c-9fb03eab57e2
This distribution has been tested as part of the CPAN Testers
project, supporting the Perl programming language. See
http://wiki.cpantesters.org/ for more information or email
questions to cpan-testers-discuss@perl.org
--
Dear Olaf Alders,
This is a computer-generated report for libwww-perl-6.78
on perl 5.40.1, created by CPAN-Reporter-1.2020.
Thank you for uploading your work to CPAN. Congratulations!
All tests were successful.
Sections of this report:
* Tester comments
* Program output
* Prerequisites
* Environment and other context
------------------------------
TESTER COMMENTS
------------------------------
Additional comments from tester:
none provided
------------------------------
PROGRAM OUTPUT
------------------------------
Output from '/usr/bin/make test':
PERL_DL_NONLAZY=1 "/usr/local/bin/perl" "-MExtUtils::Command::MM" "-MTest::Harness" "-e" "undef *Test::Harness::Switches; test_harness(0, 'blib/lib', 'blib/arch')" t/*.t t/base/*.t t/base/protocols/*.t t/leak/*.t t/local/*.t t/robot/*.t
#
# Versions for all modules listed in MYMETA.json (including optional ones):
#
# === Configure Requires ===
#
# Module Want Have
# ------------------- ---- ----
# ExtUtils::MakeMaker any 7.72
# File::Copy any 2.41
# Getopt::Long any 2.58
#
# === Configure Suggests ===
#
# Module Want Have
# -------- ------- ----
# JSON::PP 2.27300 4.16
#
# === Build Requires ===
#
# Module Want Have
# ------------------- ---- ----
# ExtUtils::MakeMaker any 7.72
#
# === Test Requires ===
#
# Module Want Have
# ---------------------- ---- --------
# ExtUtils::MakeMaker any 7.72
# File::Spec any 3.91
# FindBin any 1.54
# HTTP::CookieJar::LWP any 0.014
# HTTP::Daemon 6.12 6.16
# Test::Fatal any 0.017
# Test::More 0.96 1.302199
# Test::Needs any 0.002010
# Test::RequiresInternet any 0.05
#
# === Test Recommends ===
#
# Module Want Have
# --------------- -------- --------
# CPAN::Meta 2.120900 2.150010
# Test::LeakTrace any 0.17
#
# === Runtime Requires ===
#
# Module Want Have
# --------------------- -------- --------
# Digest::MD5 any 2.59
# Encode 2.12 3.21
# Encode::Locale any 1.05
# File::Copy any 2.41
# File::Listing 6 6.16
# File::Temp any 0.2311
# Getopt::Long any 2.58
# HTML::Entities any 3.83
# HTML::HeadParser 3.71 3.83
# HTTP::Cookies 6 6.11
# HTTP::Date 6 6.06
# HTTP::Negotiate 6 6.01
# HTTP::Request 6.18 7.00
# HTTP::Request::Common 6.18 7.00
# HTTP::Response 6.18 7.00
# HTTP::Status 6.18 7.00
# IO::Select any 1.55
# IO::Socket any 1.55
# LWP::MediaTypes 6 6.04
# MIME::Base64 2.1 3.16_01
# Module::Load any 0.36
# Net::FTP 2.58 3.15
# Net::HTTP 6.18 6.23
# Scalar::Util any 1.63
# Try::Tiny any 0.32
# URI 1.10 5.31
# URI::Escape any 5.31
# WWW::RobotRules 6 6.02
# parent 0.217 0.241
# perl 5.008001 5.040001
# strict any 1.13
# warnings any 1.70
#
# === Runtime Suggests ===
#
# Module Want Have
# -------------------- ---- -------
# Authen::NTLM 1.02 missing
# Data::Dump 1.13 1.25
# IO::Socket::INET any 1.55
# LWP::Protocol::https 6.02 missing
#
t/00-report-prereqs.t .......... ok
t/10-attrs.t ................... ok
t/base/default_content_type.t .. ok
t/base/protocols.t ............. ok
t/base/protocols/nntp.t ........ skipped: nntp.perl.org is unstable and Test::RequiresInternet is not catching it
t/base/proxy.t ................. ok
t/base/proxy_request.t ......... ok
t/base/simple.t ................ ok
t/base/ua.t .................... ok
t/base/ua_handlers.t ........... ok
t/leak/no_leak.t ............... ok
t/local/autoload-get.t ......... ok
t/local/autoload.t ............. ok
t/local/cookie_jar.t ........... ok
t/local/download_to_fh.t ....... ok
t/local/get.t .................. ok
t/local/http.t ................. ok
t/local/httpsub.t .............. ok
t/local/protosub.t ............. ok
t/redirect.t ................... ok
t/robot/ua-get.t ............... ok
t/robot/ua.t ................... ok
All tests successful.
Files=22, Tests=317, 30 wallclock secs ( 0.05 usr 0.06 sys + 2.31 cusr 0.78 csys = 3.20 CPU)
Result: PASS
------------------------------
PREREQUISITES
------------------------------
Prerequisite modules loaded:
requires:
Module Need Have
---------------------- -------- --------
Digest::MD5 0 2.59
Encode 2.12 3.21
Encode::Locale 0 1.05
File::Copy 0 2.41
File::Listing 6 6.16
File::Temp 0 0.2311
Getopt::Long 0 2.58
HTML::Entities 0 3.83
HTML::HeadParser 3.71 3.83
HTTP::Cookies 6 6.11
HTTP::Date 6 6.06
HTTP::Negotiate 6 6.01
HTTP::Request 6.18 7.00
HTTP::Request::Common 6.18 7.00
HTTP::Response 6.18 7.00
HTTP::Status 6.18 7.00
IO::Select 0 1.55
IO::Socket 0 1.55
LWP::MediaTypes 6 6.04
MIME::Base64 2.1 3.16_01
Module::Load 0 0.36
Net::FTP 2.58 3.15
Net::HTTP 6.18 6.23
parent 0.217 0.241
perl 5.008001 5.040001
Scalar::Util 0 1.63
strict 0 1.13
Try::Tiny 0 0.32
URI 1.10 5.31
URI::Escape 0 5.31
warnings 0 1.70
WWW::RobotRules 6 6.02
build_requires:
Module Need Have
---------------------- -------- --------
ExtUtils::MakeMaker 0 7.72
File::Spec 0 3.91
FindBin 0 1.54
HTTP::CookieJar::LWP 0 0.014
HTTP::Daemon 6.12 6.16
Test::Fatal 0 0.017
Test::More 0.96 1.302199
Test::Needs 0 0.002010
Test::RequiresInternet 0 0.05
configure_requires:
Module Need Have
---------------------- -------- --------
ExtUtils::MakeMaker 0 7.72
File::Copy 0 2.41
Getopt::Long 0 2.58
------------------------------
ENVIRONMENT AND OTHER CONTEXT
------------------------------
Environment variables:
NONINTERACTIVE_TESTING = 1
PATH = /home/roland/bin:/bin:/sbin:/usr/bin:/usr/sbin:/usr/X11R7/bin:/usr/pkg/bin:/usr/pkg/sbin:/usr/games:/usr/local/bin:/usr/local/sbin
PERL5LIB = /home/roland/.cpan/build/WWW-RobotRules-6.02-6/blib/arch:/home/roland/.cpan/build/WWW-RobotRules-6.02-6/blib/lib:/home/roland/.cpan/build/Test-RequiresInternet-0.05-6/blib/arch:/home/roland/.cpan/build/Test-RequiresInternet-0.05-6/blib/lib
PERL5OPT =
PERL5_CPANPLUS_IS_RUNNING = 25039
PERL5_CPAN_IS_RUNNING = 25039
PERL_MM_USE_DEFAULT = 1
PERL_USE_UNSAFE_INC = 1
SHELL = /bin/sh
TERM = screen.xterm-256color
Perl special variables (and OS-specific diagnostics, for MSWin32):
$^X = /usr/local/bin/perl
$UID/$EUID = 1000 / 1000
$GID = 100 100 0
$EGID = 100 100 0
Perl module toolchain versions installed:
Module Have
------------------- --------
CPAN 2.38
CPAN::Meta 2.150010
Cwd 3.91
ExtUtils::CBuilder 0.280240
ExtUtils::Command 7.72
ExtUtils::Install 2.22
ExtUtils::MakeMaker 7.72
ExtUtils::Manifest 1.75
ExtUtils::ParseXS 3.51
File::Spec 3.91
JSON 4.10
JSON::PP 4.16
Module::Build 0.4234
Module::Signature n/a
Parse::CPAN::Meta 2.150010
Test2 1.302199
Test::Harness 3.48
Test::More 1.302199
YAML n/a
YAML::Syck n/a
version 0.9930
--
Summary of my perl5 (revision 5 version 40 subversion 1) configuration:
Platform:
osname=netbsd
osvers=9.3
archname=amd64-netbsd
uname='netbsd netbsd 9.3 netbsd 9.3 (generic) #0: thu aug 4 15:30:37 utc 2022 mkrepro@mkrepro.netbsd.org:usrsrcsysarchamd64compilegeneric amd64 '
config_args='-des -Dinc_version_list=none'
hint=previous
useposix=true
d_sigaction=define
useithreads=undef
usemultiplicity=undef
use64bitint=define
use64bitall=define
uselongdouble=undef
usemymalloc=n
default_inc_excludes_dot=define
Compiler:
cc='cc'
ccflags ='-fwrapv -fno-strict-aliasing -pipe -fstack-protector-strong -I/usr/pkg/include -D_FORTIFY_SOURCE=2'
optimize='-O'
cppflags='-fwrapv -fno-strict-aliasing -pipe -fstack-protector-strong -I/usr/pkg/include'
ccversion=''
gccversion='7.5.0'
gccosandvers=''
intsize=4
longsize=8
ptrsize=8
doublesize=8
byteorder=12345678
doublekind=3
d_longlong=define
longlongsize=8
d_longdbl=define
longdblsize=16
longdblkind=3
ivtype='long'
ivsize=8
nvtype='double'
nvsize=8
Off_t='off_t'
lseeksize=8
alignbytes=8
prototype=define
Linker and Libraries:
ld='cc'
ldflags =' -Wl,-rpath,/usr/pkg/lib -Wl,-rpath,/usr/local/lib -fstack-protector-strong -L/usr/pkg/lib -L/usr/local/lib'
libpth=/usr/lib /usr/pkg/lib /lib /usr/local/lib
libs=-lpthread -lm -lcrypt -lutil -lc -lposix
perllibs=-lpthread -lm -lcrypt -lutil -lc -lposix
libc=/lib/libc.so
so=so
useshrplib=false
libperl=libperl.a
gnulibc_version=''
Dynamic Linking:
dlsrc=dl_dlopen.xs
dlext=so
d_dlsymun=undef
ccdlflags='-Wl,-E '
cccdlflags='-DPIC -fPIC '
lddlflags='-shared -L/usr/pkg/lib -fstack-protector-strong -L/usr/local/lib'
Characteristics of this binary (from libperl):
Compile-time options:
HAS_LONG_DOUBLE
HAS_STRTOLD
HAS_TIMES
PERLIO_LAYERS
PERL_COPY_ON_WRITE
PERL_DONT_CREATE_GVSV
PERL_HASH_FUNC_SIPHASH13
PERL_HASH_USE_SBOX32
PERL_MALLOC_WRAP
PERL_OP_PARENT
PERL_PRESERVE_IVUV
PERL_USE_SAFE_PUTENV
USE_64_BIT_ALL
USE_64_BIT_INT
USE_LARGE_FILES
USE_LOCALE
USE_LOCALE_COLLATE
USE_LOCALE_CTYPE
USE_LOCALE_NUMERIC
USE_LOCALE_TIME
USE_PERLIO
USE_PERL_ATOF
Built under netbsd
Compiled at Apr 4 2025 13:56:07
%ENV:
PERL5LIB="/home/roland/.cpan/build/WWW-RobotRules-6.02-6/blib/arch:/home/roland/.cpan/build/WWW-RobotRules-6.02-6/blib/lib:/home/roland/.cpan/build/Test-RequiresInternet-0.05-6/blib/arch:/home/roland/.cpan/build/Test-RequiresInternet-0.05-6/blib/lib"
PERL5OPT=""
PERL5_CPANPLUS_IS_RUNNING="25039"
PERL5_CPAN_IS_RUNNING="25039"
PERL_MM_USE_DEFAULT="1"
PERL_USE_UNSAFE_INC="1"
@INC:
/home/roland/.cpan/build/WWW-RobotRules-6.02-6/blib/arch
/home/roland/.cpan/build/WWW-RobotRules-6.02-6/blib/lib
/home/roland/.cpan/build/Test-RequiresInternet-0.05-6/blib/arch
/home/roland/.cpan/build/Test-RequiresInternet-0.05-6/blib/lib
/usr/local/lib/perl5/site_perl/5.40.1/amd64-netbsd
/usr/local/lib/perl5/site_perl/5.40.1
/usr/local/lib/perl5/5.40.1/amd64-netbsd
/usr/local/lib/perl5/5.40.1
.