DBIx-Class v0.082843 Perl 5 v5.37.10 x86_64-linux-thread-multi

Status
Pass
From
Andreas J. König (ANDK)
Dist
DBIx-Class v0.082843
Platform
Perl 5 v5.37.10 x86_64-linux-thread-multi
Date
2023-04-01 08:15:36
ID
61ce5406-d065-11ed-a02c-d3d234d7ffab
This distribution has been tested as part of the CPAN Testers
project, supporting the Perl programming language.  See
http://wiki.cpantesters.org/ for more information or email
questions to cpan-testers-discuss@perl.org


--
Dear Peter Rabbitson,

This is a computer-generated report for DBIx-Class-0.082843
on perl 5.37.10, created by CPAN-Reporter-1.2018.

Thank you for uploading your work to CPAN.  Congratulations!
All tests were successful.

Sections of this report:

    * Tester comments
    * Program output
    * Prerequisites
    * Environment and other context

------------------------------
TESTER COMMENTS
------------------------------

Additional comments from tester:

this report is from an automated smoke testing program
and was not reviewed by a human for accuracy

------------------------------
PROGRAM OUTPUT
------------------------------

Output from '/usr/bin/make test':

PERL_DL_NONLAZY=1 "/tmp/basesmoker-reloperl-ABGN/bin/perl" "-MExtUtils::Command::MM" "-MTest::Harness" "-e" "undef *Test::Harness::Switches; test_harness(0, 'inc', 'blib/lib', 'blib/arch')" t/*.t t/admin/*.t t/cdbi/*.t t/cdbi/DeepAbstractSearch/*.t t/cdbi/abstract/*.t t/cdbi/sweet/*.t t/count/*.t t/debug/*.t t/delete/*.t t/inflate/*.t t/multi_create/*.t t/ordered/*.t t/pager/*.t t/pager/data_page_compat/*.t t/prefetch/*.t t/relationship/*.t t/resultset/*.t t/resultsource/*.t t/row/*.t t/schema/*.t t/search/*.t t/sqlmaker/*.t t/sqlmaker/hierarchical/*.t t/sqlmaker/limit_dialects/*.t t/storage/*.t t/update/*.t xt/*.t

Mismatch of versions '1.1' and '1.45', obtained respectively via `Params::ValidationCompiler::Exception::Named::Extra->VERSION` and parsing the version out of <<SL>>/Exception/Class.pm with ExtUtils::MakeMaker@7.70. This should never happen - please check whether this is still present in the latest version, and then file a bug with the distribution containing Params::ValidationCompiler::Exception::Named::Extra.


Mismatch of versions '1.1' and '1.45', obtained respectively via `Params::ValidationCompiler::Exception::Named::Required->VERSION` and parsing the version out of <<SL>>/Exception/Class.pm with ExtUtils::MakeMaker@7.70. This should never happen - please check whether this is still present in the latest version, and then file a bug with the distribution containing Params::ValidationCompiler::Exception::Named::Required.


Mismatch of versions '1.1' and '1.45', obtained respectively via `Params::ValidationCompiler::Exception::Positional::Required->VERSION` and parsing the version out of <<SL>>/Exception/Class.pm with ExtUtils::MakeMaker@7.70. This should never happen - please check whether this is still present in the latest version, and then file a bug with the distribution containing Params::ValidationCompiler::Exception::Positional::Required.


Mismatch of versions '1.1' and '1.45', obtained respectively via `Params::ValidationCompiler::Exception::Positional::Extra->VERSION` and parsing the version out of <<SL>>/Exception/Class.pm with ExtUtils::MakeMaker@7.70. This should never happen - please check whether this is still present in the latest version, and then file a bug with the distribution containing Params::ValidationCompiler::Exception::Positional::Extra.


Mismatch of versions '1.1' and '1.45', obtained respectively via `Params::ValidationCompiler::Exception::ValidationFailedForMooseTypeConstraint->VERSION` and parsing the version out of <<SL>>/Exception/Class.pm with ExtUtils::MakeMaker@7.70. This should never happen - please check whether this is still present in the latest version, and then file a bug with the distribution containing Params::ValidationCompiler::Exception::ValidationFailedForMooseTypeConstraint.


Mismatch of versions '1.1' and '1.45', obtained respectively via `Params::ValidationCompiler::Exception::BadArguments->VERSION` and parsing the version out of <<SL>>/Exception/Class.pm with ExtUtils::MakeMaker@7.70. This should never happen - please check whether this is still present in the latest version, and then file a bug with the distribution containing Params::ValidationCompiler::Exception::BadArguments.

# 
# 
# List of loadable modules within both *OPTIONAL* and core dependency chains
# present on this system (modules sourced from ./blib, ./lib, ./t, and ./xt
# with versions identical to their parent namespace were omitted for brevity)
# 
#     *** Note that *MANY* of these modules will *NEVER* be loaded ***
#             *** during normal operation of DBIx::Class ***
# 
# @INC at startup (does not reflect manipulation at runtime):
#   0: ./inc/
#   1: ./blib/lib/
#   2: ./blib/arch/
#   3: <<SA>>/
#   4: <<SL>>/
#   5: <<PA>>/
#   6: <<PL>>/
#   7: ./
# 
# Sourcing markers:
#        PA: $Config{archlib}
#        PL: $Config{privlib}
#        SA: $Config{sitearch}
#        SL: $Config{sitelib}
#       BLL: ./blib/lib/
# 
# =============================
#        PA            0.35  attributes                                                                      [ MD5: 014fb52664a60297721c0900ff04061d ]
#        PL            5.74  AutoLoader                                                                      [ MD5: c923fac66a84c6b5dbbf01250e7c1a42 ]
#        PA            1.88  B                                                                               [ MD5: 5f4b1cbb5a6d63eb74249878a252a5fe ]
#        SL            0.26  B::Hooks::EndOfScope                                                            [ MD5: 81d925c811e2cc8823f5c412f9effb9c ]
#        SL            0.26  B::Hooks::EndOfScope::XS                                                        [ MD5: ee7befcbdfcd80d29413fff85df3f8e6 ]
#        PL            2.27  base                                                                            [ MD5: 23b7d65e22b42927d6fcec631ab1c211 ]
#        PL           0.008  builtin                                                                         [ MD5: 878cbb7416b06ef2253fcd96c02e914a ]
#        PL            1.08  bytes                                                                           [ MD5: 1fbae15efa7821b0c878a80bf20ba6da ]
#        PL            1.54  Carp                                                                            [ MD5: 24830cf79d7f9568e19adaeb2b45dfda ]
#        PL            1.54  Carp::Heavy                                                                     [ MD5: 2649a7a3b3813390b3aeb0d7475576df ]
#        SL         0.10014  Class::Accessor::Grouped                                                        [ MD5: e62be17499d53d13f67a4361268aac40 ]
#        SL        1.001002  Class::C3::Componentised                                                        [ MD5: 2e92d4f7f9a7d2eda3cd1100583541a2 ]
#        SL            0.09  Class::Data::Inheritable                                                        [ MD5: 0225fd0f791379f6ed08f3ca4a42a1db ]
#        SL            1.36  Class::Inspector                                                                [ MD5: 7aed0ce1dfc5dd2067632ea22fd2f483 ]
#        SL            0.25  Class::Load                                                                     [ MD5: 52debf263bbf547f0260f9d66a071eee ]
#        SA            0.10  Class::Load::XS                                                                 [ MD5: cc30760936bb48922d9898c915555a19 ]
#        SA          2.2203  Class::MOP                                                                      [ MD5: eda2bf9497436af57be8a12d292b851c ]
#        SA          2.2203  Class::MOP::Attribute                                                           [ MD5: 87dcec601768d886e02627f21c1fce7b ]
#        SA          2.2203  Class::MOP::Class                                                               [ MD5: c463638e144e16cdd27276d42ad95c90 ]
#        SA          2.2203  Class::MOP::Class::Immutable::Trait                                             [ MD5: 0787373fe2072a9bbcf49a4fd5c8369e ]
#        SA          2.2203  Class::MOP::Deprecated                                                          [ MD5: 70e026e0d24515b5049c74ca83569f71 ]
#        SA          2.2203  Class::MOP::Instance                                                            [ MD5: e50c0fa4f45d1a8a81d78cca6dd5b61a ]
#        SA          2.2203  Class::MOP::Method                                                              [ MD5: a5dcd459426a37f9f66d23dbcd796237 ]
#        SA          2.2203  Class::MOP::Method::Accessor                                                    [ MD5: e3bbd3c0fe14fd04c680b1c83c89e078 ]
#        SA          2.2203  Class::MOP::Method::Constructor                                                 [ MD5: d941a1942f507f727fe0b387d331cee3 ]
#        SA          2.2203  Class::MOP::Method::Generated                                                   [ MD5: 12a1cea3f77f3167f55c02f4d54873a8 ]
#        SA          2.2203  Class::MOP::Method::Inlined                                                     [ MD5: ec9e59b5e028b3c60449a651ac731a43 ]
#        SA          2.2203  Class::MOP::Method::Meta                                                        [ MD5: 245a89dd936b3a73687d2534f60f0847 ]
#        SA          2.2203  Class::MOP::Method::Wrapped                                                     [ MD5: 19ea3867f788ffc0f2a67bb68c370426 ]
#        SA          2.2203  Class::MOP::MiniTrait                                                           [ MD5: d0a2536fab1ca6a62a23096c857deee9 ]
#        SA          2.2203  Class::MOP::Mixin                                                               [ MD5: 073376d88d41ff20ba070d5ed52e00ea ]
#        SA          2.2203  Class::MOP::Mixin::AttributeCore                                                [ MD5: 8a4fede11880b975ef95e6a6e16bc47f ]
#        SA          2.2203  Class::MOP::Mixin::HasAttributes                                                [ MD5: d8430235083e8ba3dbcea7a6a8a8e865 ]
#        SA          2.2203  Class::MOP::Mixin::HasMethods                                                   [ MD5: f8643ab709cae560d6f8065ef349a039 ]
#        SA          2.2203  Class::MOP::Mixin::HasOverloads                                                 [ MD5: 6e88ba364ef47c96bb1aac2168e22bf2 ]
#        SA          2.2203  Class::MOP::Module                                                              [ MD5: a73c171d6dcbfa492a36015a0bd8f501 ]
#        SA          2.2203  Class::MOP::Object                                                              [ MD5: e9b0d2133a5235cf5d2bdc27eedd88d9 ]
#        SA          2.2203  Class::MOP::Overload                                                            [ MD5: d29ebd2633fb2a9f05dd1abe088f73ec ]
#        SA          2.2203  Class::MOP::Package                                                             [ MD5: 751a19ec67bdafefffd452425488f016 ]
#        SL             1.6  Class::Singleton                                                                [ MD5: ea4996dcf97bfec21718c650f53ad695 ]
#        PL            0.68  Class::Struct                                                                   [ MD5: 3188362888b358bd48edf037f9c92469 ]
#        SA            1.19  Class::XSAccessor                                                               [ MD5: 0b7adfcc61192a80f97463e89d6d1696 ]
#        SA            1.19  Class::XSAccessor::Heavy                                                        [ MD5: db9379a668d6133fce801e4648cdef45 ]
#        SA            0.46  Clone                                                                           [ MD5: 5064f7463f5d4d639b39a32b7ae68f13 ]
#        SL           0.010  Clone::Choose                                                                   [ MD5: 884cece05d3959f067c7e20ed3d05cf5 ]
#        SA            3.75  common::sense                                                                   [ MD5: 8f5292b7bebff5a5a73fe6cc54d98fa7 ]
#        PA        5.037010  Config                                                                          [ MD5: fee51f3fa47e3807517964e0939f63cd ]
#        PL            1.33  constant                                                                        [ MD5: 56cde6eba0f667ab56196613df3933c1 ]
#        SL            0.03  Context::Preserve                                                               [ MD5: 62155e2bc041508eff050250d74a0c38 ]
#        SA            4.36  Cpanel::JSON::XS                                                                [ MD5: ca070a682049617a480bdb39e41f215d ]
#        PA            3.89  Cwd                                                                             [ MD5: 2b05cdf8fd73577af7b74e8672122329 ]
#        PA           2.188  Data::Dumper                                                                    [ MD5: 7fe7624b9562f590d1cb83a9793c03d4 ]
#        SL           2.023  Data::Dumper::Concise                                                           [ MD5: b18cb47e46e385ccee825ac7e5e59d9e ]
#        SL           0.113  Data::OptList                                                                   [ MD5: 91fc367f8e72e4be6b69461bcd790dcb ]
#        SA            1.59  DateTime                                                                        [ MD5: c53b52ed56ee9567f896d5c8f5fb0f99 ]
#        SA            1.59  DateTime::Duration                                                              [ MD5: b8f13718c761ee2cfc3206b5aa0dce1d ]
#        SA            1.59  DateTime::Helpers                                                               [ MD5: 734f6cd3125235d2a3b175ae8a597e5a ]
#        SA            1.59  DateTime::Infinite                                                              [ MD5: 38d841545b8d2ba62c99265f1722dbe7 ]
#        SL            1.37  DateTime::Locale                                                                [ MD5: c1e2ad892df3fcc3b0937c40443f75e6 ]
#        SL            1.37  DateTime::Locale::Data                                                          [ MD5: 9132d45a7e21d259dcc960649974b812 ]
#        SL            1.37  DateTime::Locale::FromData                                                      [ MD5: 5ae5290418bac97a7638b032b38cc458 ]
#        SL            1.37  DateTime::Locale::Util                                                          [ MD5: 6169f174b36a8b6689363d64d8a3db81 ]
#        SL            2.60  DateTime::TimeZone                                                              [ MD5: eeadc471690d3acb8b4ef6eae3e9280a ]
#        SL            2.60  DateTime::TimeZone::Catalog                                                     [ MD5: b37f2db97b86dd83c8b78412aa59abf7 ]
#        SL            2.60  DateTime::TimeZone::Floating                                                    [ MD5: 77bcc1006cda91bbad9e297ff6391fe4 ]
#        SL            2.60  DateTime::TimeZone::Local                                                       [ MD5: 2ef5454083a9510107e4de2dd1d39594 ]
#        SL            2.60  DateTime::TimeZone::OffsetOnly                                                  [ MD5: 04a60ad2101f9376a1bcbf998b33bdc2 ]
#        SL            2.60  DateTime::TimeZone::OlsonDB::Change                                             [ MD5: 3fe18e4a4d2aee15a2c46a73562b809c ]
#        SL            2.60  DateTime::TimeZone::UTC                                                         [ MD5: 5e301754ac3ed88247dba1892285b7bd ]
#        SA            1.59  DateTime::Types                                                                 [ MD5: 74a72194fa6b2723c56d695de908c067 ]
#        SA            1.72  DBD::SQLite                                                                     [ MD5: db379a3ef07ab5a8edd9d1332df1a97f ]
#        SA           1.643  DBI                                                                             [ MD5: f21c16d842093e2a90b21537379e38df ]
#       BLL        0.082843  DBIx::Class                                                                     [ MD5: c7e0efa8ca59419329d4b8c7a6364ea1 ]
#        SL            0.14  Devel::GlobalDestruction                                                        [ MD5: fa8dcedeb9a8a3d29fbef7dfce342970 ]
#        SL           0.007  Devel::OverloadInfo                                                             [ MD5: 705cc611c6894fb8d185534c35b68595 ]
#        SL            2.04  Devel::StackTrace                                                               [ MD5: 86e99556d4064ec1f14fe93b0505b5ec ]
#        SL            2.04  Devel::StackTrace::Frame                                                        [ MD5: 7d7bbe06b5e11f6bb6f8051ff628be97 ]
#        SL            2.18  Devel::Symdump                                                                  [ MD5: e649ab91a4890ab2543e821daef73079 ]
#        PL            1.20  Digest::base                                                                    [ MD5: b5de2696c583dfec247af39b45288735 ]
#        PA            2.58  Digest::MD5                                                                     [ MD5: d75a3d708ce93ad8d99fcbdefa2c8429 ]
#        PA            1.53  DynaLoader                                                                      [ MD5: 3337e98e25da62a6d907952bbf6e1a38 ]
#        PA            3.19  Encode                                                                          [ MD5: 1c10294358dc4a71d63fe3682e1d52bc ]
#        PA            2.25  Encode::Alias                                                                   [ MD5: bff387c5ac0b5250f064ba3beaf3a3af ]
#        PA            2.05  Encode::Config                                                                  [ MD5: 7bdd1d8dffa8d3500086802451fc020d ]
#        PA            2.08  Encode::Encoding                                                                [ MD5: 3f40faa217288ed2cb4e34af87b6bfd6 ]
#        PA            1.03  Encode::MIME::Name                                                              [ MD5: 056ea8f31df117e2984d9bd3a77555dc ]
#        PA            1.37  Errno                                                                           [ MD5: acf254105580d46fdc7a7a1bc4f11fd7 ]
#        SL            0.14  Eval::Closure                                                                   [ MD5: 6c72ca7cb0924d00e0c1a8bee904c349 ]
#        SL            1.45  Exception::Class                                                                [ MD5: a45a42ee006782394ce58ca86d75f55e ]
#        SL            1.45  Exception::Class::Base                                                          [ MD5: c76488ed5376025f6d8f2dec9ca0fec5 ]
#        PL            5.77  Exporter                                                                        [ MD5: 9ac6b836ee45f6e08e5c8a84cee5e619 ]
#        PL            5.77  Exporter::Heavy                                                                 [ MD5: e1fafe006d8ad3fc9865cd2a7ac85ac4 ]
#        SL        1.006002  Exporter::Tiny                                                                  [ MD5: 25b5ef30667153f6066583c1a4365a71 ]
#        SL            7.70  ExtUtils::Liblist                                                               [ MD5: c9069f0f6e900bfd9eadff2a1a301446 ]
#        SL            7.70  ExtUtils::Liblist::Kid                                                          [ MD5: 9839f307b2a36e024ceadfc3a973665b ]
#        SL            7.70  ExtUtils::MakeMaker                                                             [ MD5: aaea40ece5921374bdb887804e369651 ]
#        SL            7.70  ExtUtils::MakeMaker::Config                                                     [ MD5: 95dc9e7a78625f07a6a6705a2c5c7b96 ]
#        SL            7.70  ExtUtils::MakeMaker::Locale                                                     [ MD5: 812cf58103ba63ecb30519c03bcb9f50 ]
#        SL            7.70  ExtUtils::MakeMaker::version                                                    [ MD5: adc3c98daf02acf1b493b55be72f81cb ]
#        SL            7.70  ExtUtils::MM                                                                    [ MD5: 88e5b28ded1f9e138feae652b0c86a02 ]
#        SL            7.70  ExtUtils::MM_Any                                                                [ MD5: 24b8035eb7ba1abc217f87a1f05ab493 ]
#        SL            7.70  ExtUtils::MM_Unix                                                               [ MD5: 40f4d1a8b171ffb5a8ee4b7eadc6a9b7 ]
#        SL            7.70  ExtUtils::MY                                                                    [ MD5: f388bf55acd14e9fb7d5e07b23c1bf7e ]
#        PA            1.15  Fcntl                                                                           [ MD5: 2aaec5543bfb1c33e2b74d0d7acc80d1 ]
#        PL            2.86  File::Basename                                                                  [ MD5: 93e7b739db7771025debcbad93cb12a1 ]
#        PL            2.40  File::Copy                                                                      [ MD5: a20fc84ae03d4d3286876f5ece2d31cc ]
#        PL            1.43  File::Find                                                                      [ MD5: ec1da78aea7aebbe9e1a8299b35abfcb ]
#        PA            1.39  File::Glob                                                                      [ MD5: 6a39202abd1f476ba91da08f43523e39 ]
#        SL           1.006  File::HomeDir                                                                   [ MD5: f1092b953f4b9227b2d0a476122688e0 ]
#        SL           1.006  File::HomeDir::Driver                                                           [ MD5: 9db939fdf7422e82c2d1c54b08dbff59 ]
#        SL           1.006  File::HomeDir::FreeDesktop                                                      [ MD5: a747777ae6aecd3321bcaf5061c80f7d ]
#        SL           1.006  File::HomeDir::Unix                                                             [ MD5: f44911496a20430138ea26a3175b78bd ]
#        PL            2.18  File::Path                                                                      [ MD5: 3e82792800b06742b5e275937e6637d5 ]
#        SL           1.118  File::ShareDir                                                                  [ MD5: 84426a6f71f433987a2199b9f670c782 ]
#        PA            3.88  File::Spec                                                                      [ MD5: 528b63097d06b8b568c0702044a1fad1 ]
#        PA            3.88  File::Spec::Unix                                                                [ MD5: 77d86db591c7730bd74bab6abe34ee1e ]
#        PL            1.13  File::stat                                                                      [ MD5: 45e25e73b1d7b71c971a2afc503d9ede ]
#        PL          0.2311  File::Temp                                                                      [ MD5: d1685b3aa6a3cea2b2b6c61aa1111db8 ]
#                    0.2311  File::Temp::Dir                                                               ! -f $INC{'File/Temp/Dir.pm'}
#        SL            1.27  File::Which                                                                     [ MD5: 86fc469f2de121f1da59a5239df525a8 ]
#        PL            2.54  Getopt::Long                                                                    [ MD5: 5bf2f6cb5a133e1c0777287c2db1620d ]
#        SL           0.111  Getopt::Long::Descriptive                                                       [ MD5: 5a7c5fddc71080d98700237508bbdf48 ]
#        SL           0.111  Getopt::Long::Descriptive::Opts                                                 [ MD5: 5766a35c3fb6eb1de328cd3fae4d4127 ]
#        SL           0.111  Getopt::Long::Descriptive::Usage                                                [ MD5: 16eb947fd6e7e71c38921bc15d8ab769 ]
#        SL           0.302  Hash::Merge                                                                     [ MD5: 85df9910eb2a543ae53fff090dcb3901 ]
#        PA            0.22  I18N::Langinfo                                                                  [ MD5: d0233b80e2629113d9eb7677538eaa4e ]
#        PL          0.0610  if                                                                              [ MD5: d73e6f08df8235b142e081faf5b6f2c0 ]
#        PL            1.01  integer                                                                         [ MD5: 3e5ff5fb486c95945e10e79859dd5bfb ]
#        PA            1.51  IO                                                                              [ MD5: faca3e8b950c39076eb89113a0446970 ]
#        PA            1.51  IO::Dir                                                                         [ MD5: 0eaea5d29f48d3bae29458d42a931a1d ]
#        PA            1.51  IO::File                                                                        [ MD5: fa580d63e62a4e7be8ce2a70ef7affb9 ]
#        PA            1.51  IO::Handle                                                                      [ MD5: 0f1c0d85ed723a0b42962d15f9aaddb6 ]
#        PA            1.51  IO::Seekable                                                                    [ MD5: a8f8e694b5cf1b05d3670c7c680484f7 ]
#        SL            4.10  JSON                                                                            [ MD5: d7112d361cee2b04214a14b1fe3d2a51 ]
#                      4.03  JSON::Backend::XS                                                             ! -f $INC{'JSON/Backend/XS.pm'}
#        PL            4.16  JSON::PP                                                                        [ MD5: d3722afcaf0ae3c52be10b3c870d2b2a ]
#        PL            4.16  JSON::PP::Boolean                                                               [ MD5: 3985db2a9ebae63e028b56b0146226af ]
#                      1.01  JSON::PP::IncrParser                                                          ! -f $INC{'JSON/PP/IncrParser.pm'}
#        SA            4.03  JSON::XS                                                                        [ MD5: 0a5b3cc4af5711071df876e912784347 ]
#                      4.16  JSON::XS::Boolean                                                             ! -f $INC{'JSON/XS/Boolean.pm'}
#        SL           0.430  List::MoreUtils                                                                 [ MD5: 0cb4732c1304c6aeaa4963da6a85271d ]
#        SL           0.430  List::MoreUtils::PP                                                             [ MD5: 40f6af6eedf793474e122fee93949428 ]
#        SA           0.430  List::MoreUtils::XS                                                             [ MD5: bf41dfe84426559433a4ece7a763669b ]
#        PA            1.63  List::Util                                                                      [ MD5: 8f565554be398aa45c0cd8b97042bb95 ]
#        PL            1.10  locale                                                                          [ MD5: 8dbb999ea6e31452fef494cb2fe22218 ]
#        PL        1.999837  Math::BigInt                                                                    [ MD5: 385e8ac69c068ded8fb159f0dbb74809 ]
#        SA          2.2203  metaclass                                                                       [ MD5: 554d88f01093417cacb7f146e43b931e ]
#        SL                  Method::Generate::Accessor                                                      [ MD5: d47a048aab919a461b808db19577afef ]
#        SL                  Method::Generate::Constructor                                                   [ MD5: 7dc09b7430c43a91a9cecb31226bf8c9 ]
#        SL            0.09  Module::Implementation                                                          [ MD5: 2a146bb117cd6b798e2b928231799546 ]
#        SL           0.016  Module::Runtime                                                                 [ MD5: db1042b0f9341111c7f904480a82596a ]
#        SL        2.005005  Moo                                                                             [ MD5: 4a65f229ead7080111adf8844aeaced4 ]
#        SL                  Moo::HandleMoose                                                                [ MD5: ce4041d5986e71a57d7a7dc2d161911c ]
#        SL                  Moo::HandleMoose::FakeMetaClass                                                 [ MD5: bf661037cf497b96816975139c05898b ]
#        SL                  Moo::Object                                                                     [ MD5: f6f8cdcf4b6326f4bf927941d2276d4f ]
#        SL                  Moo::sification                                                                 [ MD5: 1c3b20406b7da09888e8557b40e9ce0d ]
#        SA          2.2203  Moose                                                                           [ MD5: 887007c156c9c1ed64a5d15ede4a299e ]
#        SA          2.2203  Moose::Deprecated                                                               [ MD5: df5fdc2e35420e06ac1db7f9a389334a ]
#        SA          2.2203  Moose::Exporter                                                                 [ MD5: 33b488ce4b4790a59e3b0701e1f8d9b0 ]
#        SA          2.2203  Moose::Meta::Attribute                                                          [ MD5: c165ea0c764fc57287c2a03383449c63 ]
#        SA          2.2203  Moose::Meta::Attribute::Native                                                  [ MD5: f3ad89c2fde0c3c4776c7cdff11d46f5 ]
#        SA          2.2203  Moose::Meta::Class                                                              [ MD5: ebbe8eef9931db9af092e55cac584f95 ]
#        SA          2.2203  Moose::Meta::Class::Immutable::Trait                                            [ MD5: b2219050ad04c46748f7bc0c33bec043 ]
#        SA          2.2203  Moose::Meta::Instance                                                           [ MD5: 916e27a5d0764159b84681c9934a99b8 ]
#        SA          2.2203  Moose::Meta::Method                                                             [ MD5: dfaec034080d08f89e10af57001f839c ]
#        SA          2.2203  Moose::Meta::Method::Accessor                                                   [ MD5: e022c44ddb9926c06d146e3f0abc4dce ]
#        SA          2.2203  Moose::Meta::Method::Augmented                                                  [ MD5: e65de081afddc54a33b878b585c83a0a ]
#        SA          2.2203  Moose::Meta::Method::Constructor                                                [ MD5: 523689f6d113a13e0fe6fe12d805f02e ]
#        SA          2.2203  Moose::Meta::Method::Delegation                                                 [ MD5: 9c1ff451692bf1a550d549dffd05031e ]
#        SA          2.2203  Moose::Meta::Method::Destructor                                                 [ MD5: fa1e9cec3a9e0d96f88ad839572a006a ]
#        SA          2.2203  Moose::Meta::Method::Meta                                                       [ MD5: a8e1cf34faf651f4f9e523a4c674e44f ]
#        SA          2.2203  Moose::Meta::Method::Overridden                                                 [ MD5: 939232f3f84c174a69f7b8a132c0f831 ]
#        SA          2.2203  Moose::Meta::Mixin::AttributeCore                                               [ MD5: 8c05a2fea264485210a97018b78d9b0a ]
#        SA          2.2203  Moose::Meta::Object::Trait                                                      [ MD5: 6bec8e9a92e842d9cdc4c666ef9f725d ]
#        SA          2.2203  Moose::Meta::Role                                                               [ MD5: 7dd5431786a377c6ae031b45f658c101 ]
#        SA          2.2203  Moose::Meta::Role::Application                                                  [ MD5: 36de385b12f93aa5e63178069272ffe8 ]
#        SA          2.2203  Moose::Meta::Role::Application::RoleSummation                                   [ MD5: cb70cde36a8a9cc629b0fea4cf4ee10a ]
#        SA          2.2203  Moose::Meta::Role::Application::ToClass                                         [ MD5: 467115e7e2f7fa23145c0f9ca60061ff ]
#        SA          2.2203  Moose::Meta::Role::Application::ToInstance                                      [ MD5: 3c4bb56581160385b9ecd3a98aeb7b61 ]
#        SA          2.2203  Moose::Meta::Role::Application::ToRole                                          [ MD5: 5dfd3c0214035f33b5a2cdcf3281f25d ]
#        SA          2.2203  Moose::Meta::Role::Attribute                                                    [ MD5: 0a8c6a380cfda6bd7e0540302599c386 ]
#        SA          2.2203  Moose::Meta::Role::Composite                                                    [ MD5: fe046266e766c5d236a0318e5e5c723c ]
#        SA          2.2203  Moose::Meta::Role::Method                                                       [ MD5: 352a1ed8ec99f217467edbf1607f793d ]
#        SA          2.2203  Moose::Meta::Role::Method::Conflicting                                          [ MD5: dec838fd275a8c7550ca884b37b15981 ]
#        SA          2.2203  Moose::Meta::Role::Method::Required                                             [ MD5: 6b9503630ff166e07a9abe4a311530c4 ]
#        SA          2.2203  Moose::Meta::TypeCoercion                                                       [ MD5: a4a7fe8ac0d7a6df24f41125bfbae07c ]
#        SA          2.2203  Moose::Meta::TypeCoercion::Union                                                [ MD5: 4d0bcbd676af64997bbd1b0d75c0a9b4 ]
#        SA          2.2203  Moose::Meta::TypeConstraint                                                     [ MD5: cf17c34281151a10eb2cc2da5d2ed1bb ]
#        SA          2.2203  Moose::Meta::TypeConstraint::Class                                              [ MD5: d1a335d126a7775a3a266dde81abb074 ]
#        SA          2.2203  Moose::Meta::TypeConstraint::DuckType                                           [ MD5: b12fc8a42a3e8d00dbe908c1437b2be7 ]
#        SA          2.2203  Moose::Meta::TypeConstraint::Enum                                               [ MD5: d9ef678d4552a8fa93e4b17fa1746b98 ]
#        SA          2.2203  Moose::Meta::TypeConstraint::Parameterizable                                    [ MD5: 4ca26589068a416562708c95a55445e2 ]
#        SA          2.2203  Moose::Meta::TypeConstraint::Parameterized                                      [ MD5: 01fd8f4db62abf1e785f6b0fc48c0485 ]
#        SA          2.2203  Moose::Meta::TypeConstraint::Registry                                           [ MD5: a5b642021d1c3e47d195c25c35f287c7 ]
#        SA          2.2203  Moose::Meta::TypeConstraint::Role                                               [ MD5: e49696f9c9a19a5771b92d62846fc55d ]
#        SA          2.2203  Moose::Meta::TypeConstraint::Union                                              [ MD5: 7a47b2b0036a621e66b55f85625a8b87 ]
#        SA          2.2203  Moose::Object                                                                   [ MD5: d08142ff3079166a2263a8281f6ceaeb ]
#        SA          2.2203  Moose::Role                                                                     [ MD5: aba2ea09f7fb985e3c34c43811986813 ]
#        SA          2.2203  Moose::Util                                                                     [ MD5: 59a8feca453bb54571ee04af6820b223 ]
#        SA          2.2203  Moose::Util::MetaRole                                                           [ MD5: 26aa97dded1bf430c004f29bcbe0440f ]
#        SA          2.2203  Moose::Util::TypeConstraints                                                    [ MD5: 3a907b5510b9511ddba068895ae488a3 ]
#        SA          2.2203  Moose::Util::TypeConstraints::Builtins                                          [ MD5: dffa1e201584cc59527af99c9fdd99cf ]
#        PA            1.28  mro                                                                             [ MD5: 8ad5bae0d910414967ac2c307c2239fe ]
#        SL            0.15  MRO::Compat                                                                     [ MD5: bef0019fecfbcbba419a25fef7883ff3 ]
#        SL            0.29  namespace::autoclean                                                            [ MD5: cb986f01f8feabc7b72cc8e09d0aa1be ]
#        SL            0.27  namespace::clean                                                                [ MD5: f3e03f7f5f26391565d98357834e909b ]
#        PL            1.37  overload                                                                        [ MD5: 696520a9ae880ff265ab4fbccd84b918 ]
#        PL            0.02  overloading                                                                     [ MD5: 36e1b34f8175e036d57e51fd7d56becd ]
#        SL            0.18  Package::DeprecationManager                                                     [ MD5: 91a515bc41e87f33d57f23cc01f95503 ]
#        SL            0.40  Package::Stash                                                                  [ MD5: a30009fe1da4beeffea3864a6eca7e0a ]
#        SA            0.30  Package::Stash::XS                                                              [ MD5: cbd3767a10ffd80ba463fa430661693c ]
#        SA             2.5  PadWalker                                                                       [ MD5: 75ab18df28634d5c1936987e4bcae857 ]
#        SA           1.102  Params::Util                                                                    [ MD5: 89fac2a5d87e044e834a4dde26ee3360 ]
#        SA           1.102  Params::Util::PP                                                                [ MD5: e902195f8b740fdc485f3ea8fb973cd6 ]
#        SA            1.31  Params::Validate                                                                [ MD5: 902e1bbf8b1527a2a5d9b019a18c32b6 ]
#        SA            1.31  Params::Validate::Constants                                                     [ MD5: 47649513f198808f20b247a9e3348e25 ]
#        SA            1.31  Params::Validate::XS                                                            [ MD5: 505c60702c64f181f4996ef75c66194f ]
#        SL            0.31  Params::ValidationCompiler                                                      [ MD5: b9691b9e3cd9b031ecf0edea3623d17c ]
#        SL            0.31  Params::ValidationCompiler::Compiler                                            [ MD5: a6711dbd52a4f2c04ba2c1d077ba390a ]
#        SL            1.45  Params::ValidationCompiler::Exception::BadArguments                             [ MD5: a45a42ee006782394ce58ca86d75f55e ]
#        SL            1.45  Params::ValidationCompiler::Exception::Named::Extra                             [ MD5: a45a42ee006782394ce58ca86d75f55e ]
#        SL            1.45  Params::ValidationCompiler::Exception::Named::Required                          [ MD5: a45a42ee006782394ce58ca86d75f55e ]
#        SL            1.45  Params::ValidationCompiler::Exception::Positional::Extra                        [ MD5: a45a42ee006782394ce58ca86d75f55e ]
#        SL            1.45  Params::ValidationCompiler::Exception::Positional::Required                     [ MD5: a45a42ee006782394ce58ca86d75f55e ]
#        SL            1.45  Params::ValidationCompiler::Exception::ValidationFailedForMooseTypeConstraint   [ MD5: a45a42ee006782394ce58ca86d75f55e ]
#        SL            0.31  Params::ValidationCompiler::Exceptions                                          [ MD5: c64561e55a0a6154c4a98db84ccdc5b8 ]
#        PL           0.241  parent                                                                          [ MD5: dfbe43613ada936a1445ed5d9b7ac059 ]
#        SL            0.37  Path::Class                                                                     [ MD5: 62b3248e0d25291933a8d0f09e731547 ]
#        SL            0.37  Path::Class::Dir                                                                [ MD5: 9b7bd783037e1e812d6a82d62bcecb92 ]
#        SL            0.37  Path::Class::Entity                                                             [ MD5: 8e14d34b8f5a0909736e9bdaac460848 ]
#        SL            0.37  Path::Class::File                                                               [ MD5: b7f9029ac9e90dc1d509a95d12103c69 ]
#                  5.037010  perl                                                                            [ MD5: a2b93fae9b9d7140b3d3aab67aba47e4 ]
#        PL            1.12  PerlIO                                                                          [ MD5: 2984c1983bf0e0b923377e5ebfc9dda4 ]
#        SL            0.23  Pod::Coverage                                                                   [ MD5: d53035083682c2a78d56d998ad7239d2 ]
#        PL            1.07  Pod::Escapes                                                                    [ MD5: 66b73dccf48caa9ab161e8c3805cf955 ]
#        PL            1.65  Pod::Find                                                                       [ MD5: c89eb4539885ff045e33d4d21d13d48f ]
#        PL            1.65  Pod::InputObjects                                                               [ MD5: c53d8688b475d68a07ec834b0db0ba17 ]
#        PL            1.65  Pod::Parser                                                                     [ MD5: b02c8b8daa03cff7c6881779b3995a49 ]
#        PL            3.43  Pod::Simple                                                                     [ MD5: b86a7500d3b905b764ff99f111af4782 ]
#        PL            3.43  Pod::Simple::BlackBox                                                           [ MD5: 1395ca0b97d7de9447bd05e7a3810ded ]
#        PL            3.43  Pod::Simple::LinkSection                                                        [ MD5: 220977e6012f2689651a79edf725de05 ]
#        PL            3.43  Pod::Simple::TiedOutFH                                                          [ MD5: fbc124bec344d6220c8d090f8d9d342a ]
#        PA            2.12  POSIX                                                                           [ MD5: 557ca63bbe50663c41802f696cf6abc0 ]
#        PA            0.44  re                                                                              [ MD5: 93cf0f4966a46c3488d1cf6003ec781d ]
#        SL        2.002004  Role::Tiny                                                                      [ MD5: 861d0b2534a79b6019bc7147c041cad4 ]
#        SL        2.002004  Role::Tiny::With                                                                [ MD5: 3553d98b3d121c03e2dbaae52e034503 ]
#        PA            1.63  Scalar::Util                                                                    [ MD5: a36530127b35ef54805986e6dbfa67d6 ]
#        SL            0.21  Scope::Guard                                                                    [ MD5: 914494bdeb65cd340f14eae265635cf2 ]
#        PL            1.02  SelectSaver                                                                     [ MD5: bddc465e351ad0508581b94ef112d322 ]
#        SL            0.48  Specio                                                                          [ MD5: ddeb051b20efc358bb311d771e0b091b ]
#        SL            0.48  Specio::Coercion                                                                [ MD5: 8b38cdaad244c247764a2e8b8400089e ]
#        SL            0.48  Specio::Constraint::AnyCan                                                      [ MD5: fb928a50f230c6c452c4eb476fabc55d ]
#        SL            0.48  Specio::Constraint::Enum                                                        [ MD5: f7801b3987aa0c76b3b47c7171ed7793 ]
#        SL            0.48  Specio::Constraint::ObjectCan                                                   [ MD5: 10cd452b20627c4905c72e52be3e57f7 ]
#        SL            0.48  Specio::Constraint::ObjectIsa                                                   [ MD5: 8ef836e42f9d2556ac647f8b0ba77a4a ]
#        SL            0.48  Specio::Constraint::Parameterizable                                             [ MD5: c17d7658876a188ad9efd77439433120 ]
#        SL            0.48  Specio::Constraint::Parameterized                                               [ MD5: 09f8395fade8fc92c8b8d3879d334bf1 ]
#        SL            0.48  Specio::Constraint::Role::CanType                                               [ MD5: abb08f930d39289b3d8e8364a40e969f ]
#        SL            0.48  Specio::Constraint::Role::Interface                                             [ MD5: 5a31b2208b8afe1522f5a3ac145285b5 ]
#        SL            0.48  Specio::Constraint::Role::IsaType                                               [ MD5: 59737f2bae1f3b13cccd2d9f3f1e5062 ]
#        SL            0.48  Specio::Constraint::Simple                                                      [ MD5: d38d9aa8b9735092ec0827b744bf1d77 ]
#        SL            0.48  Specio::Constraint::Union                                                       [ MD5: fc122e0265ee9399d4b0acea15e63ffe ]
#        SL            0.48  Specio::Declare                                                                 [ MD5: 08c85f8b1e6d208bc537bc22fd9383ed ]
#        SL            0.48  Specio::DeclaredAt                                                              [ MD5: 85598504f2eafd37451cad6124f86b84 ]
#        SL            0.48  Specio::Exception                                                               [ MD5: 15955dc3117d0ed71d8864e48ac87c83 ]
#        SL            0.48  Specio::Exporter                                                                [ MD5: 45c5fcc0673d2e911fe1ef0e91124dee ]
#        SL            0.48  Specio::Helpers                                                                 [ MD5: 7701511891dbaf16e5f91e03c57d0e45 ]
#        SL            0.48  Specio::Library::Builtins                                                       [ MD5: 23c2f2ac45c300df4140a57d6cedf600 ]
#        SL            0.48  Specio::Library::Numeric                                                        [ MD5: a273cd05aec66db187eda710f5337ce4 ]
#        SL            0.48  Specio::Library::Perl                                                           [ MD5: 7b99054d3024363750af631a65382883 ]
#        SL            0.48  Specio::Library::String                                                         [ MD5: d11b14f9823c0ed2a6d3dfbbef9d3378 ]
#        SL            0.48  Specio::OO                                                                      [ MD5: 7e7f5d6ba6b964ec635b4f07a2463cc1 ]
#        SL            0.48  Specio::PartialDump                                                             [ MD5: fb6eddbd5cc9759c772054378f7bdd68 ]
#        SL            0.48  Specio::Registry                                                                [ MD5: 62a55f94cdd2b9531c8562d4bdf25b64 ]
#        SL            0.48  Specio::Role::Inlinable                                                         [ MD5: 32f309be47668153ae6e5298254f5ba9 ]
#        SL            0.48  Specio::Subs                                                                    [ MD5: bc0d39af232adf5f9d90c8fdda43e53c ]
#        SL            0.48  Specio::TypeChecks                                                              [ MD5: 854dcf752de2909229c7fa4d81044608 ]
#        SL            1.91  SQL::Abstract::Classic                                                          [ MD5: 82c47bb99257b1225bb3576458e85992 ]
#        SL                  SQL::Abstract::Tree                                                             [ MD5: 4ebd475571c49fd341fd961558c89c7b ]
#        SL                  SQL::Abstract::Util                                                             [ MD5: 4599b28bcd164597e690650c495bd658 ]
#        PA            3.31  Storable                                                                        [ MD5: cfb60f19a1c82e0d45907f40598e37be ]
#        PL            1.12  strict                                                                          [ MD5: 31b6105d6dc1cde54154291b86c8b285 ]
#        SL        2.006008  Sub::Defer                                                                      [ MD5: 6b8855b52fcf3dd457e526a865cd36a9 ]
#        SL           0.989  Sub::Exporter                                                                   [ MD5: 5b0dbe688061c94151315fa8c550f054 ]
#        SL        0.001013  Sub::Exporter::Progressive                                                      [ MD5: 5f37412f2438f87c7b088c7b2e6dd8ab ]
#        SL           0.989  Sub::Exporter::Util                                                             [ MD5: 686968ec8b1b299a39dab259258e1d26 ]
#        SA            0.14  Sub::Identify                                                                   [ MD5: c5aa7af217a6440b522298715d770472 ]
#        SL           0.929  Sub::Install                                                                    [ MD5: 69771e91990dd7a0db1e8532978fd823 ]
#        SA            0.26  Sub::Name                                                                       [ MD5: 9ffca0ac7776cb7653a81b85330b6b71 ]
#        SL        2.006008  Sub::Quote                                                                      [ MD5: 5a9049ccbcf14dd9c30d5811501a24c5 ]
#        PA            1.63  Sub::Util                                                                       [ MD5: 1f323c22eec9184faf95376b10b9a500 ]
#        PL            1.09  Symbol                                                                          [ MD5: 1212e080ddc044e44a9ae4c8350f1338 ]
#        PL        1.302194  Test2::API                                                                      [ MD5: 669ac9fefe3ec7eaf3ed6eada5800e82 ]
#        PL        1.302194  Test2::API::Context                                                             [ MD5: a81d0904e4902480c0559394fbb00bb1 ]
#        PL        1.302194  Test2::API::Instance                                                            [ MD5: f81a9f47f8426a00ee5ff790b4632be5 ]
#        PL        1.302194  Test2::API::Stack                                                               [ MD5: a0dc38348661a989c9eafbc3273f4b1e ]
#        PL        1.302194  Test2::Event                                                                    [ MD5: b119113f4844021df1426ec7d2f45745 ]
#        PL        1.302194  Test2::Event::Bail                                                              [ MD5: 36e75fd126b3e172dd78aedcec98bfa5 ]
#        PL        1.302194  Test2::Event::Diag                                                              [ MD5: 9097b1bee5c5752a80a91e11b33ae9a0 ]
#        PL        1.302194  Test2::Event::Exception                                                         [ MD5: 091e54c89c5108ec10fbe30b62706e31 ]
#        PL        1.302194  Test2::Event::Fail                                                              [ MD5: acfd0c2480e119c4211de5b528d93def ]
#        PL        1.302194  Test2::Event::Note                                                              [ MD5: 011efcd45729e5979a02dba313281f67 ]
#        PL        1.302194  Test2::Event::Ok                                                                [ MD5: c163154b69cd8e15e6451e9c367544de ]
#        PL        1.302194  Test2::Event::Pass                                                              [ MD5: 3063da1acd3c5714e466cde12d432545 ]
#        PL        1.302194  Test2::Event::Plan                                                              [ MD5: f06443587d8020004e3232245dad73de ]
#        PL        1.302194  Test2::Event::Skip                                                              [ MD5: 39a52bdc87c7f48de835da1ed4eaf132 ]
#        PL        1.302194  Test2::Event::Subtest                                                           [ MD5: 5174ac88b38ef915cf2c5ca25dcb2660 ]
#        PL        1.302194  Test2::Event::V2                                                                [ MD5: cc783b81b785243a7245102625711e29 ]
#        PL        1.302194  Test2::Event::Waiting                                                           [ MD5: bba14a4d8b1eb0d697593dfba71fd406 ]
#        PL        1.302194  Test2::EventFacet                                                               [ MD5: 477beb9eaaf842ff339e0400479ea762 ]
#        PL        1.302194  Test2::EventFacet::About                                                        [ MD5: f78aebb445d0b0122d9993370e48e5ee ]
#        PL        1.302194  Test2::EventFacet::Amnesty                                                      [ MD5: 0127dd22899de379c09b70cfdda3402b ]
#        PL        1.302194  Test2::EventFacet::Assert                                                       [ MD5: 8a5ca16136c295c6c62fc81b109cfeb0 ]
#        PL        1.302194  Test2::EventFacet::Control                                                      [ MD5: a2ca368e6a4bff4e34c5c1b492edcbfb ]
#        PL        1.302194  Test2::EventFacet::Error                                                        [ MD5: 9e45f16e6e403b79e15a1e80546cc735 ]
#        PL        1.302194  Test2::EventFacet::Hub                                                          [ MD5: 5237ea47ad3ac4498b5dd4263a004a88 ]
#        PL        1.302194  Test2::EventFacet::Info                                                         [ MD5: effa583c204d1f6d9bf80e1912cb81cb ]
#        PL        1.302194  Test2::EventFacet::Meta                                                         [ MD5: 3139931aa2400092dc7ae73896be15de ]
#        PL        1.302194  Test2::EventFacet::Parent                                                       [ MD5: e40e99dc3d27a59cfae31aa18ee7cb0a ]
#        PL        1.302194  Test2::EventFacet::Plan                                                         [ MD5: bb2c40ff10850011b6f70e9ce0bad89f ]
#        PL        1.302194  Test2::EventFacet::Trace                                                        [ MD5: 06f4e4636a7c0606b7cf8e9267c59b25 ]
#        PL        1.302194  Test2::Formatter                                                                [ MD5: 87cd670a44f40d9ccb05cfac7033bda0 ]
#        PL        1.302194  Test2::Formatter::TAP                                                           [ MD5: 6653d50fb9f90b45187eefac5bcf7d4f ]
#        PL        1.302194  Test2::Hub                                                                      [ MD5: d022fe31c950d0e901d56ff7ca2e55c5 ]
#        PL        1.302194  Test2::Hub::Interceptor                                                         [ MD5: 9d2de29b790e9d107cac6d9862391ba4 ]
#        PL        1.302194  Test2::Hub::Interceptor::Terminator                                             [ MD5: 99876b00db527c31fa3c9b13d95460b1 ]
#        PL        1.302194  Test2::Hub::Subtest                                                             [ MD5: 6cde238ba3ed76ff98f76fff26d2b7b7 ]
#        PL        1.302194  Test2::Util                                                                     [ MD5: 36ad290daec5d1f8a311e2eff9533af4 ]
#        PL        1.302194  Test2::Util::ExternalMeta                                                       [ MD5: ffc2a8018772ba69727ccbc85e5ee50d ]
#        PL        1.302194  Test2::Util::Facets2Legacy                                                      [ MD5: b8c1e2be2d7847a2ba57690519132b87 ]
#        PL        1.302194  Test2::Util::HashBase                                                           [ MD5: 1be8007b8ee6e4716560fc18ed04dd9f ]
#        PL        1.302194  Test2::Util::Trace                                                              [ MD5: 7baee80bf942371ebbeb03a2ef17a61d ]
#        PL        1.302194  Test::Builder                                                                   [ MD5: d8e1c78b6023a40c10e5e9c30287a512 ]
#        PL        1.302194  Test::Builder::Formatter                                                        [ MD5: afda4841a19c99bdcb70f6dedf0c3b4a ]
#        PL        1.302194  Test::Builder::Module                                                           [ MD5: e86271f5a602c15838f75799c827e3d1 ]
#        PL        1.302194  Test::Builder::TodoDiag                                                         [ MD5: e6f7e672faa2ea2b10c3d4f460b3a293 ]
#        SA          2.2203  Test::Moose                                                                     [ MD5: 1046259b8b902fb45eb37a606765ad00 ]
#        PL        1.302194  Test::More                                                                      [ MD5: e94d5dba5f5aade5ab43ffaab793e224 ]
#        SL            1.52  Test::Pod                                                                       [ MD5: 57529b9abbdd5ecf857b9c354764eb31 ]
#        SL            1.10  Test::Pod::Coverage                                                             [ MD5: b751ee701f87277a9013c485f474424e ]
#        PL            1.06  Tie::Hash                                                                       [ MD5: 92ab1e76487f41226ce92a846fc91017 ]
#        PA          1.9774  Time::HiRes                                                                     [ MD5: 34b975fd6735d6db2e4d1e26a43f5994 ]
#        SL            0.31  Try::Tiny                                                                       [ MD5: bd4812ceab0afd05e1c985d727a8b3a1 ]
#        SL            1.01  Types::Serialiser                                                               [ MD5: 54baf26f3733ce81e24ff546b2ed0fd5 ]
#                      4.16  Types::Serialiser::Boolean                                                    ! -f $INC{'Types/Serialiser/Boolean.pm'}
#        PL            1.25  utf8                                                                            [ MD5: b8a1fcd7f4cb4427a45d3f8bd41ed026 ]
#        SA            0.63  Variable::Magic                                                                 [ MD5: 440264775da527af552aafac0a9bfd78 ]
#        PL            1.05  vars                                                                            [ MD5: fec1c1985d96c2edd842ff2b71821afb ]
#        PL          0.9929  version                                                                         [ MD5: eb029c692ec3fa08efd7783624634ef6 ]
#        PL          0.9929  version::regex                                                                  [ MD5: 1ba9cdbd93b3c9ebe720b5f90d868653 ]
#        PL            1.63  warnings                                                                        [ MD5: 8093d0f249417b2718c25bc50b1ba4e0 ]
#        PL            1.05  warnings::register                                                              [ MD5: e9cc1dfff1eab185666f5949e5440da4 ]
#        PL            0.32  XSLoader                                                                        [ MD5: 9a6feab54e1d129ac711333b0074f374 ]
#        SA           0.005  XString                                                                         [ MD5: ce00b565e67dbfbf3985f52281a0f942 ]
# =============================
# 
# List of loadable modules within both *OPTIONAL* and core dependency chains
# present on this system (modules sourced from ./blib, ./lib, ./t, and ./xt
# with versions identical to their parent namespace were omitted for brevity)
# 
#     *** Note that *MANY* of these modules will *NEVER* be loaded ***
#             *** during normal operation of DBIx::Class ***
# 
# 
t/00describe_environment.t .......................... ok
t/04_c3_mro.t ....................................... ok
t/05components.t .................................... ok
t/100extra_source.t ................................. ok
t/100populate.t ..................................... ok
t/101populate_rs.t .................................. ok
t/101source.t ....................................... ok
t/102load_classes.t ................................. ok
t/103many_to_many_warning.t ......................... ok
t/104view.t ......................................... ok
t/106dbic_carp.t .................................... ok
t/107obj_result_class.t ............................. ok
t/18insert_default.t ................................ ok
t/19retrieve_on_insert.t ............................ ok
t/20setuperrors.t ................................... ok
t/26dumper.t ........................................ ok
t/33exception_wrap.t ................................ ok
t/34exception_action.t .............................. ok
t/35exception_inaction.t ............................ ok
t/39load_namespaces_1.t ............................. ok
t/39load_namespaces_2.t ............................. ok
t/39load_namespaces_3.t ............................. ok
t/39load_namespaces_4.t ............................. ok
t/39load_namespaces_exception.t ..................... ok
t/39load_namespaces_rt41083.t ....................... ok
t/39load_namespaces_stress.t ........................ ok
t/40compose_connection.t ............................ ok
t/40resultsetmanager.t .............................. ok
t/46where_attribute.t ............................... ok
t/50fork.t .......................................... skipped: Test needs DBD::Pg (see DBIx::Class::Optional::Dependencies for details)
t/51threadnodb.t .................................... ok
t/51threads.t ....................................... skipped: Test needs DBD::Pg (see DBIx::Class::Optional::Dependencies for details)
t/51threadtxn.t ..................................... skipped: Set $ENV{DBICTEST_PG_DSN}, _USER and _PASS to run this test (note: creates and drops a table named artist!)
t/52leaks.t ......................................... ok
t/53lean_startup.t .................................. ok
t/55namespaces_cleaned.t ............................ ok
t/60core.t .......................................... ok
t/61findnot.t ....................................... ok
t/63register_class.t ................................ ok
t/63register_column.t ............................... ok
t/63register_source.t ............................... ok
t/64db.t ............................................ ok
t/65multipk.t ....................................... ok
t/69update.t ........................................ ok
t/70auto.t .......................................... ok
t/71mysql.t ......................................... skipped: Set $ENV{DBICTEST_MYSQL_DSN}, _USER and _PASS to run this test
t/72pg.t ............................................ skipped: Set $ENV{DBICTEST_PG_DSN}, _USER and _PASS to run this test
t/72pg_bytea.t ...................................... skipped: Test needs DBD::Pg (see DBIx::Class::Optional::Dependencies for details)
t/73oracle.t ........................................ skipped: Set $ENV{DBICTEST_ORA_DSN}, _USER and _PASS to run this test.
t/73oracle_blob.t ................................... skipped: Set $ENV{DBICTEST_ORA_DSN}, _USER and _PASS to run this test.
t/73oracle_hq.t ..................................... skipped: Set $ENV{DBICTEST_ORA_DSN}, _USER and _PASS to run this test.
t/745db2.t .......................................... skipped: Set $ENV{DBICTEST_DB2_DSN}, _USER and _PASS to run this test
t/746db2_400.t ...................................... skipped: Set $ENV{DBICTEST_DB2_400_DSN}, _USER and _PASS to run this test
t/746mssql.t ........................................ skipped: Set $ENV{DBICTEST_MSSQL_ODBC_DSN}, _USER and _PASS to run this test
t/746sybase.t ....................................... skipped: Set $ENV{DBICTEST_SYBASE_DSN}, _USER and _PASS to run this test. Warning: This test drops and creates the tables: 'artist', 'money_test' and 'bindtype_test'
t/747mssql_ado.t .................................... skipped: Set $ENV{DBICTEST_MSSQL_ADO_DSN}, _USER and _PASS to run this test
t/748informix.t ..................................... skipped: Set $ENV{DBICTEST_INFORMIX_DSN}, _USER and _PASS to run this test
t/749sqlanywhere.t .................................. skipped: Set $ENV{DBICTEST_SQLANYWHERE_DSN} and/or $ENV{DBICTEST_SQLANYWHERE_ODBC_DSN},
t/74mssql.t ......................................... skipped: Set $ENV{DBICTEST_MSSQL_DSN}, _USER and _PASS to run this test
t/750firebird.t ..................................... skipped: Set $ENV{DBICTEST_FIREBIRD_DSN} and/or $ENV{DBICTEST_FIREBIRD_INTERBASE_DSN} and/or $ENV{DBICTEST_FIREBIRD_ODBC_DSN}, _USER and _PASS to run these tests. WARNING: this test creates and drops the tables "artist", "bindtype_test" and "sequence_test"; the generators "gen_artist_artistid", "pkid1_seq", "pkid2_seq" and "nonpkid_seq" and the trigger "artist_bi".
t/751msaccess.t ..................................... skipped: Set $ENV{DBICTEST_MSACCESS_ODBC_DSN} and/or $ENV{DBICTEST_MSACCESS_ADO_DSN} (and optionally _USER and _PASS) to run these tests.
t/752sqlite.t ....................................... ok
t/76joins.t ......................................... ok
t/76select.t ........................................ ok
t/77join_count.t .................................... ok
t/78self_referencial.t .............................. ok
t/79aliasing.t ...................................... ok
t/80unique.t ........................................ ok
t/82cascade_copy.t .................................. ok
t/83cache.t ......................................... ok
t/84serialize.t ..................................... ok
t/85utf8.t .......................................... ok
t/86might_have.t .................................... ok
t/86sqlt.t .......................................... skipped: Test needs SQL::Translator >= 0.11018 (see DBIx::Class::Optional::Dependencies for details)
t/87ordered.t ....................................... ok
t/88result_set_column.t ............................. ok
Old package separator "'" deprecated at t/lib/DBICTest/SyntaxErrorComponent3.pm line 6, <> line 1.
t/90ensure_class_loaded.t ........................... ok
t/90join_torture.t .................................. ok
t/91merge_joinpref_attr.t ........................... ok
t/93autocast.t ...................................... ok
t/93single_accessor_object.t ........................ ok
t/94pk_mutation.t ................................... ok
t/94versioning.t .................................... skipped: Set $ENV{DBICTEST_MYSQL_DSN}, _USER and _PASS to run this test
t/96_is_deteministic_value.t ........................ skipped: Test needs DateTime::Format::Strptime >= 1.2
t/97result_class.t .................................. ok
t/99dbic_sqlt_parser.t .............................. skipped: Test needs SQL::Translator >= 0.11018 (see DBIx::Class::Optional::Dependencies for details)
t/admin/01load.t .................................... skipped: Test needs JSON::Any >= 1.23, MooseX::Types >= 0.21, MooseX::Types::JSON >= 0.02, MooseX::Types::LoadableClass >= 0.011, MooseX::Types::Path::Class >= 0.05 (see DBIx::Class::Optional::Dependencies for details)
t/admin/02ddl.t ..................................... skipped: Test needs JSON::Any >= 1.23, MooseX::Types >= 0.21, MooseX::Types::JSON >= 0.02, MooseX::Types::LoadableClass >= 0.011, MooseX::Types::Path::Class >= 0.05 (see DBIx::Class::Optional::Dependencies for details)
t/admin/03data.t .................................... skipped: Test needs JSON::Any >= 1.23, MooseX::Types >= 0.21, MooseX::Types::JSON >= 0.02, MooseX::Types::LoadableClass >= 0.011, MooseX::Types::Path::Class >= 0.05 (see DBIx::Class::Optional::Dependencies for details)
t/admin/10script.t .................................. skipped: Test needs JSON::Any >= 1.31, JSON::DWIW, MooseX::Types >= 0.21, MooseX::Types::JSON >= 0.02, MooseX::Types::LoadableClass >= 0.011, MooseX::Types::Path::Class >= 0.05, Text::CSV >= 1.16
t/cdbi/01-columns.t ................................. skipped: Class::DBI required for this test
t/cdbi/02-Film.t .................................... skipped: Class::DBI required for this test
t/cdbi/03-subclassing.t ............................. skipped: Class::DBI required for this test
t/cdbi/04-lazy.t .................................... skipped: Class::DBI required for this test
t/cdbi/06-hasa.t .................................... skipped: Class::DBI required for this test
t/cdbi/08-inheritcols.t ............................. skipped: Class::DBI required for this test
t/cdbi/09-has_many.t ................................ skipped: Class::DBI required for this test
t/cdbi/11-triggers.t ................................ skipped: Class::DBI required for this test
t/cdbi/12-filter.t .................................. skipped: Class::DBI required for this test
t/cdbi/13-constraint.t .............................. skipped: Class::DBI required for this test
t/cdbi/14-might_have.t .............................. skipped: Class::DBI required for this test
t/cdbi/15-accessor.t ................................ skipped: Class::DBI required for this test
t/cdbi/16-reserved.t ................................ skipped: Class::DBI required for this test
t/cdbi/18-has_a.t ................................... skipped: Class::DBI required for this test
t/cdbi/19-set_sql.t ................................. skipped: Class::DBI required for this test
t/cdbi/21-iterator.t ................................ skipped: Class::DBI required for this test
t/cdbi/22-deflate_order.t ........................... skipped: Class::DBI required for this test
t/cdbi/22-self_referential.t ........................ skipped: Class::DBI required for this test
t/cdbi/23-cascade.t ................................. skipped: Class::DBI required for this test
t/cdbi/24-meta_info.t ............................... skipped: Class::DBI required for this test
t/cdbi/26-mutator.t ................................. skipped: Class::DBI required for this test
t/cdbi/30-pager.t ................................... skipped: Class::DBI required for this test
t/cdbi/68-inflate_has_a.t ........................... skipped: Class::DBI required for this test
t/cdbi/70_implicit_inflate.t ........................ skipped: Test needs DateTime::Format::SQLite, DateTime::Format::Strptime >= 1.2
t/cdbi/71_column_object.t ........................... skipped: The tested functionality is only available in Class::DBI >= 3.0.5
t/cdbi/98-failure.t ................................. skipped: Class::DBI required for this test
t/cdbi/abstract/search_where.t ...................... skipped: Class::DBI required for this test
t/cdbi/columns_as_hashes.t .......................... skipped: Class::DBI required for this test
t/cdbi/columns_dont_override_custom_accessors.t ..... skipped: Class::DBI required for this test
t/cdbi/construct.t .................................. skipped: Class::DBI required for this test
t/cdbi/copy.t ....................................... skipped: Class::DBI required for this test
t/cdbi/DeepAbstractSearch/01_search.t ............... skipped: Class::DBI required for this test
t/cdbi/early_column_heisenbug.t ..................... skipped: Class::DBI required for this test
t/cdbi/has_many_loads_foreign_class.t ............... skipped: Class::DBI required for this test
t/cdbi/hasa_without_loading.t ....................... skipped: Class::DBI required for this test
t/cdbi/max_min_value_of.t ........................... skipped: Class::DBI required for this test
t/cdbi/mk_group_accessors.t ......................... skipped: Class::DBI required for this test
t/cdbi/multi_column_set.t ........................... skipped: Class::DBI required for this test
t/cdbi/object_cache.t ............................... skipped: Class::DBI required for this test
t/cdbi/retrieve_from_sql_with_limit.t ............... skipped: Class::DBI required for this test
t/cdbi/set_to_undef.t ............................... skipped: Class::DBI required for this test
t/cdbi/set_vs_DateTime.t ............................ skipped: Class::DBI required for this test
t/cdbi/sweet/08pager.t .............................. skipped: Class::DBI required for this test
t/count/count_rs.t .................................. ok
t/count/distinct.t .................................. ok
t/count/group_by_func.t ............................. ok
t/count/grouped_pager.t ............................. ok
t/count/in_subquery.t ............................... ok
t/count/joined.t .................................... ok
t/count/prefetch.t .................................. ok
t/count/search_related.t ............................ ok
t/debug/bulk-insert.t ............................... ok
t/debug/core.t ...................................... ok
t/debug/no-repeats.t ................................ ok
t/debug/pretty.t .................................... skipped: Test needs JSON::Any >= 1.23
t/debug/show-progress.t ............................. ok
t/delete/cascade_missing.t .......................... ok
t/delete/complex.t .................................. ok
t/delete/m2m.t ...................................... ok
t/delete/related.t .................................. ok
t/discard_changes_in_DESTROY.t ...................... ok
t/inflate/core.t .................................... skipped: Inflation tests need DateTime::Format::Strptime >= 1.2
t/inflate/datetime.t ................................ skipped: DT inflation tests need DateTime::Format::SQLite, DateTime::Format::Strptime >= 1.2
t/inflate/datetime_determine_parser.t ............... skipped: Test needs DateTime::Format::SQLite, DateTime::Format::Strptime >= 1.2
t/inflate/datetime_firebird.t ....................... skipped: Set $ENV{DBICTEST_FIREBIRD_DSN} and/or $ENV{DBICTEST_FIREBIRD_INTERBASE_DSN} and/or $ENV{DBICTEST_FIREBIRD_ODBC_DSN}, _USER and _PASS to run these tests. WARNING: This test drops and creates a table called 'event'
t/inflate/datetime_informix.t ....................... skipped: Test needs DateTime::Format::Strptime >= 1.2 and
t/inflate/datetime_missing_deps.t ................... ok
t/inflate/datetime_msaccess.t ....................... skipped: Set $ENV{DBICTEST_MSACCESS_ODBC_DSN} and/or $ENV{DBICTEST_MSACCESS_ADO_DSN} (and optionally _USER and _PASS) to run these tests.
t/inflate/datetime_mssql.t .......................... skipped: Set $ENV{DBICTEST_MSSQL_ODBC_DSN} and/or $ENV{DBICTEST_MSSQL_DSN} and/or $ENV{DBICTEST_MSSQL_ADO_DSN} _USER and _PASS to run this test
t/inflate/datetime_mysql.t .......................... skipped: Inflation tests need DateTime::Format::MySQL, DateTime::Format::Strptime >= 1.2
t/inflate/datetime_oracle.t ......................... skipped: Set $ENV{DBICTEST_ORA_DSN}, _USER and _PASS to run this test. Warning: This test drops and creates a table called 'event'
t/inflate/datetime_pg.t ............................. skipped: Test needs DateTime::Format::Pg >= 0.16004, DateTime::Format::Strptime >= 1.2
t/inflate/datetime_sqlanywhere.t .................... skipped: Set $ENV{DBICTEST_SQLANYWHERE_DSN} and/or $ENV{DBICTEST_SQLANYWHERE_ODBC_DSN}
t/inflate/datetime_sybase.t ......................... skipped: Test needs DateTime::Format::Strptime >= 1.2 and
t/inflate/file_column.t ............................. ok
t/inflate/hri.t ..................................... ok
t/inflate/hri_torture.t ............................. ok
t/inflate/serialize.t ............................... ok
t/multi_create/cd_single.t .......................... ok
t/multi_create/diamond.t ............................ ok
t/multi_create/existing_in_chain.t .................. ok
t/multi_create/find_or_multicreate.t ................ ok
t/multi_create/has_many.t ........................... ok
t/multi_create/in_memory.t .......................... ok
t/multi_create/insert_defaults.t .................... ok
t/multi_create/m2m.t ................................ ok
t/multi_create/multilev_single_PKeqFK.t ............. ok
t/multi_create/reentrance_count.t ................... skipped: Disable test entirely until multicreate is rewritten in terms of subqueries
t/multi_create/standard.t ........................... ok
t/multi_create/torture.t ............................ ok
t/ordered/cascade_delete.t .......................... ok
t/ordered/unordered_movement.t ...................... ok
t/pager/data_page_compat/constructor.t .............. ok
t/pager/data_page_compat/simple.t ................... ok
t/pager/dbic_core.t ................................. ok
t/prefetch/attrs_untouched.t ........................ ok
t/prefetch/correlated.t ............................. ok
t/prefetch/count.t .................................. ok
t/prefetch/diamond.t ................................ ok
t/prefetch/double_prefetch.t ........................ ok
t/prefetch/empty_cache.t ............................ ok
t/prefetch/false_colvalues.t ........................ ok
t/prefetch/grouped.t ................................ ok
t/prefetch/incomplete.t ............................. ok
t/prefetch/join_type.t .............................. ok
t/prefetch/lazy_cursor.t ............................ ok
t/prefetch/manual.t ................................. ok
t/prefetch/multiple_hasmany.t ....................... ok
t/prefetch/multiple_hasmany_torture.t ............... ok
t/prefetch/o2m_o2m_order_by_with_limit.t ............ ok
t/prefetch/one_to_many_to_one.t ..................... ok
t/prefetch/refined_search_on_relation.t ............. ok
t/prefetch/restricted_children_set.t ................ ok
t/prefetch/standard.t ............................... ok
t/prefetch/via_search_related.t ..................... ok
t/prefetch/with_limit.t ............................. ok
t/relationship/after_update.t ....................... ok
t/relationship/core.t ............................... ok
t/relationship/custom.t ............................. ok
t/relationship/custom_opaque.t ...................... ok
t/relationship/custom_with_null_in_cond.t ........... ok
t/relationship/doesnt_exist.t ....................... ok
t/relationship/dynamic_foreign_columns.t ............ ok
t/relationship/info.t ............................... ok
t/relationship/malformed_declaration.t .............. ok
t/relationship/proxy.t .............................. ok
t/relationship/set_column_on_fk.t ................... ok
t/relationship/unresolvable.t ....................... ok
t/relationship/update_or_create_multi.t ............. ok
t/relationship/update_or_create_single.t ............ ok
t/resultset/as_query.t .............................. ok
t/resultset/as_subselect_rs.t ....................... ok
t/resultset/bind_attr.t ............................. ok
t/resultset/find_on_subquery_cond.t ................. ok
t/resultset/inflate_result_api.t .................... ok
t/resultset/inflatemap_abuse.t ...................... ok
t/resultset/is_ordered.t ............................ ok
t/resultset/is_paged.t .............................. ok
t/resultset/nulls_only.t ............................ ok
t/resultset/plus_select.t ........................... ok
t/resultset/rowparser_internals.t ................... ok
t/resultset/update_delete.t ......................... ok
t/resultset_class.t ................................. ok
t/resultset_overload.t .............................. ok
t/resultsource/bare_resultclass_exception.t ......... ok
t/resultsource/set_primary_key.t .................... ok
t/row/copy_with_extra_selection.t ................... ok
t/row/filter_column.t ............................... ok
t/row/find_one_has_many.t ........................... ok
t/row/inflate_result.t .............................. ok
t/row/pkless.t ...................................... ok
t/row/set_extra_column.t ............................ ok
t/schema/anon.t ..................................... ok
t/schema/clone.t .................................... ok
t/search/deprecated_attributes.t .................... ok
t/search/distinct.t ................................. ok
t/search/empty_attrs.t .............................. ok
t/search/preserve_original_rs.t ..................... ok
t/search/reentrancy.t ............................... ok
t/search/related_has_many.t ......................... ok
t/search/related_strip_prefetch.t ................... ok
t/search/select_chains.t ............................ ok
t/search/select_chains_unbalanced.t ................. ok
t/search/stack_cond.t ............................... ok
t/search/subquery.t ................................. ok
t/search/void.t ..................................... ok
t/sqlmaker/bind_transport.t ......................... ok
t/sqlmaker/core.t ................................... ok
t/sqlmaker/core_quoted.t ............................ ok
t/sqlmaker/dbihacks_internals.t ..................... ok
t/sqlmaker/hierarchical/oracle.t .................... skipped: Test needs Math::Base36 >= 0.07
t/sqlmaker/legacy_joins.t ........................... ok
t/sqlmaker/limit_dialects/basic.t ................... ok
t/sqlmaker/limit_dialects/custom.t .................. ok
t/sqlmaker/limit_dialects/fetch_first.t ............. ok
t/sqlmaker/limit_dialects/first_skip.t .............. ok
t/sqlmaker/limit_dialects/generic_subq.t ............ ok
t/sqlmaker/limit_dialects/mssql_torture.t ........... ok
t/sqlmaker/limit_dialects/rno.t ..................... ok
t/sqlmaker/limit_dialects/rownum.t .................. ok
t/sqlmaker/limit_dialects/skip_first.t .............. ok
t/sqlmaker/limit_dialects/toplimit.t ................ ok
t/sqlmaker/limit_dialects/torture.t ................. ok
t/sqlmaker/literal_with_bind.t ...................... ok
t/sqlmaker/msaccess.t ............................... ok
t/sqlmaker/mysql.t .................................. ok
t/sqlmaker/nest_deprec.t ............................ ok
t/sqlmaker/oracle.t ................................. skipped: Test needs Math::Base36 >= 0.07
t/sqlmaker/oraclejoin.t ............................. skipped: Test needs Math::Base36 >= 0.07
t/sqlmaker/order_by_bindtransport.t ................. ok
t/sqlmaker/order_by_func.t .......................... ok
t/sqlmaker/pg.t ..................................... ok
t/sqlmaker/quotes.t ................................. ok
t/sqlmaker/rebase.t ................................. ok
t/sqlmaker/sqlite.t ................................. ok
t/storage/base.t .................................... ok
t/storage/cursor.t .................................. ok
t/storage/dbh_do.t .................................. ok
t/storage/dbi_coderef.t ............................. ok
t/storage/dbi_env.t ................................. ok
t/storage/deploy.t .................................. skipped: Test needs SQL::Translator >= 0.11018 (see DBIx::Class::Optional::Dependencies for details)
t/storage/deprecated_exception_source_bind_attrs.t .. ok
t/storage/disable_sth_caching.t ..................... ok
t/storage/error.t ................................... ok
t/storage/exception.t ............................... ok
t/storage/global_destruction.t ...................... ok
t/storage/nobindvars.t .............................. ok
t/storage/on_connect_call.t ......................... ok
t/storage/on_connect_do.t ........................... ok
t/storage/ping_count.t .............................. ok
t/storage/prefer_stringification.t .................. ok
t/storage/quote_names.t ............................. ok
t/storage/reconnect.t ............................... ok
t/storage/replicated.t .............................. skipped: Test needs MooseX::Types >= 0.21, MooseX::Types::LoadableClass >= 0.011
t/storage/savepoints.t .............................. ok
t/storage/stats.t ................................... ok
t/storage/txn.t ..................................... ok
t/storage/txn_scope_guard.t ......................... ok
t/update/all.t ...................................... ok
t/update/ident_cond.t ............................... ok
t/update/type_aware.t ............................... ok
# 
# 
# 
# 211 contributors made this library what it is today
# 
# 
# Distinguished patrons:
#   * ( 2014 ~ 2015 ) Henry Van Styn, creator of http://p3rl.org/RapidApp
# 
# 
t/zzzzzzz_authors.t ................................. ok
t/zzzzzzz_perl_perf_bug.t ........................... skipped: Skipping as system appears to be a smoker
t/zzzzzzz_sqlite_deadlock.t ......................... ok
xt/authors.t ........................................ ok
xt/dbictest_unlink_guard.t .......................... ok
xt/footers.t ........................................ ok
xt/old_envvars.t .................................... ok
xt/optional_deps.t .................................. ok
xt/pod.t ............................................ ok
xt/podcoverage.t .................................... ok
xt/quote_sub.t ...................................... ok
xt/standalone_testschema_resultclasses.t ............ ok
xt/strictures.t ..................................... skipped: Test needs: Test::Strict >= 0.20
xt/whitespace.t ..................................... skipped: Test needs: Test::EOL >= 1.0, Test::NoTabs >= 0.9
All tests successful.

Test Summary Report
-------------------
t/sqlmaker/limit_dialects/generic_subq.t          (Wstat: 0 Tests: 19 Failed: 0)
  TODO passed:   9, 11, 13, 15, 17
t/storage/txn_scope_guard.t                       (Wstat: 0 Tests: 18 Failed: 0)
  TODO passed:   17
Files=325, Tests=42626, 136 wallclock secs ( 3.51 usr  0.73 sys + 122.25 cusr 11.90 csys = 138.39 CPU)
Result: PASS

------------------------------
PREREQUISITES
------------------------------

Prerequisite modules loaded:

requires:

    Module                   Need     Have    
    ------------------------ -------- --------
    Class::Accessor::Grouped 0.10012  0.10014 
    Class::C3::Componentised 1.0009   1.001002
    Class::Inspector         1.24     1.36    
    Config::Any              0.20     0.32    
    Context::Preserve        0.01     0.03    
    Data::Dumper::Concise    2.020    2.023   
    DBD::SQLite              1.29     1.72    
    DBI                      1.57     1.643   
    Devel::GlobalDestruction 0.09     0.14    
    File::Temp               0.22     0.2311  
    Hash::Merge              0.12     0.302   
    Module::Find             0.07     0.16    
    Moo                      2.000    2.005005
    MRO::Compat              0.12     0.15    
    namespace::clean         0.24     0.27    
    Package::Stash           0.28     0.40    
    Path::Class              0.18     0.37    
    perl                     5.008001 5.037010
    Scope::Guard             0.03     0.21    
    SQL::Abstract::Classic   1.91     1.91    
    Sub::Name                0.04     0.26    
    Test::Deep               0.101    1.204   
    Test::Exception          0.31     0.43    
    Test::More               0.94     1.302194
    Test::Warn               0.21     0.37    
    Text::Balanced           2.00     2.06    
    Try::Tiny                0.07     0.31    

build_requires:

    Module                   Need     Have    
    ------------------------ -------- --------
    DBD::SQLite              1.29     1.72    
    ExtUtils::MakeMaker      6.59     7.70    
    File::Temp               0.22     0.2311  
    Package::Stash           0.28     0.40    
    Test::Deep               0.101    1.204   
    Test::Exception          0.31     0.43    
    Test::More               0.94     1.302194
    Test::Warn               0.21     0.37    

configure_requires:

    Module                   Need     Have    
    ------------------------ -------- --------
    ExtUtils::MakeMaker      6.59     7.70    


------------------------------
ENVIRONMENT AND OTHER CONTEXT
------------------------------

Environment variables:

    AUTOMATED_TESTING = 1
    LANG = en_US.UTF-8
    LC_ADDRESS = de_DE.UTF-8
    LC_IDENTIFICATION = de_DE.UTF-8
    LC_MEASUREMENT = de_DE.UTF-8
    LC_MONETARY = de_DE.UTF-8
    LC_NAME = de_DE.UTF-8
    LC_NUMERIC = de_DE.UTF-8
    LC_PAPER = de_DE.UTF-8
    LC_TELEPHONE = de_DE.UTF-8
    LC_TIME = de_DE.UTF-8
    PATH = /home/sand/bin:/usr/local/bin:/usr/local/sbin:/usr/sbin:/usr/bin:/sbin:/bin:/usr/games:/usr/local/games:/snap/bin:/usr/local/perl/bin:/usr/X11/bin
    PERL5LIB = 
    PERL5OPT = 
    PERL5_CPANPLUS_IS_RUNNING = 95091
    PERL5_CPAN_IS_RUNNING = 95091
    PERL_CANARY_STABILITY_NOPROMPT = 1
    PERL_MM_USE_DEFAULT = 1
    PERL_USE_UNSAFE_INC = 1
    SHELL = /usr/bin/zsh
    TERM = screen

Perl special variables (and OS-specific diagnostics, for MSWin32):

    $^X = /tmp/basesmoker-reloperl-ABGN/bin/perl
    $UID/$EUID = 1005 / 1005
    $GID = 1005 1005
    $EGID = 1005 1005

Perl module toolchain versions installed:

    Module              Have    
    ------------------- --------
    CPAN                2.34    
    CPAN::Meta          2.150010
    Cwd                 3.89    
    ExtUtils::CBuilder  0.280238
    ExtUtils::Command   7.70    
    ExtUtils::Install   2.22    
    ExtUtils::MakeMaker 7.70    
    ExtUtils::Manifest  1.73    
    ExtUtils::ParseXS   3.49    
    File::Spec          3.88    
    JSON                4.10    
    JSON::PP            4.16    
    Module::Build       0.4232  
    Module::Signature   0.88    
    Parse::CPAN::Meta   2.150010
    Test::Harness       3.44    
    Test::More          1.302194
    YAML                1.30    
    YAML::Syck          1.34    
    version             0.9929  


--

Summary of my perl5 (revision 5 version 37 subversion 10) configuration:
  Commit id: d62f5d9eddd273f5a82c0dbad932a8f4d18f9488
  Platform:
    osname=linux
    osvers=5.19.0-38-generic
    archname=x86_64-linux-thread-multi
    uname='linux k93jammy 5.19.0-38-generic #39~22.04.1-ubuntu smp preempt_dynamic fri mar 17 21:16:15 utc 2 x86_64 x86_64 x86_64 gnulinux '
    config_args='-Dprefix=/home/sand/src/perl/repoperls/installed-perls/host/k93jammy/v5.37.10/b4f3 -Dmyhostname=k93jammy -Dinstallusrbinperl=n -Uversiononly -Dusedevel -des -Ui_db -Dlibswanted=cl pthread socket inet nsl gdbm dbm malloc dl ld sun m crypt sec util c cposix posix ucb BSD gdbm_compat -Duseithreads -Uuselongdouble -DEBUGGING=-g'
    hint=recommended
    useposix=true
    d_sigaction=define
    useithreads=define
    usemultiplicity=define
    use64bitint=define
    use64bitall=define
    uselongdouble=undef
    usemymalloc=n
    default_inc_excludes_dot=define
  Compiler:
    cc='cc'
    ccflags ='-D_REENTRANT -D_GNU_SOURCE -fwrapv -fno-strict-aliasing -pipe -fstack-protector-strong -I/usr/local/include -D_LARGEFILE_SOURCE -D_FILE_OFFSET_BITS=64'
    optimize='-O2 -g'
    cppflags='-D_REENTRANT -D_GNU_SOURCE -fwrapv -fno-strict-aliasing -pipe -fstack-protector-strong -I/usr/local/include'
    ccversion=''
    gccversion='11.3.0'
    gccosandvers=''
    intsize=4
    longsize=8
    ptrsize=8
    doublesize=8
    byteorder=12345678
    doublekind=3
    d_longlong=define
    longlongsize=8
    d_longdbl=define
    longdblsize=16
    longdblkind=3
    ivtype='long'
    ivsize=8
    nvtype='double'
    nvsize=8
    Off_t='off_t'
    lseeksize=8
    alignbytes=8
    prototype=define
  Linker and Libraries:
    ld='cc'
    ldflags =' -fstack-protector-strong -L/usr/local/lib'
    libpth=/usr/local/lib /usr/lib/x86_64-linux-gnu /usr/lib /usr/lib64
    libs=-lpthread -lnsl -ldl -lm -lcrypt -lutil -lc
    perllibs=-lpthread -lnsl -ldl -lm -lcrypt -lutil -lc
    libc=/lib/x86_64-linux-gnu/libc.so.6
    so=so
    useshrplib=false
    libperl=libperl.a
    gnulibc_version='2.35'
  Dynamic Linking:
    dlsrc=dl_dlopen.xs
    dlext=so
    d_dlsymun=undef
    ccdlflags='-Wl,-E'
    cccdlflags='-fPIC'
    lddlflags='-shared -O2 -g -L/usr/local/lib -fstack-protector-strong'


Characteristics of this binary (from libperl): 
  Compile-time options:
    HAS_TIMES
    MULTIPLICITY
    PERLIO_LAYERS
    PERL_COPY_ON_WRITE
    PERL_DONT_CREATE_GVSV
    PERL_HASH_FUNC_SIPHASH13
    PERL_HASH_USE_SBOX32
    PERL_MALLOC_WRAP
    PERL_OP_PARENT
    PERL_PRESERVE_IVUV
    PERL_USE_DEVEL
    PERL_USE_SAFE_PUTENV
    USE_64_BIT_ALL
    USE_64_BIT_INT
    USE_ITHREADS
    USE_LARGE_FILES
    USE_LOCALE
    USE_LOCALE_COLLATE
    USE_LOCALE_CTYPE
    USE_LOCALE_NUMERIC
    USE_LOCALE_TIME
    USE_PERLIO
    USE_PERL_ATOF
    USE_REENTRANT_API
    USE_THREAD_SAFE_LOCALE
  Built under linux
  Compiled at Apr  1 2023 07:03:51
  %ENV:
    PERL5LIB=""
    PERL5OPT=""
    PERL5_CPANPLUS_IS_RUNNING="95091"
    PERL5_CPAN_IS_RUNNING="95091"
    PERL_CANARY_STABILITY_NOPROMPT="1"
    PERL_MM_USE_DEFAULT="1"
    PERL_USE_UNSAFE_INC="1"
  @INC:
    /home/sand/src/perl/repoperls/installed-perls/host/k93jammy/v5.37.10/b4f3/lib/site_perl/5.37.10/x86_64-linux-thread-multi
    /home/sand/src/perl/repoperls/installed-perls/host/k93jammy/v5.37.10/b4f3/lib/site_perl/5.37.10
    /home/sand/src/perl/repoperls/installed-perls/host/k93jammy/v5.37.10/b4f3/lib/5.37.10/x86_64-linux-thread-multi
    /home/sand/src/perl/repoperls/installed-perls/host/k93jammy/v5.37.10/b4f3/lib/5.37.10
    .