DBIx-Class-DeploymentHandler v0.002234 Perl 5 v5.41.9 amd64-netbsd-thread-multi
- Status
- Pass
- From
- Carlos Guevara
- Dist
-
DBIx-Class-DeploymentHandler v0.002234
- Platform
- Perl 5 v5.41.9 amd64-netbsd-thread-multi
- Date
- 2025-02-22 12:56:07
- ID
- 61d1411e-f11c-11ef-8475-8c38b0e6b9b5
This distribution has been tested as part of the CPAN Testers
project, supporting the Perl programming language. See
http://wiki.cpantesters.org/ for more information or email
questions to cpan-testers-discuss@perl.org
--
Dear Wes Malone,
This is a computer-generated report for DBIx-Class-DeploymentHandler-0.002234
on perl 5.41.9, created by CPAN-Reporter-1.2020.
Thank you for uploading your work to CPAN. Congratulations!
All tests were successful.
Sections of this report:
* Tester comments
* Program output
* Prerequisites
* Environment and other context
------------------------------
TESTER COMMENTS
------------------------------
Additional comments from tester:
this report is from an automated smoke testing program
and was not reviewed by a human for accuracy
------------------------------
PROGRAM OUTPUT
------------------------------
Output from '/usr/bin/make test':
PERL_DL_NONLAZY=1 "/home/cpan/bin/perl/bin/perl5.41.9" "-MExtUtils::Command::MM" "-MTest::Harness" "-e" "undef *Test::Harness::Switches; test_harness(0, 'blib/lib', 'blib/arch')" t/*.t t/bugs/*.t t/deploy_methods/*.t t/version_handlers/*.t t/version_storages/*.t
#
# Versions for all modules listed in MYMETA.json (including optional ones):
#
# === Configure Requires ===
#
# Module Want Have Where Howbig
# ------------------- ---- ---- ------------------------------ ------
# ExtUtils::MakeMaker any 7.70 /home/cpan/bin/perl/lib/5.41.9 109260
#
# === Build Requires ===
#
# Module Want Have Where Howbig
# ------------------- ---- ---- ------------------------------ ------
# ExtUtils::MakeMaker any 7.70 /home/cpan/bin/perl/lib/5.41.9 109260
#
# === Test Requires ===
#
# Module Want Have Where Howbig
# -------------- ----- -------- ------------------------------------------------------------------ ------
# DBD::SQLite 1.35 1.76 /home/cpan/bin/perl/lib/site_perl/5.41.9/amd64-netbsd-thread-multi 97482
# File::Temp any 0.2311 /home/cpan/bin/perl/lib/5.41.9 118877
# Test::Fatal 0.006 0.017 /home/cpan/bin/perl/lib/site_perl/5.41.9 15355
# Test::More 0.88 1.302209 /home/cpan/bin/perl/lib/5.41.9 54460
# Test::Requires 0.06 0.11 /home/cpan/bin/perl/lib/site_perl/5.41.9 3687
# aliased any 0.34 /home/cpan/bin/perl/lib/site_perl/5.41.9 10219
#
# === Test Recommends ===
#
# Module Want Have Where Howbig
# --------------------------- ---- ------- ---------------------------------------- ------
# DBIx::Class::Schema::Loader any 0.07052 /home/cpan/bin/perl/lib/site_perl/5.41.9 19509
#
# === Runtime Requires ===
#
# Module Want Have Where Howbig
# --------------------------- -------- -------- ------------------------------------------------------------------ ------
# Carp any 1.54 /home/cpan/bin/perl/lib/5.41.9 35994
# Carp::Clan any 6.08 /home/cpan/bin/perl/lib/site_perl/5.41.9 12883
# Context::Preserve 0.01 0.03 /home/cpan/bin/perl/lib/site_perl/5.41.9 5071
# DBIx::Class 0.08121 0.082844 /home/cpan/bin/perl/lib/site_perl/5.41.9 11265
# Log::Contextual 0.005005 0.009001 /home/cpan/bin/perl/lib/site_perl/5.41.9 28267
# Module::Runtime 0.001 0.016 /home/cpan/bin/perl/lib/site_perl/5.41.9 17521
# Moose 1 2.2207 /home/cpan/bin/perl/lib/site_perl/5.41.9/amd64-netbsd-thread-multi 39553
# MooseX::Role::Parameterized 0.18 1.11 /home/cpan/bin/perl/lib/site_perl/5.41.9 7516
# Path::Class 0.26 0.37 /home/cpan/bin/perl/lib/site_perl/5.41.9 5563
# SQL::SplitStatement 1.00020 1.00023 /home/cpan/bin/perl/lib/site_perl/5.41.9 40360
# SQL::Translator 1.63 1.66 /home/cpan/bin/perl/lib/site_perl/5.41.9 33167
# Sub::Exporter::Progressive any 0.001013 /home/cpan/bin/perl/lib/site_perl/5.41.9 4812
# Text::Brew 0.02 0.02 /home/cpan/bin/perl/lib/site_perl/5.41.9 7920
# Try::Tiny any 0.32 /home/cpan/bin/perl/lib/site_perl/5.41.9 21142
# YAML 0.66 1.31 /home/cpan/bin/perl/lib/site_perl/5.41.9 3196
# autodie any 2.37 /home/cpan/bin/perl/lib/5.41.9 12399
# namespace::autoclean any 0.31 /home/cpan/bin/perl/lib/site_perl/5.41.9 12761
# parent 0.225 0.244 /home/cpan/bin/perl/lib/5.41.9 2775
#
t/00-report-prereqs.t .................................... ok
t/02-instantiation-alt-result-class.t .................... ok
t/02-instantiation-no-ddl-no-wrap.t ...................... ok
t/02-instantiation-no-ddl.t .............................. ok
t/02-instantiation-wo-component.t ........................ ok
t/02-instantiation.t ..................................... ok
t/03-deprecated.t ........................................ ok
t/04-preconnect.t ........................................ ok
t/10-multiple-schemas.t .................................. ok
t/10-split-sql-chunk.t ................................... ok
t/20-version-table-rename.t .............................. ok
t/author-pod-syntax.t .................................... skipped: these tests are for testing by the author
t/bugs/01-emailed-bug-01.t ............................... ok
t/customised.t ........................................... ok
t/deploy_methods/coderef-leakage.t ....................... ok
t/deploy_methods/script-helpers.t ........................ ok
t/deploy_methods/sql_translator.t ........................ ok
t/deploy_methods/sql_translator_deprecated.t ............. ok
t/deploy_methods/sql_translator_errors.t ................. ok
t/deploy_methods/sql_translator_ignore_ddl.t ............. ok
t/deploy_methods/sql_translator_protoschema_transform.t .. ok
t/version_handlers/db_schema_versions.t .................. ok
t/version_handlers/explict_versions.t .................... ok
t/version_handlers/monotonic.t ........................... ok
t/version_storages/standard.t ............................ ok
All tests successful.
Files=25, Tests=334, 13 wallclock secs ( 0.11 usr 0.04 sys + 10.48 cusr 1.80 csys = 12.43 CPU)
Result: PASS
------------------------------
PREREQUISITES
------------------------------
Prerequisite modules loaded:
requires:
Module Need Have
--------------------------- -------- --------
autodie 0 2.37
Carp 0 1.54
Carp::Clan 0 6.08
Context::Preserve 0.01 0.03
DBIx::Class 0.08121 0.082844
Log::Contextual 0.005005 0.009001
Module::Runtime 0.001 0.016
Moose 1 2.2207
MooseX::Role::Parameterized 0.18 1.11
namespace::autoclean 0 0.31
parent 0.225 0.244
Path::Class 0.26 0.37
SQL::SplitStatement 1.00020 1.00023
SQL::Translator 1.63 1.66
Sub::Exporter::Progressive 0 0.001013
Text::Brew 0.02 0.02
Try::Tiny 0 0.32
YAML 0.66 1.31
build_requires:
Module Need Have
--------------------------- -------- --------
aliased 0 0.34
DBD::SQLite 1.35 1.76
ExtUtils::MakeMaker 0 7.70
File::Temp 0 0.2311
Test::Fatal 0.006 0.017
Test::More 0.88 1.302209
Test::Requires 0.06 0.11
configure_requires:
Module Need Have
--------------------------- -------- --------
ExtUtils::MakeMaker 0 7.70
------------------------------
ENVIRONMENT AND OTHER CONTEXT
------------------------------
Environment variables:
AUTOMATED_TESTING = 1
DATE_MANIP_TEST_DM5 = 1
LC_ALL = C
NONINTERACTIVE_TESTING = 1
NO_NETWORK_TESTING = 1
PATH = /home/cpan/bin/perl/bin:/home/cpan/bin:/home/cpan/bin:/bin:/sbin:/usr/bin:/usr/sbin:/usr/X11R7/bin:/usr/pkg/bin:/usr/pkg/sbin:/usr/games:/usr/local/bin:/usr/local/sbin
PERL5LIB =
PERL5OPT =
PERL5_CPANPLUS_IS_RUNNING = 28312
PERL5_CPAN_IS_RUNNING = 28312
PERL_MM_USE_DEFAULT = 1
PERL_USE_UNSAFE_INC = 1
SHELL = /usr/pkg/bin/bash
TERM = screen
TMPDIR = /home/cpan/tmp
Perl special variables (and OS-specific diagnostics, for MSWin32):
$^X = /home/cpan/bin/perl/bin/perl5.41.9
$UID/$EUID = 1001 / 1001
$GID = 100 100
$EGID = 100 100
Perl module toolchain versions installed:
Module Have
------------------- --------
CPAN 2.38
CPAN::Meta 2.150010
Cwd 3.92
ExtUtils::CBuilder 0.280240
ExtUtils::Command 7.70
ExtUtils::Install 2.22
ExtUtils::MakeMaker 7.70
ExtUtils::Manifest 1.75
ExtUtils::ParseXS 3.57
File::Spec 3.93
JSON 4.10
JSON::PP 4.16
Module::Build 0.4234
Module::Signature n/a
Parse::CPAN::Meta 2.150010
Test2 1.302209
Test::Harness 3.50
Test::More 1.302209
YAML 1.31
YAML::Syck 1.34
version 0.9933
--
Summary of my perl5 (revision 5 version 41 subversion 9) configuration:
Commit id: 005309cf8f01ddaf7e762b411196c658556b91b7
Platform:
osname=netbsd
osvers=10.0
archname=amd64-netbsd-thread-multi
uname='netbsd cjg-netbsd10 10.0 netbsd 10.0 (generic) #0: thu mar 28 08:33:33 utc 2024 mkrepro@mkrepro.netbsd.org:usrsrcsysarchamd64compilegeneric amd64 '
config_args='-des -Dprefix=/home/cpan/bin/perl -Dscriptdir=/home/cpan/bin/perl/bin -Dusedevel -Duse64bitall -Duseithreads'
hint=recommended
useposix=true
d_sigaction=define
useithreads=define
usemultiplicity=define
use64bitint=define
use64bitall=define
uselongdouble=undef
usemymalloc=n
default_inc_excludes_dot=define
Compiler:
cc='cc'
ccflags ='-fwrapv -fno-strict-aliasing -pipe -fstack-protector-strong -I/usr/pkg/include -D_FORTIFY_SOURCE=2'
optimize='-O'
cppflags='-fwrapv -fno-strict-aliasing -pipe -fstack-protector-strong -I/usr/pkg/include'
ccversion=''
gccversion='10.5.0'
gccosandvers=''
intsize=4
longsize=8
ptrsize=8
doublesize=8
byteorder=12345678
doublekind=3
d_longlong=define
longlongsize=8
d_longdbl=define
longdblsize=16
longdblkind=3
ivtype='long'
ivsize=8
nvtype='double'
nvsize=8
Off_t='off_t'
lseeksize=8
alignbytes=8
prototype=define
Linker and Libraries:
ld='cc'
ldflags =' -Wl,-rpath,/usr/pkg/lib -Wl,-rpath,/usr/local/lib -fstack-protector-strong -L/usr/pkg/lib'
libpth=/usr/lib /usr/pkg/lib /lib
libs=-lpthread -lm -lcrypt -lutil -lc -lposix
perllibs=-lpthread -lm -lcrypt -lutil -lc -lposix
libc=/lib/libc.so
so=so
useshrplib=false
libperl=libperl.a
gnulibc_version=''
Dynamic Linking:
dlsrc=dl_dlopen.xs
dlext=so
d_dlsymun=undef
ccdlflags='-Wl,-E '
cccdlflags='-DPIC -fPIC '
lddlflags='-shared -L/usr/pkg/lib -fstack-protector-strong'
Characteristics of this binary (from libperl):
Compile-time options:
HAS_LONG_DOUBLE
HAS_STRTOLD
HAS_TIMES
MULTIPLICITY
PERLIO_LAYERS
PERL_COPY_ON_WRITE
PERL_DONT_CREATE_GVSV
PERL_HASH_FUNC_SIPHASH13
PERL_HASH_USE_SBOX32
PERL_MALLOC_WRAP
PERL_OP_PARENT
PERL_PRESERVE_IVUV
PERL_USE_DEVEL
PERL_USE_SAFE_PUTENV
USE_64_BIT_ALL
USE_64_BIT_INT
USE_ITHREADS
USE_LARGE_FILES
USE_LOCALE
USE_LOCALE_COLLATE
USE_LOCALE_CTYPE
USE_LOCALE_NUMERIC
USE_LOCALE_TIME
USE_PERLIO
USE_PERL_ATOF
USE_REENTRANT_API
Built under netbsd
Compiled at Feb 21 2025 22:47:52
%ENV:
PERL5LIB=""
PERL5OPT=""
PERL5_CPANPLUS_IS_RUNNING="28312"
PERL5_CPAN_IS_RUNNING="28312"
PERL_MM_USE_DEFAULT="1"
PERL_USE_UNSAFE_INC="1"
@INC:
/home/cpan/bin/perl/lib/site_perl/5.41.9/amd64-netbsd-thread-multi
/home/cpan/bin/perl/lib/site_perl/5.41.9
/home/cpan/bin/perl/lib/5.41.9/amd64-netbsd-thread-multi
/home/cpan/bin/perl/lib/5.41.9
.