XML-Builder v0.902 Perl 5 v5.13.0 i686-linux-thread-multi
- Status
- Pass
- From
- Serguei Trouchelle (STRO)
- Dist
-
XML-Builder v0.902
- Platform
- Perl 5 v5.13.0 i686-linux-thread-multi
- Date
- 2010-06-07 17:23:26
- ID
- 61d73882-7259-11df-bc1c-db1b32f0e683
This distribution has been tested as part of the CPAN Testers
project, supporting the Perl programming language. See
http://wiki.cpantesters.org/ for more information or email
questions to cpan-testers-discuss@perl.org
--
Dear Aristotle Pagaltzis,
This is a computer-generated report for XML-Builder-0.902
on perl 5.13.0, created by CPAN-Reporter-1.1711.
Thank you for uploading your work to CPAN. Congratulations!
All tests were successful.
Sections of this report:
* Tester comments
* Program output
* Prerequisites
* Environment and other context
------------------------------
TESTER COMMENTS
------------------------------
Additional comments from tester:
this report is from an automated smoke testing program
and was not reviewed by a human for accuracy
------------------------------
PROGRAM OUTPUT
------------------------------
Output from './Build test':
# Testing XML::Builder 0.902
t/00-load.t ............ ok
t/01-basic.t ........... ok
t/02-distributivity.t .. ok
t/03-encoding.t ........ ok
t/10-stringify.t ....... ok
t/11-render.t .......... ok
t/cpants.t ............. skipped: This is just to fob CPANTS
t/eg-atom.t ............ ok
t/eg-xhtml.t ........... ok
All tests successful.
Files=9, Tests=37, 4 wallclock secs ( 0.15 usr 0.15 sys + 1.22 cusr 0.47 csys = 1.99 CPU)
Result: PASS
------------------------------
PREREQUISITES
------------------------------
Prerequisite modules loaded:
requires:
Module Need Have
-------------------- ------ -------
Carp::Clan 0 6.04
Encode 0 2.39
Object::Tiny::Lvalue 0 1.07
parent 0 0.223
Scalar::Util 0 1.23
build_requires:
Module Need Have
-------------------- ------ -------
Module::Build 0.3601 0.36_09
configure_requires:
Module Need Have
-------------------- ------ -------
Module::Build 0.3601 0.36_09
------------------------------
ENVIRONMENT AND OTHER CONTEXT
------------------------------
Environment variables:
AUTOMATED_TESTING = 1
LANG = en_US.UTF-8
PATH = /usr/local/bin:/usr/bin:/bin:/usr/games
PERL5LIB =
PERL5OPT =
PERL5_CPANPLUS_IS_RUNNING = 4988
PERL5_CPAN_IS_RUNNING = 4988
PERL5_CPAN_IS_RUNNING_IN_RECURSION = 25394,4988
PERL_CR_SMOKER_CURRENT = XML-Builder-0.902
PERL_EXTUTILS_AUTOINSTALL = --defaultdeps
PERL_MM_USE_DEFAULT = 1
SHELL = /bin/bash
TERM = xterm
Perl special variables (and OS-specific diagnostics, for MSWin32):
$^X = /home/stro/perl5130/bin/perl
$UID/$EUID = 1000 / 1000
$GID = 1000 20 24 25 29 44 46 1000
$EGID = 1000 20 24 25 29 44 46 1000
Perl module toolchain versions installed:
Module Have
------------------- -------
CPAN 1.94_56
Cwd 3.31
ExtUtils::CBuilder 0.27
ExtUtils::Command 1.16
ExtUtils::Install 1.55
ExtUtils::MakeMaker 6.5601
ExtUtils::Manifest 1.57
ExtUtils::ParseXS 2.2205
File::Spec 3.31
Module::Build 0.36_09
Module::Signature 0.64
Test::Harness 3.17
Test::More 0.94
YAML 0.71
YAML::Syck 1.09
version 0.82
--
Summary of my perl5 (revision 5 version 13 subversion 0) configuration:
Platform:
osname=linux, osvers=2.6.26-2-686, archname=i686-linux
uname='linux debian5 2.6.26-2-686 #1 smp wed nov 4 20:45:37 utc 2009 i686 gnulinux '
config_args=''
hint=recommended, useposix=true, d_sigaction=define
useithreads=undef, usemultiplicity=undef
useperlio=define, d_sfio=undef, uselargefiles=define, usesocks=undef
use64bitint=undef, use64bitall=undef, uselongdouble=undef
usemymalloc=n, bincompat5005=undef
Compiler:
cc='cc', ccflags ='-fno-strict-aliasing -pipe -fstack-protector -I/usr/local/include -D_LARGEFILE_SOURCE -D_FILE_OFFSET_BITS=64',
optimize='-O2',
cppflags='-fno-strict-aliasing -pipe -fstack-protector -I/usr/local/include'
ccversion='', gccversion='4.3.2', gccosandvers=''
intsize=4, longsize=4, ptrsize=4, doublesize=8, byteorder=1234
d_longlong=define, longlongsize=8, d_longdbl=define, longdblsize=12
ivtype='long', ivsize=4, nvtype='double', nvsize=8, Off_t='off_t', lseeksize=8
alignbytes=4, prototype=define
Linker and Libraries:
ld='cc', ldflags =' -fstack-protector -L/usr/local/lib'
libpth=/usr/local/lib /lib /usr/lib
libs=-lnsl -ldb -ldl -lm -lcrypt -lutil -lc
perllibs=-lnsl -ldl -lm -lcrypt -lutil -lc
libc=/lib/libc-2.7.so, so=so, useshrplib=false, libperl=libperl.a
gnulibc_version='2.7'
Dynamic Linking:
dlsrc=dl_dlopen.xs, dlext=so, d_dlsymun=undef, ccdlflags='-Wl,-E'
cccdlflags='-fPIC', lddlflags='-shared -O2 -L/usr/local/lib -fstack-protector'
Characteristics of this binary (from libperl):
Compile-time options: PERL_DONT_CREATE_GVSV PERL_MALLOC_WRAP
USE_LARGE_FILES USE_PERLIO USE_PERL_ATOF
Built under linux
Compiled at Apr 22 2010 13:51:35
%ENV:
PERL5LIB=""
PERL5OPT=""
PERL5_CPANPLUS_IS_RUNNING="4988"
PERL5_CPAN_IS_RUNNING="4988"
PERL5_CPAN_IS_RUNNING_IN_RECURSION="25394,4988"
PERL_CR_SMOKER_CURRENT="XML-Builder-0.902"
PERL_EXTUTILS_AUTOINSTALL="--defaultdeps"
PERL_MM_USE_DEFAULT="1"
@INC:
/home/stro/perl5130/lib/site_perl/5.13.0/i686-linux
/home/stro/perl5130/lib/site_perl/5.13.0
/home/stro/perl5130/lib/5.13.0/i686-linux
/home/stro/perl5130/lib/5.13.0
.