WebService-BitbucketServer v0.605 Perl 5 v5.14.4 x86_64-linux-multi
- Status
- Pass
- From
- Serguei Trouchelle (STRO)
- Dist
-
WebService-BitbucketServer v0.605
- Platform
- Perl 5 v5.14.4 x86_64-linux-multi
- Date
- 2018-08-17 22:25:01
- ID
- 61ddcbf6-a26c-11e8-967b-971ffdd4ab5d
This distribution has been tested as part of the CPAN Testers
project, supporting the Perl programming language. See
http://wiki.cpantesters.org/ for more information or email
questions to cpan-testers-discuss@perl.org
--
Dear Charles McGarvey,
This is a computer-generated report for WebService-BitbucketServer-0.605
on perl 5.14.4, created by CPAN-Reporter-1.2018.
Thank you for uploading your work to CPAN. Congratulations!
All tests were successful.
Sections of this report:
* Tester comments
* Program output
* Prerequisites
* Environment and other context
------------------------------
TESTER COMMENTS
------------------------------
Additional comments from tester:
this report is from an automated smoke testing program
and was not reviewed by a human for accuracy
------------------------------
PROGRAM OUTPUT
------------------------------
Output from '/usr/bin/make test':
Skip blib/lib/auto/share/module/WebService-BitbucketServer-Spec/submap_ssh.pl (unchanged)
Skip blib/lib/auto/share/module/WebService-BitbucketServer-Spec/submap_branch.pl (unchanged)
Skip blib/lib/auto/share/module/WebService-BitbucketServer-Spec/submap_mirroring_upstream.pl (unchanged)
Skip blib/lib/auto/share/module/WebService-BitbucketServer-Spec/submap_core.pl (unchanged)
Skip blib/lib/auto/share/module/WebService-BitbucketServer-Spec/submap_build.pl (unchanged)
Skip blib/lib/auto/share/module/WebService-BitbucketServer-Spec/submap_jira.pl (unchanged)
Skip blib/lib/auto/share/module/WebService-BitbucketServer-Spec/submap_comment_likes.pl (unchanged)
Skip blib/lib/auto/share/module/WebService-BitbucketServer-Spec/submap_audit.pl (unchanged)
Skip blib/lib/auto/share/module/WebService-BitbucketServer-Spec/submap_git.pl (unchanged)
Skip blib/lib/auto/share/module/WebService-BitbucketServer-Spec/submap_gpg.pl (unchanged)
Skip blib/lib/auto/share/module/WebService-BitbucketServer-Spec/submap_ref_restriction.pl (unchanged)
Skip blib/lib/auto/share/module/WebService-BitbucketServer-Spec/submap_default_reviewers.pl (unchanged)
Skip blib/lib/auto/share/module/WebService-BitbucketServer-Spec/submap_repository_ref_sync.pl (unchanged)
Skip blib/lib/auto/share/module/WebService-BitbucketServer-Spec/submap_access_tokens.pl (unchanged)
PERL_DL_NONLAZY=1 "/home/stro/perl/5.14.4m/bin/perl" "-MExtUtils::Command::MM" "-MTest::Harness" "-e" "undef *Test::Harness::Switches; test_harness(0, 'blib/lib', 'blib/arch')" t/*.t
t/00-compile.t ......... ok
#
# Versions for all modules listed in MYMETA.json (including optional ones):
#
# === Configure Requires ===
#
# Module Want Have
# ----------------------- ---- ----
# ExtUtils::MakeMaker any 7.34
# File::ShareDir::Install 0.06 0.11
#
# === Build Requires ===
#
# Module Want Have
# ------------------- ---- ----
# ExtUtils::MakeMaker any 7.34
#
# === Test Requires ===
#
# Module Want Have
# -------------------- ---- --------
# ExtUtils::MakeMaker any 7.34
# File::Spec any 3.62
# HTTP::AnyUA::Backend any 0.901
# IO::Handle any 1.31
# IPC::Open3 any 1.0901
# Test::Deep any 1.127
# Test::More any 1.302120
# lib any 0.63
# parent any 0.225
#
# === Test Recommends ===
#
# Module Want Have
# ---------- -------- --------
# CPAN::Meta 2.120900 2.150010
#
# === Runtime Requires ===
#
# Module Want Have
# ----------------- ---- --------
# Carp any 1.38
# Clone any 0.39
# Exporter any 5.72
# HTTP::AnyUA any 0.901
# HTTP::AnyUA::Util any 0.901
# JSON::MaybeXS any 1.003009
# MIME::Base64 any 3.15
# Module::Load any 0.32
# Moo any 2.003004
# Scalar::Util any 1.49
# Types::Standard any 1.002001
# namespace::clean any 0.27
# strict any 1.04
# warnings any 1.12
#
# === Runtime Suggests ===
#
# Module Want Have
# -------------- ---- ------
# File::Path any 2.15
# File::ShareDir any 1.104
# File::Spec any 3.62
# XML::LibXML any 2.0129
#
t/00-report-prereqs.t .. ok
t/01-accessors.t ....... ok
t/10-request.t ......... ok
t/20-response.t ........ ok
t/21-paged-response.t .. ok
All tests successful.
Files=6, Tests=45, 2 wallclock secs ( 0.03 usr 0.00 sys + 0.94 cusr 0.05 csys = 1.02 CPU)
Result: PASS
------------------------------
PREREQUISITES
------------------------------
Prerequisite modules loaded:
requires:
Module Need Have
----------------------- ----- --------
Carp 0 1.38
Clone 0 0.39
Exporter 0 5.72
HTTP::AnyUA 0 0.901
HTTP::AnyUA::Util 0 0.901
JSON::MaybeXS 0 1.003009
MIME::Base64 0 3.15
Module::Load 0 0.32
Moo 0 2.003004
namespace::clean 0 0.27
perl 5.006 5.014004
Scalar::Util 0 1.49
strict 0 1.04
Types::Standard 0 1.002001
warnings 0 1.12
build_requires:
Module Need Have
----------------------- ----- --------
ExtUtils::MakeMaker 0 7.34
File::Spec 0 3.62
HTTP::AnyUA::Backend 0 0.901
IO::Handle 0 1.31
IPC::Open3 0 1.0901
lib 0 0.63
parent 0 0.225
Test::Deep 0 1.127
Test::More 0 1.302120
configure_requires:
Module Need Have
----------------------- ----- --------
ExtUtils::MakeMaker 0 7.34
File::ShareDir::Install 0.06 0.11
------------------------------
ENVIRONMENT AND OTHER CONTEXT
------------------------------
Environment variables:
AUTOMATED_TESTING = 1
LANG = en_US.UTF-8
PATH = /usr/local/bin:/usr/bin:/bin:/usr/local/games:/usr/games
PERL5LIB =
PERL5OPT =
PERL5_CPANPLUS_IS_RUNNING = 7985
PERL5_CPAN_IS_RUNNING = 7985
PERL5_CPAN_IS_RUNNING_IN_RECURSION = 4286,7985
PERL_CR_SMOKER_CURRENT = WebService-BitbucketServer-0.605
PERL_EXTUTILS_AUTOINSTALL = --defaultdeps
PERL_MM_USE_DEFAULT = 1
SHELL = /bin/bash
TERM = xterm
Perl special variables (and OS-specific diagnostics, for MSWin32):
$^X = /home/stro/perl/5.14.4m/bin/perl
$UID/$EUID = 1000 / 1000
$GID = 1000 24 25 29 30 44 46 108 114 1000
$EGID = 1000 24 25 29 30 44 46 108 114 1000
Perl module toolchain versions installed:
Module Have
------------------- --------
CPAN 2.16
CPAN::Meta 2.150010
Cwd 3.62
ExtUtils::CBuilder 0.280226
ExtUtils::Command 7.34
ExtUtils::Install 2.06
ExtUtils::MakeMaker 7.34
ExtUtils::Manifest 1.70
ExtUtils::ParseXS 3.35
File::Spec 3.62
JSON 2.97001
JSON::PP 2.97001
Module::Build 0.4224
Module::Signature 0.81
Parse::CPAN::Meta 2.150010
Test::Harness 3.39
Test::More 1.302120
YAML 1.23
YAML::Syck 1.30
version 0.9918
--
Summary of my perl5 (revision 5 version 14 subversion 4) configuration:
Platform:
osname=linux, osvers=3.16.0-4-amd64, archname=x86_64-linux-multi
uname='linux vm-debian-001 3.16.0-4-amd64 #1 smp debian 3.16.7-ckt11-1 (2015-05-24) x86_64 gnulinux '
config_args=''
hint=recommended, useposix=true, d_sigaction=define
useithreads=undef, usemultiplicity=define
useperlio=define, d_sfio=undef, uselargefiles=define, usesocks=undef
use64bitint=define, use64bitall=define, uselongdouble=undef
usemymalloc=n, bincompat5005=undef
Compiler:
cc='cc', ccflags ='-fno-strict-aliasing -pipe -fstack-protector -I/usr/local/include -D_LARGEFILE_SOURCE -D_FILE_OFFSET_BITS=64',
optimize='-O2',
cppflags='-fno-strict-aliasing -pipe -fstack-protector -I/usr/local/include'
ccversion='', gccversion='4.9.2', gccosandvers=''
intsize=4, longsize=8, ptrsize=8, doublesize=8, byteorder=12345678
d_longlong=define, longlongsize=8, d_longdbl=define, longdblsize=16
ivtype='long', ivsize=8, nvtype='double', nvsize=8, Off_t='off_t', lseeksize=8
alignbytes=8, prototype=define
Linker and Libraries:
ld='cc', ldflags =' -fstack-protector -L/usr/local/lib'
libpth=/usr/local/lib /lib/x86_64-linux-gnu /lib/../lib /usr/lib/x86_64-linux-gnu /usr/lib/../lib /lib /usr/lib
libs=-lnsl -ldl -lm -lcrypt -lutil -lc
perllibs=-lnsl -ldl -lm -lcrypt -lutil -lc
libc=, so=so, useshrplib=false, libperl=libperl.a
gnulibc_version='2.19'
Dynamic Linking:
dlsrc=dl_dlopen.xs, dlext=so, d_dlsymun=undef, ccdlflags='-Wl,-E'
cccdlflags='-fPIC', lddlflags='-shared -O2 -L/usr/local/lib -fstack-protector'
Characteristics of this binary (from libperl):
Compile-time options: MULTIPLICITY PERL_DONT_CREATE_GVSV
PERL_IMPLICIT_CONTEXT PERL_MALLOC_WRAP
PERL_PRESERVE_IVUV USE_64_BIT_ALL USE_64_BIT_INT
USE_LARGE_FILES USE_PERLIO USE_PERL_ATOF
Built under linux
Compiled at Sep 30 2017 20:50:10
%ENV:
PERL5LIB=""
PERL5OPT=""
PERL5_CPANPLUS_IS_RUNNING="7985"
PERL5_CPAN_IS_RUNNING="7985"
PERL5_CPAN_IS_RUNNING_IN_RECURSION="4286,7985"
PERL_CR_SMOKER_CURRENT="WebService-BitbucketServer-0.605"
PERL_EXTUTILS_AUTOINSTALL="--defaultdeps"
PERL_MM_USE_DEFAULT="1"
@INC:
/home/stro/perl/5.14.4m/lib/site_perl/5.14.4/x86_64-linux-multi
/home/stro/perl/5.14.4m/lib/site_perl/5.14.4
/home/stro/perl/5.14.4m/lib/5.14.4/x86_64-linux-multi
/home/stro/perl/5.14.4m/lib/5.14.4
.