Report for Dist-Zilla-Plugin-SpellingCommonMistakesTests-1.001000

Back
From: metabase:user:e3434da8-b236-11df-85ca-0247c6d74bde
Subject: PASS Dist-Zilla-Plugin-SpellingCommonMistakesTests-1.001000 v5.15.4 GNU/Linux
Date: 2011-11-01T12:52:40Z

This distribution has been tested as part of the CPAN Testers
project, supporting the Perl programming language.  See
http://wiki.cpantesters.org/ for more information or email
questions to cpan-testers-discuss@perl.org


--
Dear Adam Lesperance,

This is a computer-generated report for Dist-Zilla-Plugin-SpellingCommonMistakesTests-1.001000
on perl 5.15.4, created by CPAN-Reporter-1.2002.

Thank you for uploading your work to CPAN.  Congratulations!
All tests were successful.

Sections of this report:

    * Tester comments
    * Program output
    * Prerequisites
    * Environment and other context

------------------------------
TESTER COMMENTS
------------------------------

Additional comments from tester:

none provided

------------------------------
PROGRAM OUTPUT
------------------------------

Output from './Build test':

t/00-compile.t .................. ok
# 
[Bootstrap::lib] lib added to @INC at (eval 4) line 1
# 
# perl: v5.15.4 (wanted 5.008) on linux from /home/ack/perl5/perlbrew/perls/perl-5.15.4/bin/perl5.15.4
# 
# Dist::Zilla::Plugin::Bootstrap::lib           => 0.01023600 (want any version)
# Dist::Zilla::Plugin::InlineFiles              => 4.300003   (want any version)
# English                                       => 1.04       (want any version)
# File::Find                                    => 1.20       (want any version)
# File::Temp                                    => 0.22       (want any version)
# Module::Build                                 => 0.3901     (want 0.3601) 
# Moose                                         => 2.0205     (want any version)
# Pod::Spell::CommonMistakes                    => 1.000      (want any version)
# Test::More                                    => 0.98       (want 0.88)   
# Test::Pod::Spelling::CommonMistakes           => 1.000      (want any version)
# utf8                                          => 1.09       (want any version)
# 
# Thanks for using my code.  I hope it works for you.
# If not, please try and include this output in the bug report.
# That will help me reproduce the issue and solve you problem.
# 
t/000-report-versions-tiny.t .... ok
t/author-critic.t ............... skipped: these tests are for testing by the author
t/release-common_spelling.t ..... skipped: these tests are for release candidate testing
t/release-consistent-version.t .. skipped: these tests are for release candidate testing
t/release-cpan-changes.t ........ skipped: these tests are for release candidate testing
t/release-dist-manifest.t ....... skipped: these tests are for release candidate testing
t/release-distmeta.t ............ skipped: these tests are for release candidate testing
t/release-eol.t ................. skipped: these tests are for release candidate testing
t/release-has-version.t ......... skipped: these tests are for release candidate testing
t/release-kwalitee.t ............ skipped: these tests are for release candidate testing
t/release-minimum-version.t ..... skipped: these tests are for release candidate testing
t/release-no-tabs.t ............. skipped: these tests are for release candidate testing
t/release-pod-coverage.t ........ skipped: these tests are for release candidate testing
t/release-pod-syntax.t .......... skipped: these tests are for release candidate testing
t/release-portability.t ......... skipped: these tests are for release candidate testing
t/release-unused-vars.t ......... skipped: these tests are for release candidate testing
All tests successful.
Files=17, Tests=2,  1 wallclock secs ( 0.06 usr  0.03 sys +  0.80 cusr  0.12 csys =  1.01 CPU)
Result: PASS

------------------------------
PREREQUISITES
------------------------------

Prerequisite modules loaded:

requires:

    Module                              Need   Have      
    ----------------------------------- ------ ----------
    Dist::Zilla::Plugin::InlineFiles    0      4.300003  
    Moose                               0      2.0205    
    perl                                5.008  5.015004  
    Pod::Spell::CommonMistakes          0      1.000     
    Test::Pod::Spelling::CommonMistakes 0      1.000     
    utf8                                0      1.09      

build_requires:

    Module                              Need   Have      
    ----------------------------------- ------ ----------
    Dist::Zilla::Plugin::Bootstrap::lib 0      0.01023600
    English                             0      1.04      
    File::Find                          0      1.20      
    File::Temp                          0      0.22      
    Module::Build                       0.3601 0.39_01   
    Test::More                          0.88   0.98      

configure_requires:

    Module                              Need   Have      
    ----------------------------------- ------ ----------
    Module::Build                       0.3601 0.39_01   


------------------------------
ENVIRONMENT AND OTHER CONTEXT
------------------------------

Environment variables:

    LANG = en_GB.utf8
    LC_COLLATE = C
    LC_MONETARY = nl_NL.utf8
    PATH = /home/ack/.cabal/bin:/home/ack/perl5/bin:/home/ack/bin:/home/ack/lisp/plt/bin:/usr/bin/mh:/home/ack/perl5/perlbrew/bin:/home/ack/perl5/perlbrew/perls/current/bin:/home/ack/.local/bin:/home/ack/.cabal/bin:/home/ack/perl5/bin:/home/ack/bin:/home/ack/lisp/plt/bin:/usr/bin/mh:/home/ack/perl5/perlbrew/bin:/home/ack/perl5/perlbrew/perls/current/bin:/home/ack/.local/bin:/usr/local/bin:/usr/bin:/bin:/usr/local/sbin:/usr/sbin:/sbin:/usr/games:/usr/lib/surfraw:/var/lib/gems/1.9.1/bin:/home/ack/lisp/racket/bin:/home/ack/.rubygems/bin:/home/ack/src/go/bin:/home/ack/AndroidSDK:/home/ack/AndroidSDK/tools:/home/ack/AndroidSDK/platform-tools:/home/ack/bin:/usr/games:/usr/lib/surfraw:/var/lib/gems/1.9.1/bin:/home/ack/lisp/racket/bin:/home/ack/.rubygems/bin:/home/ack/src/go/bin:/home/ack/AndroidSDK:/home/ack/AndroidSDK/tools:/home/ack/AndroidSDK/platform-tools
    PERL5LIB = /home/ack/.local/share/.cpan/build/DNS-Bananafonana-0.1-bDHyFS/blib/arch:/home/ack/.local/share/.cpan/build/DNS-Bananafonana-0.1-bDHyFS/blib/lib
    PERL5OPT = 
    PERL5_CPANPLUS_IS_RUNNING = 10660
    PERL5_CPAN_IS_RUNNING = 10660
    SHELL = /bin/bash
    TERM = eterm-color

Perl special variables (and OS-specific diagnostics, for MSWin32):

    $^X = /home/ack/perl5/perlbrew/perls/perl-5.15.4/bin/perl5.15.4
    $UID/$EUID = 500 / 500
    $GID = 500 10 500
    $EGID = 500 10 500

Perl module toolchain versions installed:

    Module              Have    
    ------------------- --------
    CPAN                1.9800  
    CPAN::Meta          2.112621
    Cwd                 3.37    
    ExtUtils::CBuilder  0.280204
    ExtUtils::Command   1.17    
    ExtUtils::Install   1.57    
    ExtUtils::MakeMaker 6.62    
    ExtUtils::Manifest  1.60    
    ExtUtils::ParseXS   3.05    
    File::Spec          3.34    
    JSON                2.53    
    JSON::PP            2.27200 
    Module::Build       0.39_01 
    Module::Signature   0.68    
    Parse::CPAN::Meta   1.4401  
    Test::Harness       3.23    
    Test::More          0.98    
    YAML                0.73    
    YAML::Syck          n/a     
    version             0.94    


--

Summary of my perl5 (revision 5 version 15 subversion 4) configuration:
   
  Platform:
    osname=linux, osvers=2.6.40.6-0.fc15.x86_64, archname=x86_64-linux
    uname='linux lugano.fritz.box 2.6.40.6-0.fc15.x86_64 #1 smp tue oct 4 00:39:50 utc 2011 x86_64 x86_64 x86_64 gnulinux '
    config_args='-de -Dprefix=/home/ack/perl5/perlbrew/perls/perl-5.15.4 -Dusedevel'
    hint=recommended, useposix=true, d_sigaction=define
    useithreads=undef, usemultiplicity=undef
    useperlio=define, d_sfio=undef, uselargefiles=define, usesocks=undef
    use64bitint=define, use64bitall=define, uselongdouble=undef
    usemymalloc=n, bincompat5005=undef
  Compiler:
    cc='cc', ccflags ='-fno-strict-aliasing -pipe -fstack-protector -I/usr/local/include -D_LARGEFILE_SOURCE -D_FILE_OFFSET_BITS=64',
    optimize='-O2',
    cppflags='-fno-strict-aliasing -pipe -fstack-protector -I/usr/local/include'
    ccversion='', gccversion='4.6.1 20110908 (Red Hat 4.6.1-9)', gccosandvers=''
    intsize=4, longsize=8, ptrsize=8, doublesize=8, byteorder=12345678
    d_longlong=define, longlongsize=8, d_longdbl=define, longdblsize=16
    ivtype='long', ivsize=8, nvtype='double', nvsize=8, Off_t='off_t', lseeksize=8
    alignbytes=8, prototype=define
  Linker and Libraries:
    ld='cc', ldflags =' -fstack-protector -L/usr/local/lib'
    libpth=/usr/local/lib /lib/../lib64 /usr/lib/../lib64 /lib /usr/lib /lib64 /usr/lib64 /usr/local/lib64
    libs=-lnsl -ldl -lm -lcrypt -lutil -lc
    perllibs=-lnsl -ldl -lm -lcrypt -lutil -lc
    libc=, so=so, useshrplib=false, libperl=libperl.a
    gnulibc_version='2.14'
  Dynamic Linking:
    dlsrc=dl_dlopen.xs, dlext=so, d_dlsymun=undef, ccdlflags='-Wl,-E'
    cccdlflags='-fPIC', lddlflags='-shared -O2 -L/usr/local/lib -fstack-protector'


Characteristics of this binary (from libperl): 
  Compile-time options: HAS_TIMES PERLIO_LAYERS PERL_DONT_CREATE_GVSV
                        PERL_MALLOC_WRAP PERL_PRESERVE_IVUV PERL_USE_DEVEL
                        USE_64_BIT_ALL USE_64_BIT_INT USE_LARGE_FILES
                        USE_LOCALE USE_LOCALE_COLLATE USE_LOCALE_CTYPE
                        USE_LOCALE_NUMERIC USE_PERLIO USE_PERL_ATOF
  Built under linux
  Compiled at Oct 23 2011 13:27:21
  %ENV:
    PERL5LIB="/home/ack/.local/share/.cpan/build/DNS-Bananafonana-0.1-bDHyFS/blib/arch:/home/ack/.local/share/.cpan/build/DNS-Bananafonana-0.1-bDHyFS/blib/lib"
    PERL5OPT=""
    PERL5_CPANPLUS_IS_RUNNING="10660"
    PERL5_CPAN_IS_RUNNING="10660"
  @INC:
    /home/ack/.local/share/.cpan/build/DNS-Bananafonana-0.1-bDHyFS/blib/arch
    /home/ack/.local/share/.cpan/build/DNS-Bananafonana-0.1-bDHyFS/blib/lib
    /home/ack/perl5/perlbrew/perls/perl-5.15.4/lib/site_perl/5.15.4/x86_64-linux
    /home/ack/perl5/perlbrew/perls/perl-5.15.4/lib/site_perl/5.15.4
    /home/ack/perl5/perlbrew/perls/perl-5.15.4/lib/5.15.4/x86_64-linux
    /home/ack/perl5/perlbrew/perls/perl-5.15.4/lib/5.15.4
    .