HTML-LinkList v0.1701 Perl 5 v5.24.0 x86_64-linux

Status
Pass
From
Slaven Rezić (SREZIC)
Dist
HTML-LinkList v0.1701
Platform
Perl 5 v5.24.0 x86_64-linux
Date
2017-10-11 19:14:20
ID
622e9822-aeb8-11e7-a859-d609ad724f4a
This distribution has been tested as part of the CPAN Testers
project, supporting the Perl programming language.  See
http://wiki.cpantesters.org/ for more information or email
questions to cpan-testers-discuss@perl.org


--
Dear Kathryn Andersen,

This is a computer-generated report for HTML-LinkList-0.1701
on perl 5.24.0, created by CPAN-Reporter-1.2018.

Thank you for uploading your work to CPAN.  Congratulations!
All tests were successful.

Sections of this report:

    * Tester comments
    * Program output
    * Prerequisites
    * Environment and other context

------------------------------
TESTER COMMENTS
------------------------------

Additional comments from tester:

none provided

------------------------------
PROGRAM OUTPUT
------------------------------

Output from './Build test':

t/00-compile.t ............ ok
# 
# Versions for all modules listed in MYMETA.json (including optional ones):
# 
# === Configure Requires ===
# 
#     Module        Want   Have
#     ------------- ---- ------
#     Module::Build 0.28 0.4224
# 
# === Build Requires ===
# 
#     Module        Want   Have
#     ------------- ---- ------
#     Module::Build 0.28 0.4224
# 
# === Test Requires ===
# 
#     Module              Want     Have
#     ------------------- ---- --------
#     ExtUtils::MakeMaker  any     7.30
#     File::Spec           any     3.63
#     IO::Handle           any     1.36
#     IPC::Open3           any     1.20
#     Test::More           any 1.302100
# 
# === Test Recommends ===
# 
#     Module         Want     Have
#     ---------- -------- --------
#     CPAN::Meta 2.120900 2.150005
# 
# === Runtime Requires ===
# 
#     Module       Want  Have
#     ------------ ---- -----
#     Data::Dumper  any 2.161
#     Exporter      any  5.72
#     strict        any  1.11
#     warnings      any  1.36
# 
t/00-report-prereqs.t ..... ok
t/10_link_list.t .......... ok
t/20_link_tree.t .......... ok
t/30_full_tree.t .......... ok
t/40_breadcrumb_trail.t ... ok
t/50_nav_tree.t ........... ok
t/release-distmeta.t ...... skipped: these tests are for release candidate testing
t/release-has-version.t ... skipped: these tests are for release candidate testing
t/release-pod-coverage.t .. skipped: these tests are for release candidate testing
t/release-pod-syntax.t .... skipped: these tests are for release candidate testing
t/release-portability.t ... skipped: these tests are for release candidate testing
All tests successful.
Files=12, Tests=56,  1 wallclock secs ( 0.03 usr  0.06 sys +  0.50 cusr  0.09 csys =  0.68 CPU)
Result: PASS

------------------------------
PREREQUISITES
------------------------------

Prerequisite modules loaded:

requires:

    Module              Need  Have    
    ------------------- ----- --------
    Data::Dumper        0     2.161   
    Exporter            0     5.72    
    strict              0     1.11    
    warnings            0     1.36    

build_requires:

    Module              Need  Have    
    ------------------- ----- --------
    ExtUtils::MakeMaker 0     7.30    
    File::Spec          0     3.63    
    IO::Handle          0     1.36    
    IPC::Open3          0     1.20    
    Module::Build       0.28  0.4224  
    perl                5.006 5.024000
    Test::More          0     1.302100

configure_requires:

    Module              Need  Have    
    ------------------- ----- --------
    Module::Build       0.28  0.4224  


------------------------------
ENVIRONMENT AND OTHER CONTEXT
------------------------------

Environment variables:

    LANG = C
    PATH = /usr/local/bin:/usr/bin:/bin:/usr/local/sbin:/usr/sbin:/sbin:/home/cpansand/bin/linux-gnu:/home/cpansand/bin/sh:/home/cpansand/bin:/usr/games:/home/cpansand/devel:/home/eserte/src/srezic-misc/scripts
    PERL5LIB = /home/cpansand/.cpan/build/2017101118/POSIX-strptime-0.13-vjzQ4R/blib/arch:/home/cpansand/.cpan/build/2017101118/POSIX-strptime-0.13-vjzQ4R/blib/lib:/home/cpansand/.cpan/build/2017101118/Image-ExifTool-10.55-STnohj/blib/arch:/home/cpansand/.cpan/build/2017101118/Image-ExifTool-10.55-STnohj/blib/lib:/home/cpansand/.cpan/build/2017101118/Math-Calc-Parser-1.001-MWLGqd/blib/arch:/home/cpansand/.cpan/build/2017101118/Math-Calc-Parser-1.001-MWLGqd/blib/lib:/home/cpansand/.cpan/build/2017101118/SQLite-Work-0.1601-MZwCyW/blib/arch:/home/cpansand/.cpan/build/2017101118/SQLite-Work-0.1601-MZwCyW/blib/lib:/home/cpansand/.cpan/build/2017101118/Text-NeatTemplate-0.1101-ILEHj8/blib/arch:/home/cpansand/.cpan/build/2017101118/Text-NeatTemplate-0.1101-ILEHj8/blib/lib:/home/cpansand/.cpan/build/2017101118/Text-Markdown-Discount-0.11-voq4JT/blib/arch:/home/cpansand/.cpan/build/2017101118/Text-Markdown-Discount-0.11-voq4JT/blib/lib
    PERL5OPT = 
    PERL5_CPANPLUS_IS_RUNNING = 8205
    PERL5_CPAN_IS_RUNNING = 8205
    PERL5_CPAN_IS_RUNNING_IN_RECURSION = 7546,8205
    PERLDOC = -MPod::Perldoc::ToTextOverstrike
    PERL_BATCH = yes
    PERL_CANARY_STABILITY_NOPROMPT = 1
    PERL_CPAN_REPORTER_CONFIG = /var/tmp/cpansmoker-1023/2017101118/cpanreporter_000_config.ini
    PERL_EXTUTILS_AUTOINSTALL = --defaultdeps
    PERL_USE_UNSAFE_INC = 1
    SHELL = /usr/bin/zsh
    TERM = screen
    TMPDIR = /var/tmp/cpansmoker-1023/2017101118

Perl special variables (and OS-specific diagnostics, for MSWin32):

    $^X = /opt/perl-5.24.0/bin/perl5.24.0
    $UID/$EUID = 1023 / 1023
    $GID = 1023 1023
    $EGID = 1023 1023

Perl module toolchain versions installed:

    Module              Have    
    ------------------- --------
    CPAN                2.11    
    CPAN::Meta          2.150005
    Cwd                 3.63    
    ExtUtils::CBuilder  0.280226
    ExtUtils::Command   7.30    
    ExtUtils::Install   2.06    
    ExtUtils::MakeMaker 7.30    
    ExtUtils::Manifest  1.70    
    ExtUtils::ParseXS   3.31    
    File::Spec          3.63    
    JSON                2.94    
    JSON::PP            2.94    
    Module::Build       0.4224  
    Module::Signature   0.81    
    Parse::CPAN::Meta   1.4417  
    Test::Harness       3.36    
    Test::More          1.302100
    YAML                1.23    
    YAML::Syck          1.30    
    version             0.9916  


--

Summary of my perl5 (revision 5 version 24 subversion 0) configuration:
   
  Platform:
    osname=linux, osvers=4.9.0-3-amd64, archname=x86_64-linux
    uname='linux debian9 4.9.0-3-amd64 #1 smp debian 4.9.30-2+deb9u1 (2017-06-18) x86_64 gnulinux '
    config_args='-ds -e -Dprefix=/opt/perl-5.24.0 -Dcf_email=srezic@cpan.org'
    hint=recommended, useposix=true, d_sigaction=define
    useithreads=undef, usemultiplicity=undef
    use64bitint=define, use64bitall=define, uselongdouble=undef
    usemymalloc=n, bincompat5005=undef
  Compiler:
    cc='cc', ccflags ='-fwrapv -fno-strict-aliasing -pipe -fstack-protector-strong -I/usr/local/include -D_LARGEFILE_SOURCE -D_FILE_OFFSET_BITS=64',
    optimize='-O2',
    cppflags='-fwrapv -fno-strict-aliasing -pipe -fstack-protector-strong -I/usr/local/include'
    ccversion='', gccversion='6.3.0 20170516', gccosandvers=''
    intsize=4, longsize=8, ptrsize=8, doublesize=8, byteorder=12345678, doublekind=3
    d_longlong=define, longlongsize=8, d_longdbl=define, longdblsize=16, longdblkind=3
    ivtype='long', ivsize=8, nvtype='double', nvsize=8, Off_t='off_t', lseeksize=8
    alignbytes=8, prototype=define
  Linker and Libraries:
    ld='cc', ldflags =' -fstack-protector-strong -L/usr/local/lib'
    libpth=/usr/local/lib /usr/lib/gcc/x86_64-linux-gnu/6/include-fixed /usr/include/x86_64-linux-gnu /usr/lib /lib/x86_64-linux-gnu /lib/../lib /usr/lib/x86_64-linux-gnu /usr/lib/../lib /lib
    libs=-lpthread -lnsl -lgdbm -ldb -ldl -lm -lcrypt -lutil -lc -lgdbm_compat
    perllibs=-lpthread -lnsl -ldl -lm -lcrypt -lutil -lc
    libc=libc-2.24.so, so=so, useshrplib=false, libperl=libperl.a
    gnulibc_version='2.24'
  Dynamic Linking:
    dlsrc=dl_dlopen.xs, dlext=so, d_dlsymun=undef, ccdlflags='-Wl,-E'
    cccdlflags='-fPIC', lddlflags='-shared -O2 -L/usr/local/lib -fstack-protector-strong'


Characteristics of this binary (from libperl): 
  Compile-time options: HAS_TIMES PERLIO_LAYERS PERL_COPY_ON_WRITE
                        PERL_DONT_CREATE_GVSV
                        PERL_HASH_FUNC_ONE_AT_A_TIME_HARD PERL_MALLOC_WRAP
                        PERL_PRESERVE_IVUV USE_64_BIT_ALL USE_64_BIT_INT
                        USE_LARGE_FILES USE_LOCALE USE_LOCALE_COLLATE
                        USE_LOCALE_CTYPE USE_LOCALE_NUMERIC USE_LOCALE_TIME
                        USE_PERLIO USE_PERL_ATOF
  Built under linux
  Compiled at Jun 20 2017 18:06:36
  %ENV:
    PERL5LIB="/home/cpansand/.cpan/build/2017101118/POSIX-strptime-0.13-vjzQ4R/blib/arch:/home/cpansand/.cpan/build/2017101118/POSIX-strptime-0.13-vjzQ4R/blib/lib:/home/cpansand/.cpan/build/2017101118/Image-ExifTool-10.55-STnohj/blib/arch:/home/cpansand/.cpan/build/2017101118/Image-ExifTool-10.55-STnohj/blib/lib:/home/cpansand/.cpan/build/2017101118/Math-Calc-Parser-1.001-MWLGqd/blib/arch:/home/cpansand/.cpan/build/2017101118/Math-Calc-Parser-1.001-MWLGqd/blib/lib:/home/cpansand/.cpan/build/2017101118/SQLite-Work-0.1601-MZwCyW/blib/arch:/home/cpansand/.cpan/build/2017101118/SQLite-Work-0.1601-MZwCyW/blib/lib:/home/cpansand/.cpan/build/2017101118/Text-NeatTemplate-0.1101-ILEHj8/blib/arch:/home/cpansand/.cpan/build/2017101118/Text-NeatTemplate-0.1101-ILEHj8/blib/lib:/home/cpansand/.cpan/build/2017101118/Text-Markdown-Discount-0.11-voq4JT/blib/arch:/home/cpansand/.cpan/build/2017101118/Text-Markdown-Discount-0.11-voq4JT/blib/lib"
    PERL5OPT=""
    PERL5_CPANPLUS_IS_RUNNING="8205"
    PERL5_CPAN_IS_RUNNING="8205"
    PERL5_CPAN_IS_RUNNING_IN_RECURSION="7546,8205"
    PERLDOC="-MPod::Perldoc::ToTextOverstrike"
    PERL_BATCH="yes"
    PERL_CANARY_STABILITY_NOPROMPT="1"
    PERL_CPAN_REPORTER_CONFIG="/var/tmp/cpansmoker-1023/2017101118/cpanreporter_000_config.ini"
    PERL_EXTUTILS_AUTOINSTALL="--defaultdeps"
    PERL_USE_UNSAFE_INC="1"
  @INC:
    /home/cpansand/.cpan/build/2017101118/POSIX-strptime-0.13-vjzQ4R/blib/arch
    /home/cpansand/.cpan/build/2017101118/POSIX-strptime-0.13-vjzQ4R/blib/lib
    /home/cpansand/.cpan/build/2017101118/Image-ExifTool-10.55-STnohj/blib/arch
    /home/cpansand/.cpan/build/2017101118/Image-ExifTool-10.55-STnohj/blib/lib
    /home/cpansand/.cpan/build/2017101118/Math-Calc-Parser-1.001-MWLGqd/blib/arch
    /home/cpansand/.cpan/build/2017101118/Math-Calc-Parser-1.001-MWLGqd/blib/lib
    /home/cpansand/.cpan/build/2017101118/SQLite-Work-0.1601-MZwCyW/blib/arch
    /home/cpansand/.cpan/build/2017101118/SQLite-Work-0.1601-MZwCyW/blib/lib
    /home/cpansand/.cpan/build/2017101118/Text-NeatTemplate-0.1101-ILEHj8/blib/arch
    /home/cpansand/.cpan/build/2017101118/Text-NeatTemplate-0.1101-ILEHj8/blib/lib
    /home/cpansand/.cpan/build/2017101118/Text-Markdown-Discount-0.11-voq4JT/blib/arch
    /home/cpansand/.cpan/build/2017101118/Text-Markdown-Discount-0.11-voq4JT/blib/lib
    /opt/perl-5.24.0/lib/site_perl/5.24.0/x86_64-linux
    /opt/perl-5.24.0/lib/site_perl/5.24.0
    /opt/perl-5.24.0/lib/5.24.0/x86_64-linux
    /opt/perl-5.24.0/lib/5.24.0
    .