Paws v0.45 Perl 5 v5.22.1 x86_64-linux
- Status
- Pass
- From
- Chris Williams (BINGOS)
- Dist
-
Paws v0.45
- Platform
- Perl 5 v5.22.1 x86_64-linux
- Date
- 2022-06-06 18:35:05
- ID
- 62318abe-e5c7-11ec-8f4e-c962458f5e5b
This distribution has been tested as part of the CPAN Testers
project, supporting the Perl programming language. See
http://wiki.cpantesters.org/ for more information or email
questions to cpan-testers-discuss@perl.org
--
Dear JLMARTIN,
This is a computer-generated error report created automatically by
CPANPLUS, version 0.9914. Testers personal comments may appear
at the end of this report.
Thank you for uploading your work to CPAN. Congratulations!
All tests were successful.
TEST RESULTS:
Below is the error stack from stage 'make test':
Paws::CloudFront is not stable / supported / entirely developed at /home/cpan/pit/bare/conf/perl-5.22.1/.cpanplus/5.22.1/build/7Lb7gfe4Da/Paws-0.45/blib/lib/Paws/CloudFront.pm line 2.
Paws::Route53 is not stable / supported / entirely developed at /home/cpan/pit/bare/conf/perl-5.22.1/.cpanplus/5.22.1/build/7Lb7gfe4Da/Paws-0.45/blib/lib/Paws/Route53.pm line 2.
Paws::S3 is not stable / supported / entirely developed at /home/cpan/pit/bare/conf/perl-5.22.1/.cpanplus/5.22.1/build/7Lb7gfe4Da/Paws-0.45/blib/lib/Paws/S3.pm line 2.
Paws::S3Control is not stable / supported / entirely developed at /home/cpan/pit/bare/conf/perl-5.22.1/.cpanplus/5.22.1/build/7Lb7gfe4Da/Paws-0.45/blib/lib/Paws/S3Control.pm line 2.
t/01_load.t ............................. ok
t/02_aws_object.t ....................... ok
t/03_aws_default_object.t ............... ok
t/04_credentials.t ...................... ok
Paws::S3 is not stable / supported / entirely developed at /home/cpan/pit/bare/conf/perl-5.22.1/.cpanplus/5.22.1/build/7Lb7gfe4Da/Paws-0.45/blib/lib/Paws/S3.pm line 2.
Paws::CloudFront is not stable / supported / entirely developed at /home/cpan/pit/bare/conf/perl-5.22.1/.cpanplus/5.22.1/build/7Lb7gfe4Da/Paws-0.45/blib/lib/Paws/CloudFront.pm line 2.
Paws::Route53 is not stable / supported / entirely developed at /home/cpan/pit/bare/conf/perl-5.22.1/.cpanplus/5.22.1/build/7Lb7gfe4Da/Paws-0.45/blib/lib/Paws/Route53.pm line 2.
t/05_service_calls.t .................... ok
t/06_endpoint_override.t ................ ok
Paws::CloudFront is not stable / supported / entirely developed at /home/cpan/pit/bare/conf/perl-5.22.1/.cpanplus/5.22.1/build/7Lb7gfe4Da/Paws-0.45/blib/lib/Paws/CloudFront.pm line 2.
Use of uninitialized value in string eq at t/lib/TestFromYaml.pm line 22.
Use of uninitialized value $got in string eq at (eval in cmp_ok) t/10_responses.t line 136.
Use of uninitialized value $got in string eq at (eval in cmp_ok) t/10_responses.t line 136.
Use of uninitialized value $got in string eq at (eval in cmp_ok) t/10_responses.t line 136.
Use of uninitialized value $got in string eq at (eval in cmp_ok) t/10_responses.t line 136.
Paws::Route53 is not stable / supported / entirely developed at /home/cpan/pit/bare/conf/perl-5.22.1/.cpanplus/5.22.1/build/7Lb7gfe4Da/Paws-0.45/blib/lib/Paws/Route53.pm line 2.
Paws::S3 is not stable / supported / entirely developed at /home/cpan/pit/bare/conf/perl-5.22.1/.cpanplus/5.22.1/build/7Lb7gfe4Da/Paws-0.45/blib/lib/Paws/S3.pm line 2.
t/10_responses.t ........................ ok
# Skipping Paws::Net::FurlCaller due to probem loading: Can't locate Furl.pm in @INC (you may need to install the Furl module) (@INC contains: t/lib /home/cpan/pit/bare/conf/perl-5.22.1/.cpanplus/5.22.1/build/7Lb7gfe4Da/Paws-0.45/blib/arch /home/cpan/pit/bare/conf/perl-5.22.1/.cpanplus/5.22.1/build/7Lb7gfe4Da/Paws-0.45/blib/lib /home/cpan/pit/jail/ghwM8DmZu1/lib/perl5/5.22.1/x86_64-linux /home/cpan/pit/jail/ghwM8DmZu1/lib/perl5/5.22.1 /home/cpan/pit/jail/ghwM8DmZu1/lib/perl5/x86_64-linux /home/cpan/pit/jail/ghwM8DmZu1/lib/perl5 /home/cpan/pit/bare/perl-5.22.1/lib/site_perl/5.22.1/x86_64-linux /home/cpan/pit/bare/perl-5.22.1/lib/site_perl/5.22.1 /home/cpan/pit/bare/perl-5.22.1/lib/5.22.1/x86_64-linux /home/cpan/pit/bare/perl-5.22.1/lib/5.22.1 .) at /home/cpan/pit/bare/conf/perl-5.22.1/.cpanplus/5.22.1/build/7Lb7gfe4Da/Paws-0.45/blib/lib/Paws/Net/FurlCaller.pm line 5.
# BEGIN failed--compilation aborted at /home/cpan/pit/bare/conf/perl-5.22.1/.cpanplus/5.22.1/build/7Lb7gfe4Da/Paws-0.45/blib/lib/Paws/Net/FurlCaller.pm line 5.
# Compilation failed in require at /home/cpan/pit/jail/ghwM8DmZu1/lib/perl5/Module/Runtime.pm line 314.
# Testing with caller Paws::Net::Caller
Paws::S3 is not stable / supported / entirely developed at /home/cpan/pit/bare/conf/perl-5.22.1/.cpanplus/5.22.1/build/7Lb7gfe4Da/Paws-0.45/blib/lib/Paws/S3.pm line 2.
Paws::Route53 is not stable / supported / entirely developed at /home/cpan/pit/bare/conf/perl-5.22.1/.cpanplus/5.22.1/build/7Lb7gfe4Da/Paws-0.45/blib/lib/Paws/Route53.pm line 2.
# Testing with caller Paws::Net::LWPCaller
t/11_client_exceptions.t ................ ok
No service for cloudformation at t/12_regions.t line 310.
No service for cloudfront at t/12_regions.t line 310.
No service for dynamodb at t/12_regions.t line 310.
No service for ec2 at t/12_regions.t line 310.
No service for elasticache at t/12_regions.t line 310.
No service for glacier at t/12_regions.t line 310.
No service for iam at t/12_regions.t line 310.
No service for importexport at t/12_regions.t line 310.
No service for rds at t/12_regions.t line 310.
Paws::Route53 is not stable / supported / entirely developed at /home/cpan/pit/bare/conf/perl-5.22.1/.cpanplus/5.22.1/build/7Lb7gfe4Da/Paws-0.45/t/../lib/Paws/Route53.pm line 2.
Paws::S3 is not stable / supported / entirely developed at /home/cpan/pit/bare/conf/perl-5.22.1/.cpanplus/5.22.1/build/7Lb7gfe4Da/Paws-0.45/t/../lib/Paws/S3.pm line 2.
No service for sns at t/12_regions.t line 310.
No service for sqs at t/12_regions.t line 310.
No service for cloudformation at t/12_regions.t line 310.
No service for cloudfront at t/12_regions.t line 310.
No service for cloudsearch at t/12_regions.t line 310.
No service for dynamodb at t/12_regions.t line 310.
No service for ec2 at t/12_regions.t line 310.
No service for elasticache at t/12_regions.t line 310.
No service for iam at t/12_regions.t line 310.
No service for importexport at t/12_regions.t line 310.
No service for rds at t/12_regions.t line 310.
No service for sns at t/12_regions.t line 310.
No service for sqs at t/12_regions.t line 310.
No service for cloudformation at t/12_regions.t line 310.
No service for cloudfront at t/12_regions.t line 310.
No service for dynamodb at t/12_regions.t line 310.
No service for ec2 at t/12_regions.t line 310.
No service for elasticache at t/12_regions.t line 310.
No service for glacier at t/12_regions.t line 310.
No service for iam at t/12_regions.t line 310.
No service for importexport at t/12_regions.t line 310.
No service for rds at t/12_regions.t line 310.
No service for sns at t/12_regions.t line 310.
No service for sqs at t/12_regions.t line 310.
No service for cloudformation at t/12_regions.t line 310.
No service for dynamodb at t/12_regions.t line 310.
No service for ec2 at t/12_regions.t line 310.
No service for elasticache at t/12_regions.t line 310.
No service for glacier at t/12_regions.t line 310.
No service for iam at t/12_regions.t line 310.
No service for rds at t/12_regions.t line 310.
No service for sns at t/12_regions.t line 310.
No service for sqs at t/12_regions.t line 310.
No service for cloudformation at t/12_regions.t line 310.
No service for cloudfront at t/12_regions.t line 310.
No service for cloudsearch at t/12_regions.t line 310.
No service for dynamodb at t/12_regions.t line 310.
No service for ec2 at t/12_regions.t line 310.
No service for elasticache at t/12_regions.t line 310.
No service for glacier at t/12_regions.t line 310.
No service for iam at t/12_regions.t line 310.
No service for importexport at t/12_regions.t line 310.
No service for rds at t/12_regions.t line 310.
No service for sns at t/12_regions.t line 310.
No service for sqs at t/12_regions.t line 310.
No service for cloudformation at t/12_regions.t line 310.
No service for cloudfront at t/12_regions.t line 310.
No service for dynamodb at t/12_regions.t line 310.
No service for ec2 at t/12_regions.t line 310.
No service for elasticache at t/12_regions.t line 310.
No service for iam at t/12_regions.t line 310.
No service for importexport at t/12_regions.t line 310.
No service for rds at t/12_regions.t line 310.
No service for sns at t/12_regions.t line 310.
No service for sqs at t/12_regions.t line 310.
No service for cloudformation at t/12_regions.t line 310.
No service for cloudfront at t/12_regions.t line 310.
No service for cloudsearch at t/12_regions.t line 310.
No service for cloudtrail at t/12_regions.t line 310.
No service for dynamodb at t/12_regions.t line 310.
No service for ec2 at t/12_regions.t line 310.
No service for elasticache at t/12_regions.t line 310.
No service for glacier at t/12_regions.t line 310.
No service for iam at t/12_regions.t line 310.
No service for importexport at t/12_regions.t line 310.
No service for kinesis at t/12_regions.t line 310.
No service for opsworks at t/12_regions.t line 310.
No service for rds at t/12_regions.t line 310.
No service for sns at t/12_regions.t line 310.
No service for sqs at t/12_regions.t line 310.
No service for support at t/12_regions.t line 310.
No service for dynamodb at t/12_regions.t line 310.
No service for ec2 at t/12_regions.t line 310.
No service for iam at t/12_regions.t line 310.
No service for rds at t/12_regions.t line 310.
No service for sns at t/12_regions.t line 310.
No service for sqs at t/12_regions.t line 310.
No service for cloudformation at t/12_regions.t line 310.
No service for cloudfront at t/12_regions.t line 310.
No service for cloudsearch at t/12_regions.t line 310.
No service for dynamodb at t/12_regions.t line 310.
No service for ec2 at t/12_regions.t line 310.
No service for elasticache at t/12_regions.t line 310.
No service for glacier at t/12_regions.t line 310.
No service for iam at t/12_regions.t line 310.
No service for importexport at t/12_regions.t line 310.
No service for rds at t/12_regions.t line 310.
No service for sns at t/12_regions.t line 310.
No service for sqs at t/12_regions.t line 310.
No service for cloudformation at t/12_regions.t line 310.
No service for cloudfront at t/12_regions.t line 310.
No service for cloudsearch at t/12_regions.t line 310.
No service for cloudtrail at t/12_regions.t line 310.
No service for dynamodb at t/12_regions.t line 310.
No service for ec2 at t/12_regions.t line 310.
No service for elasticache at t/12_regions.t line 310.
No service for glacier at t/12_regions.t line 310.
No service for iam at t/12_regions.t line 310.
No service for importexport at t/12_regions.t line 310.
No service for rds at t/12_regions.t line 310.
No service for sns at t/12_regions.t line 310.
No service for sqs at t/12_regions.t line 310.
Paws::CloudFront is not stable / supported / entirely developed at /home/cpan/pit/bare/conf/perl-5.22.1/.cpanplus/5.22.1/build/7Lb7gfe4Da/Paws-0.45/t/../lib/Paws/CloudFront.pm line 2.
t/12_regions.t .......................... ok
# Default caller
# LWP caller
# Mojo caller
# Can't locate Future.pm in @INC (you may need to install the Future module) (@INC contains: t/lib /home/cpan/pit/bare/conf/perl-5.22.1/.cpanplus/5.22.1/build/7Lb7gfe4Da/Paws-0.45/blib/arch /home/cpan/pit/bare/conf/perl-5.22.1/.cpanplus/5.22.1/build/7Lb7gfe4Da/Paws-0.45/blib/lib /home/cpan/pit/jail/ghwM8DmZu1/lib/perl5/5.22.1/x86_64-linux /home/cpan/pit/jail/ghwM8DmZu1/lib/perl5/5.22.1 /home/cpan/pit/jail/ghwM8DmZu1/lib/perl5/x86_64-linux /home/cpan/pit/jail/ghwM8DmZu1/lib/perl5 /home/cpan/pit/bare/perl-5.22.1/lib/site_perl/5.22.1/x86_64-linux /home/cpan/pit/bare/perl-5.22.1/lib/site_perl/5.22.1 /home/cpan/pit/bare/perl-5.22.1/lib/5.22.1/x86_64-linux /home/cpan/pit/bare/perl-5.22.1/lib/5.22.1 .) at /home/cpan/pit/bare/conf/perl-5.22.1/.cpanplus/5.22.1/build/7Lb7gfe4Da/Paws-0.45/blib/lib/Paws/Net/MojoAsyncCaller.pm line 8.
# BEGIN failed--compilation aborted at /home/cpan/pit/bare/conf/perl-5.22.1/.cpanplus/5.22.1/build/7Lb7gfe4Da/Paws-0.45/blib/lib/Paws/Net/MojoAsyncCaller.pm line 8.
# Compilation failed in require at /home/cpan/pit/jail/ghwM8DmZu1/lib/perl5/Module/Runtime.pm line 314.
# Furl caller
t/13_client_connect_errors.t ............ ok
# Default caller
# LWP caller
# Mojo caller
# Furl caller
t/14_dns_client_errors.t ................ ok
t/15_timeouts.t ......................... ok
t/16_retries.t .......................... ok
Paws::S3 is not stable / supported / entirely developed at /home/cpan/pit/bare/conf/perl-5.22.1/.cpanplus/5.22.1/build/7Lb7gfe4Da/Paws-0.45/blib/lib/Paws/S3.pm line 2.
t/17_s3metadata.t ....................... ok
# Testing file t/18_mocked/autoscaling-describescalingactivities.response.test.yml
Use of uninitialized value $got in string eq at (eval in cmp_ok) t/18_mocked.t line 100.
# Testing file t/18_mocked/cwlogs-createlog-group.response.test.yml
# Testing file t/18_mocked/cwlogs-createloggroup-2.response.test.yml
# Testing file t/18_mocked/cwlogs-createlogstream-dup.response.test.yml
# Testing file t/18_mocked/cwlogs-createlogstream.response.test.yml
# Testing file t/18_mocked/cwlogs-deleteloggroup-nonexist.response.test.yml
# Testing file t/18_mocked/cwlogs-deleteloggroup.response.test.yml
# Testing file t/18_mocked/cwlogs-deletelogstream-nonexist.response.test.yml
# Testing file t/18_mocked/cwlogs-deletelogstream.response.test.yml
# Testing file t/18_mocked/cwlogs-describeloggroups.response.test.yml
# Testing file t/18_mocked/cwlogs-describelogstreams.response.test.yml
# Testing file t/18_mocked/cwlogs-filterpattern.response.test.yml
# Testing file t/18_mocked/cwlogs-putlogevents-1.response.test.yml
# Testing file t/18_mocked/cwlogs-putlogevents-2.response.test.yml
# Testing file t/18_mocked/cwlogs-putlogevents-3.response.test.yml
# Testing file t/18_mocked/cwlogs-putlogevents-dup.response.test.yml
# Testing file t/18_mocked/efs_createfilesystem.response.test.yml
# Testing file t/18_mocked/efs_createfilesystem_duplicate.response.test.yml
# Testing file t/18_mocked/efs_deletefilesystem.response.test.yml
# Testing file t/18_mocked/efs_describefilesystems.response.test.yml
# Testing file t/18_mocked/efs_describefilesystems_nonexistant.response.test.yml
# Testing file t/18_mocked/polly_listlexicons.response.test.yml
# Testing file t/18_mocked/polly_listlexicons_empty.response.test.yml
# Testing file t/18_mocked/polly_putlexicon.response.test.yml
# Testing file t/18_mocked/polly_synthesizespeech.response.test.yml
# Testing file t/18_mocked/signin-getsignintoken.response.test.yml
# Testing file t/18_mocked/sts-getfederationtoken.response.test.yml
# Testing file t/26_paginators/s3-getallobjects-with-prefix/0001.response.test.yml
Paws::S3 is not stable / supported / entirely developed at /home/cpan/pit/bare/conf/perl-5.22.1/.cpanplus/5.22.1/build/7Lb7gfe4Da/Paws-0.45/blib/lib/Paws/S3.pm line 2.
# Testing file t/26_paginators/s3-getallobjects-with-prefix/0002.response.test.yml
# Testing file t/26_paginators/s3-getallobjects/0001.response.test.yml
# Testing file t/26_paginators/s3-getallobjects/0002.response.test.yml
# Testing file t/26_paginators/s3-getallobjects/0003.response.test.yml
# Testing file t/26_paginators/s3-getallobjects/0004.response.test.yml
# Testing file t/26_paginators/s3-getallobjectsv2-with-prefix/0001.response.test.yml
# Testing file t/26_paginators/s3-getallobjectsv2-with-prefix/0002.response.test.yml
# Testing file t/26_paginators/s3-getallobjectsv2/0001.response.test.yml
# Testing file t/26_paginators/s3-getallobjectsv2/0002.response.test.yml
# Testing file t/26_paginators/s3-getallobjectsv2/0003.response.test.yml
# Testing file t/26_paginators/s3-getallobjectsv2/0004.response.test.yml
t/18_mocked.t ........................... ok
t/19_signin_login.t ..................... ok
t/20_json_syntetic_responses.t .......... ok
t/21_restjson_syntetic_responses.t ...... ok
t/22_query_syntetic_responses.t ......... ok
t/23_queryflatten_syntetic_responses.t .. ok
t/24_error_from_nonreturningmethod.t .... ok
t/25_error_on_malformed_response.t ...... ok
Paws::S3 is not stable / supported / entirely developed at /home/cpan/pit/bare/conf/perl-5.22.1/.cpanplus/5.22.1/build/7Lb7gfe4Da/Paws-0.45/blib/lib/Paws/S3.pm line 2.
t/26_paginators.t ....................... ok
t/27_signing_name.t ..................... ok
t/28_retries_mojoasynccaller.t .......... ok
t/99_pod_syntax.t ....................... skipped: author testing only
t/glacier/content_headers.t ............. ok
t/glacier/multipartupload.t ............. ok
Paws::Route53 is not stable / supported / entirely developed at /home/cpan/pit/bare/conf/perl-5.22.1/.cpanplus/5.22.1/build/7Lb7gfe4Da/Paws-0.45/blib/lib/Paws/Route53.pm line 2.
t/route53/uri_generation.t .............. ok
Paws::Route53 is not stable / supported / entirely developed at /home/cpan/pit/bare/conf/perl-5.22.1/.cpanplus/5.22.1/build/7Lb7gfe4Da/Paws-0.45/blib/lib/Paws/Route53.pm line 2.
t/route53/xml_creation.t ................ ok
Paws::S3 is not stable / supported / entirely developed at /home/cpan/pit/bare/conf/perl-5.22.1/.cpanplus/5.22.1/build/7Lb7gfe4Da/Paws-0.45/blib/lib/Paws/S3.pm line 2.
t/s3/content_headers.t .................. ok
Paws::S3 is not stable / supported / entirely developed at /home/cpan/pit/bare/conf/perl-5.22.1/.cpanplus/5.22.1/build/7Lb7gfe4Da/Paws-0.45/blib/lib/Paws/S3.pm line 2.
t/s3/multipartupload.t .................. ok
Paws::S3 is not stable / supported / entirely developed at /home/cpan/pit/bare/conf/perl-5.22.1/.cpanplus/5.22.1/build/7Lb7gfe4Da/Paws-0.45/blib/lib/Paws/S3.pm line 2.
t/s3/prefix.t ........................... ok
Paws::S3 is not stable / supported / entirely developed at /home/cpan/pit/bare/conf/perl-5.22.1/.cpanplus/5.22.1/build/7Lb7gfe4Da/Paws-0.45/blib/lib/Paws/S3.pm line 2.
# $VAR1 = bless( {}, 'Paws::S3::ContinuationEvent' );
t/s3/selectcontent.t .................... ok
Paws::S3 is not stable / supported / entirely developed at /home/cpan/pit/bare/conf/perl-5.22.1/.cpanplus/5.22.1/build/7Lb7gfe4Da/Paws-0.45/blib/lib/Paws/S3.pm line 2.
t/s3/uri_avoid_chars.t .................. ok
Paws::S3 is not stable / supported / entirely developed at /home/cpan/pit/bare/conf/perl-5.22.1/.cpanplus/5.22.1/build/7Lb7gfe4Da/Paws-0.45/blib/lib/Paws/S3.pm line 2.
t/s3/uri_encoding.t ..................... ok
Paws::S3 is not stable / supported / entirely developed at /home/cpan/pit/bare/conf/perl-5.22.1/.cpanplus/5.22.1/build/7Lb7gfe4Da/Paws-0.45/blib/lib/Paws/S3.pm line 2.
t/s3/uri_other_chars.t .................. ok
Paws::S3 is not stable / supported / entirely developed at /home/cpan/pit/bare/conf/perl-5.22.1/.cpanplus/5.22.1/build/7Lb7gfe4Da/Paws-0.45/blib/lib/Paws/S3.pm line 2.
# PutBucketLifecycleConfiguration
# SelectObjectContent
t/s3/xml_creation.t ..................... ok
All tests successful.
Test Summary Report
-------------------
t/10_responses.t (Wstat: 0 Tests: 9900 Failed: 0)
TODO passed: 6364, 6370, 7896, 9579, 9586, 9671, 9736
t/18_mocked.t (Wstat: 0 Tests: 4007 Failed: 0)
TODO passed: 91-143, 145-154, 156-173, 175-222, 224-262
264-322, 324-330
t/glacier/multipartupload.t (Wstat: 0 Tests: 3 Failed: 0)
TODO passed: 2-3
t/s3/content_headers.t (Wstat: 0 Tests: 27 Failed: 0)
TODO passed: 1-2, 4-7
t/s3/multipartupload.t (Wstat: 0 Tests: 7 Failed: 0)
TODO passed: 2-7
t/s3/prefix.t (Wstat: 0 Tests: 2 Failed: 0)
TODO passed: 1-2
t/s3/xml_creation.t (Wstat: 0 Tests: 2 Failed: 0)
TODO passed: 2
Files=38, Tests=15168, 263 wallclock secs ( 1.68 usr 0.25 sys + 182.00 cusr 8.21 csys = 192.14 CPU)
Result: PASS
PREREQUISITES:
Here is a list of prerequisites you specified and versions we
managed to load:
Module Name Have Want
ARGV::Struct 0.06 0
Class::Unload 0.11 0
Config::AWS 0.10 0
Data::Compare 1.27 0
DataStruct::Flat 0.01 0
DateTime 1.58 0
DateTime::Format::ISO8601 0.16 0
Digest::SHA 6.02 0
File::HomeDir 1.006 0
File::Slurper 0.013 0
Getopt::Long 2.45 0
HTTP::Tiny 0.054 0
IO::Socket::SSL 2.074 0
JSON::MaybeXS 1.004003 0
Module::Find 0.15 0
Moose 2.2201 0
MooseX::ClassAttribute 0.29 0
MooseX::Getopt 0.75 0
Net::Amazon::Signature::V4 0.21 0
Path::Class 0.37 0
Path::Tiny 0.122 0.017
String::CRC32 2.100 0
Test::Exception 0.43 0
Test::More 1.302190 0
Test::Timer 2.12 0
Test::Warnings 0.031 0
Throwable::Error 1.000 0
URI 5.10 0
URI::Template 0.24 0.23
URL::Encode 0.03 0
URL::Encode::XS 0.03 0
XML::Simple 2.25 2.21
YAML 1.30 0
Perl module toolchain versions installed:
Module Name Have
CPANPLUS 0.9914
CPANPLUS::Dist::Build 0.90
Cwd 3.75
ExtUtils::CBuilder 0.280236
ExtUtils::Command 7.64
ExtUtils::Install 2.20
ExtUtils::MakeMaker 7.64
ExtUtils::Manifest 1.73
ExtUtils::ParseXS 3.44
File::Spec 3.75
Module::Build 0.4231
Pod::Parser 1.63
Pod::Simple 3.29
Test2 1.302190
Test::Harness 3.44
Test::More 1.302190
version 0.9929
******************************** NOTE ********************************
The comments above are created mechanically, possibly without manual
checking by the sender. As there are many people performing automatic
tests on each upload to CPAN, it is likely that you will receive
identical messages about the same problem.
If you believe that the message is mistaken, please reply to the first
one with correction and/or additional informations, and do not take
it personally. We appreciate your patience. :)
**********************************************************************
Additional comments:
This report was machine-generated by CPANPLUS::Dist::YACSmoke 1.08.
Powered by minismokebox version 0.68
CPANPLUS is prefering Build.PL
------------------------------
ENVIRONMENT AND OTHER CONTEXT
------------------------------
Environment variables:
AUTOMATED_TESTING = 1
LANG = C.UTF-8
LC_COLLATE = C
NONINTERACTIVE_TESTING = 1
PATH = /home/cpan/pit/bare/conf/perl-5.22.1/.cpanplus/5.22.1/build/7Lb7gfe4Da/Paws-0.45/blib/script:/usr/local/sbin:/usr/local/bin:/usr/sbin:/usr/bin:/sbin:/bin
PERL5LIB = /home/cpan/pit/jail/ghwM8DmZu1/lib/perl5:/home/cpan/pit/bare/conf/perl-5.22.1/.cpanplus/5.22.1/build/7Lb7gfe4Da/Paws-0.45/blib/lib:/home/cpan/pit/bare/conf/perl-5.22.1/.cpanplus/5.22.1/build/7Lb7gfe4Da/Paws-0.45/blib/arch
PERL5_CPANPLUS_IS_RUNNING = 32532
PERL5_CPANPLUS_IS_VERSION = 0.9914
PERL5_MINISMOKEBOX = 0.68
PERL5_YACSMOKE_BASE = /home/cpan/pit/bare/conf/perl-5.22.1
PERL_EXTUTILS_AUTOINSTALL = --defaultdeps
PERL_LOCAL_LIB_ROOT = /home/cpan/pit/jail/ghwM8DmZu1
PERL_MB_OPT = --install_base "/home/cpan/pit/jail/ghwM8DmZu1"
PERL_MM_OPT = INSTALL_BASE=/home/cpan/pit/jail/ghwM8DmZu1
PERL_MM_USE_DEFAULT = 1
SHELL = /bin/bash
TERM = screen
Perl special variables (and OS-specific diagnostics, for MSWin32):
Perl: $^X = /home/cpan/pit/bare/perl-5.22.1/bin/perl
UID: $< = 1001
EUID: $> = 1001
GID: $( = 1001 1001
EGID: $) = 1001 1001
-------------------------------
--
Summary of my perl5 (revision 5 version 22 subversion 1) configuration:
Platform:
osname=linux, osvers=5.10.16-0-lts, archname=x86_64-linux
uname='linux agaric 5.10.16-0-lts #1-alpine smp wed, 17 feb 2021 08:17:06 utc x86_64 linux '
config_args='-des -Dprefix=/home/cpan/pit/bare/perl-5.22.1'
hint=recommended, useposix=true, d_sigaction=define
useithreads=undef, usemultiplicity=undef
use64bitint=define, use64bitall=define, uselongdouble=undef
usemymalloc=n, bincompat5005=undef
Compiler:
cc='cc', ccflags ='-D_GNU_SOURCE -fwrapv -fno-strict-aliasing -pipe -fstack-protector-strong -D_LARGEFILE_SOURCE -D_FILE_OFFSET_BITS=64',
optimize='-O2',
cppflags='-D_GNU_SOURCE -fwrapv -fno-strict-aliasing -pipe -fstack-protector-strong'
ccversion='', gccversion='10.2.1 20201203', gccosandvers=''
intsize=4, longsize=8, ptrsize=8, doublesize=8, byteorder=12345678, doublekind=3
d_longlong=define, longlongsize=8, d_longdbl=define, longdblsize=16, longdblkind=3
ivtype='long', ivsize=8, nvtype='double', nvsize=8, Off_t='off_t', lseeksize=8
alignbytes=8, prototype=define
Linker and Libraries:
ld='cc', ldflags =' -fstack-protector-strong -L/usr/local/lib'
libpth=/usr/include/fortify /usr/lib /usr/local/lib /lib/../lib /usr/lib/../lib /lib
libs=-lpthread -lgdbm -ldl -lm -lcrypt -lutil -lc -lgdbm_compat
perllibs=-lpthread -ldl -lm -lcrypt -lutil -lc
libc=/usr/lib/libc.a, so=so, useshrplib=false, libperl=libperl.a
gnulibc_version=''
Dynamic Linking:
dlsrc=dl_dlopen.xs, dlext=so, d_dlsymun=undef, ccdlflags='-Wl,-E'
cccdlflags='-fPIC', lddlflags='-shared -O2 -L/usr/local/lib -fstack-protector-strong'
Characteristics of this binary (from libperl):
Compile-time options: HAS_TIMES PERLIO_LAYERS PERL_DONT_CREATE_GVSV
PERL_HASH_FUNC_ONE_AT_A_TIME_HARD PERL_MALLOC_WRAP
PERL_NEW_COPY_ON_WRITE PERL_PRESERVE_IVUV
USE_64_BIT_ALL USE_64_BIT_INT USE_LARGE_FILES
USE_LOCALE USE_LOCALE_COLLATE USE_LOCALE_CTYPE
USE_LOCALE_NUMERIC USE_LOCALE_TIME USE_PERLIO
USE_PERL_ATOF
Locally applied patches:
Devel::PatchPerl 2.08
Built under linux
Compiled at Mar 12 2021 03:20:43
%ENV:
PERL5LIB="/home/cpan/pit/jail/ghwM8DmZu1/lib/perl5:/home/cpan/pit/bare/conf/perl-5.22.1/.cpanplus/5.22.1/build/7Lb7gfe4Da/Paws-0.45/blib/lib:/home/cpan/pit/bare/conf/perl-5.22.1/.cpanplus/5.22.1/build/7Lb7gfe4Da/Paws-0.45/blib/arch"
PERL5_CPANPLUS_IS_RUNNING="32532"
PERL5_CPANPLUS_IS_VERSION="0.9914"
PERL5_MINISMOKEBOX="0.68"
PERL5_YACSMOKE_BASE="/home/cpan/pit/bare/conf/perl-5.22.1"
PERL_EXTUTILS_AUTOINSTALL="--defaultdeps"
PERL_LOCAL_LIB_ROOT="/home/cpan/pit/jail/ghwM8DmZu1"
PERL_MB_OPT="--install_base "/home/cpan/pit/jail/ghwM8DmZu1""
PERL_MM_OPT="INSTALL_BASE=/home/cpan/pit/jail/ghwM8DmZu1"
PERL_MM_USE_DEFAULT="1"
@INC:
/home/cpan/pit/jail/ghwM8DmZu1/lib/perl5/5.22.1/x86_64-linux
/home/cpan/pit/jail/ghwM8DmZu1/lib/perl5/5.22.1
/home/cpan/pit/jail/ghwM8DmZu1/lib/perl5/x86_64-linux
/home/cpan/pit/jail/ghwM8DmZu1/lib/perl5
/home/cpan/pit/bare/conf/perl-5.22.1/.cpanplus/5.22.1/build/7Lb7gfe4Da/Paws-0.45/blib/lib
/home/cpan/pit/bare/conf/perl-5.22.1/.cpanplus/5.22.1/build/7Lb7gfe4Da/Paws-0.45/blib/arch
/home/cpan/pit/bare/perl-5.22.1/lib/site_perl/5.22.1/x86_64-linux
/home/cpan/pit/bare/perl-5.22.1/lib/site_perl/5.22.1
/home/cpan/pit/bare/perl-5.22.1/lib/5.22.1/x86_64-linux
/home/cpan/pit/bare/perl-5.22.1/lib/5.22.1
.