Net-SIP v0.838 Perl 5 v5.40.0 amd64-freebsd-ld

Status
Pass
From
Slaven Rezić
Dist
Net-SIP v0.838
Platform
Perl 5 v5.40.0 amd64-freebsd-ld
Date
2024-08-03 22:26:09
ID
6233d3a8-51e7-11ef-b81c-b3e36d8775ea
This distribution has been tested as part of the CPAN Testers
project, supporting the Perl programming language.  See
http://wiki.cpantesters.org/ for more information or email
questions to cpan-testers-discuss@perl.org


--
Dear Steffen Ullrich,

This is a computer-generated report for Net-SIP-0.838
on perl 5.40.0, created by CPAN-Reporter-1.2019.

Thank you for uploading your work to CPAN.  Congratulations!
All tests were successful.

Sections of this report:

    * Tester comments
    * Program output
    * Prerequisites
    * Environment and other context

------------------------------
TESTER COMMENTS
------------------------------

Additional comments from tester:

none provided

------------------------------
PROGRAM OUTPUT
------------------------------

Output from '/usr/bin/make test':

PERL_DL_NONLAZY=1 "/usr/perl5.40.0D/bin/perl" "-MExtUtils::Command::MM" "-MTest::Harness" "-e" "undef *Test::Harness::Switches; test_harness(0, 'blib/lib', 'blib/arch')" t/*.t
t/01_load.t ............................. ok
# call created
# got ringing
# call established
# call cleaned up
# call created
# got ringing
# call established
# call cleaned up
# call created
# got ringing
# call established
# call cleaned up
# call created
# got ringing
# call established
# call cleaned up
# call created
# got ringing
# call established
# call cleaned up
# call created
# got ringing
# call established
# call cleaned up
t/02_listen_and_invite.t ................ ok
t/03_forward_stateless.t ................ ok
t/04_call_with_rtp.t .................... ok
t/05_call_with_stateless_proxy.t ........ ok
t/06_call_with_reinvite.t ............... ok
t/07_call_on_hold.t ..................... ok
t/08_register_with_auth.t ............... ok
t/09_fdleak.t ........................... ok
t/10_fdleak.t ........................... ok
t/11_invite_timeout.t ................... ok
# call established
# call cleaned up
# call established
# call cleaned up
# call established
# call cleaned up
# call established
# call cleaned up
# call established
# call cleaned up
# call established
# call cleaned up
t/12_maddr.t ............................ ok
t/13_maddr_proxy.t ...................... ok
# UAS   on 127.0.0.1:5062 
# UAC   on 127.0.0.1:5060 
# PROXY on 127.0.0.1:5063 
t/14_bugfix_0.51.t ...................... ok
t/15_block_invite.t ..................... ok
t/16_drop_invite.t ...................... ok
t/17_call_with_reinvite_and_auth.t ...... ok
t/18_register_with_auth_step_by_step.t .. ok
# UAS on 127.0.0.1:45511
# UAC on 127.0.0.1:48586
# call created
# call established
# call cleaned up
# received=464 lost=0 expect ca. 467.5 packets, events='1 2 D # 3 4 B *'
# UAS on 127.0.0.1:12367
# UAC on 127.0.0.1:30484
# call created
# call established
# call cleaned up
# received=467 lost=0 expect ca. 467.5 packets, events='1 2 D # 3 4 B *'
# UAS on 127.0.0.1:59055
# UAC on 127.0.0.1:48171
# call created
# call established
# call cleaned up
# received=464 lost=0 expect ca. 467.5 packets, events='1 2 D # 3 4 B *'
# UAS on 127.0.0.1:47959
# UAC on 127.0.0.1:17795
# call created
# call established
# call cleaned up
# received=466 lost=0 expect ca. 467.5 packets, events='1 2 D # 3 4 B *'
# UAS on [::1]:44925
# UAC on [::1]:61437
# call created
# call established
# call cleaned up
# received=465 lost=0 expect ca. 467.5 packets, events='1 2 D # 3 4 B *'
# UAS on [::1]:57713
# UAC on [::1]:30296
# call created
# call established
# call cleaned up
# received=465 lost=0 expect ca. 467.5 packets, events='1 2 D # 3 4 B *'
# UAS on [::1]:12028
# UAC on [::1]:61861
# call created
# call established
# call cleaned up
# received=465 lost=0 expect ca. 467.5 packets, events='1 2 D # 3 4 B *'
# UAS on [::1]:60449
# UAC on [::1]:45842
# call created
# call established
# call cleaned up
# received=463 lost=0 expect ca. 467.5 packets, events='1 2 D # 3 4 B *'
# UAS on 127.0.0.1:24892
# UAC on 127.0.0.1:31908
# call created
# call established
# call cleaned up
# received=465 lost=0 expect ca. 467.5 packets, events='1 2 D # 3 4 B *'
# UAS on 127.0.0.1:56175
# UAC on 127.0.0.1:57266
# call created
# call established
# call cleaned up
# received=463 lost=0 expect ca. 467.5 packets, events='1 2 D # 3 4 B *'
# UAS on 127.0.0.1:26459
# UAC on 127.0.0.1:47272
# call created
# call established
# call cleaned up
# received=462 lost=0 expect ca. 467.5 packets, events='1 2 D # 3 4 B *'
# UAS on 127.0.0.1:59604
# UAC on 127.0.0.1:27745
# call created
# call established
# call cleaned up
# received=463 lost=0 expect ca. 467.5 packets, events='1 2 D # 3 4 B *'
# UAS on [::1]:12105
# UAC on [::1]:36141
# call created
# call established
# call cleaned up
# received=464 lost=0 expect ca. 467.5 packets, events='1 2 D # 3 4 B *'
# UAS on [::1]:56491
# UAC on [::1]:57647
# call created
# call established
# call cleaned up
# received=465 lost=0 expect ca. 467.5 packets, events='1 2 D # 3 4 B *'
# UAS on [::1]:54677
# UAC on [::1]:20497
# call created
# call established
# call cleaned up
# received=466 lost=0 expect ca. 467.5 packets, events='1 2 D # 3 4 B *'
# UAS on [::1]:35474
# UAC on [::1]:23904
# call created
# call established
# call cleaned up
# received=464 lost=0 expect ca. 467.5 packets, events='1 2 D # 3 4 B *'
# UAS on 127.0.0.1:17765
# UAC on 127.0.0.1:26730
# call created
# call established
# call cleaned up
# received=463 lost=0 expect ca. 467.5 packets, events='1 2 D # 3 4 B *'
# UAS on 127.0.0.1:24569
# UAC on 127.0.0.1:29318
# call created
# call established
# call cleaned up
# received=464 lost=0 expect ca. 467.5 packets, events='1 2 D # 3 4 B *'
# UAS on 127.0.0.1:53700
# UAC on 127.0.0.1:39743
# call created
# call established
# call cleaned up
# received=464 lost=0 expect ca. 467.5 packets, events='1 2 D # 3 4 B *'
# UAS on 127.0.0.1:28379
# UAC on 127.0.0.1:43294
# call created
# call established
# call cleaned up
# received=464 lost=0 expect ca. 467.5 packets, events='1 2 D # 3 4 B *'
# UAS on [::1]:53643
# UAC on [::1]:42843
# call created
# call established
# call cleaned up
# received=464 lost=0 expect ca. 467.5 packets, events='1 2 D # 3 4 B *'
# UAS on [::1]:16762
# UAC on [::1]:25373
# call created
# call established
# call cleaned up
# received=465 lost=0 expect ca. 467.5 packets, events='1 2 D # 3 4 B *'
# UAS on [::1]:38398
# UAC on [::1]:16638
# call created
# call established
# call cleaned up
# received=465 lost=0 expect ca. 467.5 packets, events='1 2 D # 3 4 B *'
# UAS on [::1]:31451
# UAC on [::1]:65094
# call created
# call established
# call cleaned up
# received=465 lost=0 expect ca. 467.5 packets, events='1 2 D # 3 4 B *'
t/19_call_with_dtmf.t ................... ok
t/20_channel_on_hold.t .................. ok
t/21_channel_on_hold_stateless_proxy.t .. ok
t/22_stateless_proxy_ack_on_error.t ..... ok
t/23_valid_message.t .................... ok
t/24_dtmf_audio.t ....................... ok
t/25_register_tcp_timeout.t ............. ok
t/26_request_ack.t ...................... ok
All tests successful.
Files=26, Tests=2000, 424 wallclock secs ( 0.46 usr  0.10 sys + 40.38 cusr  6.47 csys = 47.41 CPU)
Result: PASS

------------------------------
PREREQUISITES
------------------------------

Prerequisite modules loaded:

requires:

    Module              Need Have 
    ------------------- ---- -----
    Socket              1.95 2.038

build_requires:

    Module              Need Have 
    ------------------- ---- -----
    ExtUtils::MakeMaker 0    7.70 

configure_requires:

    Module              Need Have 
    ------------------- ---- -----
    ExtUtils::MakeMaker 0    7.70 


------------------------------
ENVIRONMENT AND OTHER CONTEXT
------------------------------

Environment variables:

    LANG = C.UTF-8
    PATH = /usr/local/bin:/usr/bin:/bin:/usr/local/sbin:/usr/sbin:/sbin:/home/cpansand/bin/sh:/home/cpansand/bin:/usr/games:/home/cpansand/devel:/home/eserte/src/srezic-misc/scripts
    PERL5LIB = 
    PERL5OPT = 
    PERL5_CPANPLUS_IS_RUNNING = 64628
    PERL5_CPAN_IS_RUNNING = 64628
    PERL5_CPAN_IS_RUNNING_IN_RECURSION = 66352,64628
    PERL_BATCH = yes
    PERL_CANARY_STABILITY_NOPROMPT = 1
    PERL_CPAN_REPORTER_CONFIG = /var/tmp/cpansmoker-1023/2024080320/cpanreporter_001_config.ini
    PERL_EXTUTILS_AUTOINSTALL = --defaultdeps
    PERL_USE_UNSAFE_INC = 1
    SHELL = /bin/sh
    TMPDIR = /var/tmp/cpansmoker-1023/2024080320

Perl special variables (and OS-specific diagnostics, for MSWin32):

    $^X = /usr/perl5.40.0D/bin/perl
    $UID/$EUID = 1023 / 1023
    $GID = 1023 1023
    $EGID = 1023 1023

Perl module toolchain versions installed:

    Module              Have    
    ------------------- --------
    CPAN                2.36    
    CPAN::Meta          2.150010
    Cwd                 3.90    
    ExtUtils::CBuilder  0.280240
    ExtUtils::Command   7.70    
    ExtUtils::Install   2.22    
    ExtUtils::MakeMaker 7.70    
    ExtUtils::Manifest  1.75    
    ExtUtils::ParseXS   3.51    
    File::Spec          3.90    
    JSON                4.10    
    JSON::PP            4.16    
    Module::Build       0.4234  
    Module::Signature   n/a     
    Parse::CPAN::Meta   2.150010
    Test2               1.302199
    Test::Harness       3.48    
    Test::More          1.302199
    YAML                1.31    
    YAML::Syck          1.34    
    version             0.9930  


--

Summary of my perl5 (revision 5 version 40 subversion 0) configuration:
   
  Platform:
    osname=freebsd
    osvers=15.0-current
    archname=amd64-freebsd-ld
    uname='freebsd cloud2.bbbike.org 15.0-current freebsd 15.0-current #0 main-n271542-4c5188bbeb88-dirty: thu aug 1 02:58:37 utc 2024 root@cloud2.bbbike.org:usrobjhomeprojectsfreebsd-srcamd64.amd64sysgeneric amd64 '
    config_args='-ds -e -Dprefix=/usr/perl5.40.0D -Duselongdouble -Dcf_email=srezic@cpan.org -Doptimize=-O2 -pipe'
    hint=recommended
    useposix=true
    d_sigaction=define
    useithreads=undef
    usemultiplicity=undef
    use64bitint=define
    use64bitall=define
    uselongdouble=define
    usemymalloc=n
    default_inc_excludes_dot=define
  Compiler:
    cc='cc'
    ccflags ='-DHAS_FPSETMASK -DHAS_FLOATINGPOINT_H -DNO_POSIX_2008_LOCALE -fno-strict-aliasing -pipe -fstack-protector-strong -I/usr/local/include'
    optimize='-O2 -pipe'
    cppflags='-DHAS_FPSETMASK -DHAS_FLOATINGPOINT_H -DNO_POSIX_2008_LOCALE -fno-strict-aliasing -pipe -fstack-protector-strong -I/usr/local/include'
    ccversion=''
    gccversion='FreeBSD Clang 18.1.6 (https://github.com/llvm/llvm-project.git llvmorg-18.1.6-0-g1118c2e05e67)'
    gccosandvers=''
    intsize=4
    longsize=8
    ptrsize=8
    doublesize=8
    byteorder=12345678
    doublekind=3
    d_longlong=define
    longlongsize=8
    d_longdbl=define
    longdblsize=16
    longdblkind=3
    ivtype='long'
    ivsize=8
    nvtype='long double'
    nvsize=16
    Off_t='off_t'
    lseeksize=8
    alignbytes=16
    prototype=define
  Linker and Libraries:
    ld='cc'
    ldflags ='-Wl,-E  -fstack-protector-strong -L/usr/local/lib'
    libpth=/usr/lib /usr/local/lib /usr/lib/clang/18/lib
    libs=-lpthread -lgdbm -ldl -lm -lcrypt -lutil -lc
    perllibs=-lpthread -ldl -lm -lcrypt -lutil -lc
    libc=
    so=so
    useshrplib=false
    libperl=libperl.a
    gnulibc_version=''
  Dynamic Linking:
    dlsrc=dl_dlopen.xs
    dlext=so
    d_dlsymun=undef
    ccdlflags=' '
    cccdlflags='-DPIC -fPIC'
    lddlflags='-shared  -L/usr/local/lib -fstack-protector-strong'


Characteristics of this binary (from libperl): 
  Compile-time options:
    HAS_LONG_DOUBLE
    HAS_STRTOLD
    HAS_TIMES
    PERLIO_LAYERS
    PERL_COPY_ON_WRITE
    PERL_DONT_CREATE_GVSV
    PERL_HASH_FUNC_SIPHASH13
    PERL_HASH_USE_SBOX32
    PERL_MALLOC_WRAP
    PERL_OP_PARENT
    PERL_PRESERVE_IVUV
    PERL_USE_SAFE_PUTENV
    USE_64_BIT_ALL
    USE_64_BIT_INT
    USE_LARGE_FILES
    USE_LOCALE
    USE_LOCALE_COLLATE
    USE_LOCALE_CTYPE
    USE_LOCALE_NUMERIC
    USE_LOCALE_TIME
    USE_LONG_DOUBLE
    USE_PERLIO
    USE_PERL_ATOF
  Built under freebsd
  Compiled at Aug  3 2024 19:14:43
  %ENV:
    PERL5LIB=""
    PERL5OPT=""
    PERL5_CPANPLUS_IS_RUNNING="64628"
    PERL5_CPAN_IS_RUNNING="64628"
    PERL5_CPAN_IS_RUNNING_IN_RECURSION="66352,64628"
    PERL_BATCH="yes"
    PERL_CANARY_STABILITY_NOPROMPT="1"
    PERL_CPAN_REPORTER_CONFIG="/var/tmp/cpansmoker-1023/2024080320/cpanreporter_001_config.ini"
    PERL_EXTUTILS_AUTOINSTALL="--defaultdeps"
    PERL_USE_UNSAFE_INC="1"
  @INC:
    /usr/perl5.40.0D/lib/site_perl/5.40.0/amd64-freebsd-ld
    /usr/perl5.40.0D/lib/site_perl/5.40.0
    /usr/perl5.40.0D/lib/5.40.0/amd64-freebsd-ld
    /usr/perl5.40.0D/lib/5.40.0
    .