Config-Model v2.151 Perl 5 v5.36.0 x86_64-linux
- Status
- Pass
- From
- Nedzad Hrnjica (NHRNJICA)
- Dist
-
Config-Model v2.151
- Platform
- Perl 5 v5.36.0 x86_64-linux
- Date
- 2022-07-26 14:43:59
- ID
- 625ad7ce-0cf1-11ed-861f-a4a619f29030
This distribution has been tested as part of the CPAN Testers
project, supporting the Perl programming language. See
http://wiki.cpantesters.org/ for more information or email
questions to cpan-testers-discuss@perl.org
--
Dear DDUMONT,
This is a computer-generated report for Config-Model-2.151
on perl 5.36.0, created by App::cpanminus::reporter 0.17 (1.7046).
Thank you for uploading your work to CPAN. Congratulations!
All tests were successful.
Sections of this report:
* Tester comments
* Program output
* Prerequisites
* Environment and other context
------------------------------
TESTER COMMENTS
------------------------------
Additional comments from tester:
none provided
------------------------------
PROGRAM OUTPUT
------------------------------
Output from '':
Building and testing Config-Model-2.151
Checking doc for model Multistrap
Checking doc for model PopCon
Checking doc for model Fstab
Building Config-Model
t/accept.t ........................ ok
t/annotation.t .................... ok
t/apply_fix.t ..................... ok
t/array_id.t ...................... ok
t/array_with_data_migration.t ..... ok
t/augment_class.t ................. ok
t/author-critic.t ................. skipped: these tests are for testing by the author
t/auto_load_model.t ............... ok
t/backend_ini.t ................... ok
t/backend_ini_with_section_map.t .. ok
t/backend_mgr.t ................... ok
t/backend_multiple.t .............. ok
t/backend_plainfile.t ............. ok
t/check_list.t .................... ok
t/check_list_warp.t ............... ok
t/cme-force-load.t ................ ok
t/cme-function.t .................. ok
t/describe_node.t ................. ok
t/dump_as_data.t .................. ok
t/dump_tree.t ..................... ok
t/fuse_ui.t ....................... skipped: fuse kernel module is not loaded
t/gen-class-doc.t ................. ok
t/get_info.t ...................... ok
t/grab.t .......................... ok
t/hash_id_of_node.t ............... ok
t/hash_id_of_values.t ............. ok
t/hash_with_data_migration.t ...... ok
t/include.t ....................... ok
t/instance-reset.t ................ ok
t/instance.t ...................... ok
t/iterator.t ...................... ok
t/load-model.t .................... ok
t/load.t .......................... ok
t/load_model_snippets.t ........... ok
t/loader_logs.t ................... ok
t/log-init.t ...................... ok
t/model.t ......................... ok
t/model_tests.t ................... ok
t/multi_warp_object.t ............. ok
t/multi_warp_value.t .............. ok
t/node-load.t ..................... ok
t/node.t .......................... ok
t/node_get_set.t .................. ok
t/obj_tree_scanner.t .............. ok
t/perl-critic.t ................... skipped: Author test. Set $ENV{TEST_AUTHOR} to a true value to run.
t/pod.t ........................... skipped: these tests are for testing by the author
t/pod_generation.t ................ ok
t/recursive_warp_value.t .......... ok
t/report.t ........................ ok
t/search_element.t ................ ok
t/search_in_tree.t ................ ok
t/simple_ui.t ..................... ok
t/smooth_upgrade.t ................ ok
You should install Term::ReadLine::Gnu for autocompletion and utf-8 support.
t/term_ui.t ....................... ok
Unhandled type: REGEXP at /home/liveapp/.plenv/versions/5.36.0/lib/perl5/site_perl/5.36.0/Devel/Cycle.pm line 107.
t/value.t ......................... ok
Unhandled type: REGEXP at /home/liveapp/.plenv/versions/5.36.0/lib/perl5/site_perl/5.36.0/Devel/Cycle.pm line 107.
t/value_compute.t ................. ok
t/value_refer_to.t ................ ok
t/value_simple_warp.t ............. ok
t/warped_id.t ..................... ok
t/warped_node.t ................... ok
t/warped_node_collateral.t ........ ok
t/warped_value.t .................. ok
All tests successful.
Files=62, Tests=1740, 22 wallclock secs ( 0.36 usr 0.10 sys + 19.85 cusr 1.97 csys = 22.28 CPU)
Result: PASS
------------------------------
PREREQUISITES
------------------------------
Prerequisite modules loaded:
No requirements found
------------------------------
ENVIRONMENT AND OTHER CONTEXT
------------------------------
Environment variables:
LANG = C.UTF-8
PATH = /home/liveapp/.plenv/versions/5.36.0/bin:/home/liveapp/.plenv/libexec:/home/liveapp/.plenv/plugins/perl-build/bin:/home/liveapp/cpantesters.new/5.36.0/local/bin:/home/liveapp/.plenv/shims:/home/liveapp/.plenv/bin:/usr/local/sbin:/usr/local/bin:/usr/sbin:/usr/bin:/sbin:/bin:/usr/games:/usr/local/games:/snap/bin
PERL5LIB = /home/liveapp/cpantesters.new/5.36.0/local/lib/perl5
SHELL = /bin/bash
TERM = xterm-256color
Perl special variables (and OS-specific diagnostics, for MSWin32):
EGID = 1001 27 1001
EUID = 1001
EXECUTABLE_NAME = /home/liveapp/.plenv/versions/5.36.0/bin/perl5.36.0
GID = 1001 27 1001
UID = 1001
Perl module toolchain versions installed:
Module Have
------------------- --------
CPAN 2.33
CPAN::Meta 2.150010
Cwd 3.84
ExtUtils::CBuilder 0.280236
ExtUtils::Command 7.64
ExtUtils::Install 2.20
ExtUtils::MakeMaker 7.64
ExtUtils::Manifest 1.73
ExtUtils::ParseXS 3.45
File::Spec 3.84
JSON 4.07
JSON::PP 4.10
Module::Build 0.4231
Module::Signature n/a
Parse::CPAN::Meta 2.150010
Test::Harness 3.44
Test::More 1.302191
YAML 1.30
YAML::Syck 1.34
version 0.9929
--
Summary of my perl5 (revision 5 version 36 subversion 0) configuration:
Platform:
osname=linux
osvers=5.4.0-91-generic
archname=x86_64-linux
uname='linux supremeadmin 5.4.0-91-generic #102-ubuntu smp fri nov 5 16:31:28 utc 2021 x86_64 x86_64 x86_64 gnulinux '
config_args='-Dprefix=/home/liveapp/.plenv/versions/5.36.0 -de -Dversiononly -A'eval:scriptdir=/home/liveapp/.plenv/versions/5.36.0/bin''
hint=recommended
useposix=true
d_sigaction=define
useithreads=undef
usemultiplicity=undef
use64bitint=define
use64bitall=define
uselongdouble=undef
usemymalloc=n
default_inc_excludes_dot=define
Compiler:
cc='cc'
ccflags ='-fwrapv -fno-strict-aliasing -pipe -fstack-protector-strong -I/usr/local/include -D_LARGEFILE_SOURCE -D_FILE_OFFSET_BITS=64'
optimize='-O2'
cppflags='-fwrapv -fno-strict-aliasing -pipe -fstack-protector-strong -I/usr/local/include'
ccversion=''
gccversion='9.4.0'
gccosandvers=''
intsize=4
longsize=8
ptrsize=8
doublesize=8
byteorder=12345678
doublekind=3
d_longlong=define
longlongsize=8
d_longdbl=define
longdblsize=16
longdblkind=3
ivtype='long'
ivsize=8
nvtype='double'
nvsize=8
Off_t='off_t'
lseeksize=8
alignbytes=8
prototype=define
Linker and Libraries:
ld='cc'
ldflags =' -fstack-protector-strong -L/usr/local/lib'
libpth=/usr/local/lib /usr/lib/x86_64-linux-gnu /usr/lib /lib/x86_64-linux-gnu /lib
libs=-lpthread -lnsl -ldl -lm -lcrypt -lutil -lc
perllibs=-lpthread -lnsl -ldl -lm -lcrypt -lutil -lc
libc=libc-2.31.so
so=so
useshrplib=false
libperl=libperl.a
gnulibc_version='2.31'
Dynamic Linking:
dlsrc=dl_dlopen.xs
dlext=so
d_dlsymun=undef
ccdlflags='-Wl,-E'
cccdlflags='-fPIC'
lddlflags='-shared -O2 -L/usr/local/lib -fstack-protector-strong'
Characteristics of this binary (from libperl):
Compile-time options:
HAS_TIMES
PERLIO_LAYERS
PERL_COPY_ON_WRITE
PERL_DONT_CREATE_GVSV
PERL_MALLOC_WRAP
PERL_OP_PARENT
PERL_PRESERVE_IVUV
USE_64_BIT_ALL
USE_64_BIT_INT
USE_LARGE_FILES
USE_LOCALE
USE_LOCALE_COLLATE
USE_LOCALE_CTYPE
USE_LOCALE_NUMERIC
USE_LOCALE_TIME
USE_PERLIO
USE_PERL_ATOF
Built under linux
Compiled at Jul 20 2022 21:52:50
%ENV:
PERL5LIB="/home/liveapp/cpantesters.new/5.36.0/local/lib/perl5"
@INC:
/home/liveapp/cpantesters.new/5.36.0/local/lib/perl5
/home/liveapp/.plenv/versions/5.36.0/lib/perl5/site_perl/5.36.0/x86_64-linux
/home/liveapp/.plenv/versions/5.36.0/lib/perl5/site_perl/5.36.0
/home/liveapp/.plenv/versions/5.36.0/lib/perl5/5.36.0/x86_64-linux
/home/liveapp/.plenv/versions/5.36.0/lib/perl5/5.36.0