Data-Record-Serialize-Encode-csv v0.02 Perl 5 v5.20.0 amd64-freebsd

Status
Pass
From
Slaven Rezić
Dist
Data-Record-Serialize-Encode-csv v0.02
Platform
Perl 5 v5.20.0 amd64-freebsd
Date
2022-09-03 16:06:35
ID
62a15e4a-2ba2-11ed-ad8c-97146e8775ea
This distribution has been tested as part of the CPAN Testers
project, supporting the Perl programming language.  See
http://wiki.cpantesters.org/ for more information or email
questions to cpan-testers-discuss@perl.org


--
Dear Diab Jerius,

This is a computer-generated report for Data-Record-Serialize-Encode-csv-0.02
on perl 5.20.0, created by CPAN-Reporter-1.2018.

Thank you for uploading your work to CPAN.  Congratulations!
All tests were successful.

Sections of this report:

    * Tester comments
    * Program output
    * Prerequisites
    * Environment and other context

------------------------------
TESTER COMMENTS
------------------------------

Additional comments from tester:

none provided

------------------------------
PROGRAM OUTPUT
------------------------------

Output from './Build test':

t/00-compile.t ........... ok
# 
# Versions for all modules listed in MYMETA.json (including optional ones):
# 
# === Configure Requires ===
# 
#     Module               Want  Have
#     ------------------- ----- -----
#     Module::Build::Tiny 0.034 0.039
# 
# === Test Requires ===
# 
#     Module                    Want     Have
#     ------------------------- ---- --------
#     Data::Record::Serialize   1.01     1.01
#     ExtUtils::MakeMaker        any     7.64
#     File::Slurper              any    0.012
#     File::Spec                 any     3.75
#     File::Spec::Functions      any     3.75
#     IO::Handle                 any     1.45
#     IPC::Open3                 any     1.16
#     Test2::Plugin::NoWarnings  any     0.09
#     Test2::V0                  any 0.000145
#     Test::More                 any 1.302191
#     strict                     any     1.08
#     warnings                   any     1.23
# 
# === Test Recommends ===
# 
#     Module         Want     Have
#     ---------- -------- --------
#     CPAN::Meta 2.120900 2.150010
# 
# === Runtime Requires ===
# 
#     Module                                           Want     Have
#     -------------------------------------------- -------- --------
#     Data::Record::Serialize                          1.01     1.01
#     Data::Record::Serialize::Error                   1.01     1.01
#     Data::Record::Serialize::Role::Encode             any     1.01
#     Data::Record::Serialize::Role::EncodeAndSink     1.01     1.01
#     Data::Record::Serialize::Role::Sink::Stream      1.01     1.01
#     Moo::Role                                    2.003004 2.005004
#     Text::CSV                                         any     2.02
#     Types::Common::String                             any 1.016008
#     Types::Standard                              1.010003 1.016008
#     namespace::clean                                  any     0.27
# 
t/00-report-prereqs.t .... ok
t/encoders/csv.t ......... ok
t/encoders/csv_stream.t .. ok
All tests successful.
Files=4, Tests=8,  1 wallclock secs ( 0.02 usr  0.01 sys +  0.83 cusr  0.13 csys =  0.98 CPU)
Result: PASS

------------------------------
PREREQUISITES
------------------------------

Prerequisite modules loaded:

requires:

    Module                                       Need     Have    
    -------------------------------------------- -------- --------
    Data::Record::Serialize                      1.01     1.01    
    Data::Record::Serialize::Error               1.01     1.01    
    Data::Record::Serialize::Role::Encode        0        1.01    
    Data::Record::Serialize::Role::EncodeAndSink 1.01     1.01    
    Data::Record::Serialize::Role::Sink::Stream  1.01     1.01    
    Moo::Role                                    2.003004 2.005004
    namespace::clean                             0        0.27    
    perl                                         5.01000  5.020000
    Text::CSV                                    0        2.02    
    Types::Common::String                        0        1.016008
    Types::Standard                              1.010003 1.016008

build_requires:

    Module                                       Need     Have    
    -------------------------------------------- -------- --------
    Data::Record::Serialize                      1.01     1.01    
    ExtUtils::MakeMaker                          0        7.64    
    File::Slurper                                0        0.012   
    File::Spec                                   0        3.75    
    File::Spec::Functions                        0        3.75    
    IO::Handle                                   0        1.45    
    IPC::Open3                                   0        1.16    
    perl                                         5.01000  5.020000
    strict                                       0        1.08    
    Test2::Plugin::NoWarnings                    0        0.09    
    Test2::V0                                    0        0.000145
    Test::More                                   0        1.302191
    warnings                                     0        1.23    

configure_requires:

    Module                                       Need     Have    
    -------------------------------------------- -------- --------
    Module::Build::Tiny                          0.034    0.039   

opt_build_requires:

    Module                                       Need     Have    
    -------------------------------------------- -------- --------
    CPAN::Meta                                   2.120900 2.150010


------------------------------
ENVIRONMENT AND OTHER CONTEXT
------------------------------

Environment variables:

    LC_ALL = de_DE.ISO8859-1
    PATH = /usr/local/bin:/usr/bin:/bin:/usr/local/sbin:/usr/sbin:/sbin:/home/cpansand/bin/freebsd9.3:/home/cpansand/bin/sh:/home/cpansand/bin:/usr/games:/home/cpansand/devel:/usr/home/eserte/src/srezic-misc/scripts
    PERL5LIB = 
    PERL5OPT = 
    PERL5_CPANPLUS_IS_RUNNING = 23739
    PERL5_CPAN_IS_RUNNING = 23739
    PERL5_CPAN_IS_RUNNING_IN_RECURSION = 23695,23739
    PERLDOC = -MPod::Perldoc::ToTextOverstrike
    PERL_BATCH = yes
    PERL_CANARY_STABILITY_NOPROMPT = 1
    PERL_CPAN_REPORTER_CONFIG = /var/tmp/cpansmoker-1023/2022090316/cpanreporter_000_config.ini
    PERL_EXTUTILS_AUTOINSTALL = --defaultdeps
    PERL_USE_UNSAFE_INC = 1
    SHELL = /usr/local/bin/zsh
    TERM = screen
    TMPDIR = /var/tmp/cpansmoker-1023/2022090316

Perl special variables (and OS-specific diagnostics, for MSWin32):

    $^X = /usr/perl5.20.0/bin/perl
    $UID/$EUID = 1023 / 1023
    $GID = 1023 1023
    $EGID = 1023 1023

Perl module toolchain versions installed:

    Module              Have    
    ------------------- --------
    CPAN                2.34    
    CPAN::Meta          2.150010
    Cwd                 3.75    
    ExtUtils::CBuilder  0.280236
    ExtUtils::Command   7.64    
    ExtUtils::Install   2.20    
    ExtUtils::MakeMaker 7.64    
    ExtUtils::Manifest  1.73    
    ExtUtils::ParseXS   3.35    
    File::Spec          3.75    
    JSON                4.09    
    JSON::PP            4.11    
    Module::Build       0.4231  
    Module::Signature   0.88    
    Parse::CPAN::Meta   2.150010
    Test::Harness       3.44    
    Test::More          1.302191
    YAML                1.30    
    YAML::Syck          1.34    
    version             0.9929  


--

Summary of my perl5 (revision 5 version 20 subversion 0) configuration:
   
  Platform:
    osname=freebsd, osvers=9.2-release-p4, archname=amd64-freebsd
    uname='freebsd cvrsnica-freebsd-92 9.2-release-p4 freebsd 9.2-release-p4 #0: tue apr 8 18:08:22 utc 2014 root@amd64-builder.daemonology.net:usrobjusrsrcsysgeneric amd64 '
    config_args='-ds -e -Dprefix=/usr/perl5.20.0'
    hint=recommended, useposix=true, d_sigaction=define
    useithreads=undef, usemultiplicity=undef
    use64bitint=define, use64bitall=define, uselongdouble=undef
    usemymalloc=n, bincompat5005=undef
  Compiler:
    cc='cc', ccflags ='-DHAS_FPSETMASK -DHAS_FLOATINGPOINT_H -fno-strict-aliasing -pipe -fstack-protector -I/usr/local/include',
    optimize='-O',
    cppflags='-DHAS_FPSETMASK -DHAS_FLOATINGPOINT_H -fno-strict-aliasing -pipe -fstack-protector -I/usr/local/include'
    ccversion='', gccversion='4.2.1 20070831 patched [FreeBSD]', gccosandvers=''
    intsize=4, longsize=8, ptrsize=8, doublesize=8, byteorder=12345678
    d_longlong=define, longlongsize=8, d_longdbl=define, longdblsize=16
    ivtype='long', ivsize=8, nvtype='double', nvsize=8, Off_t='off_t', lseeksize=8
    alignbytes=8, prototype=define
  Linker and Libraries:
    ld='cc', ldflags ='-Wl,-E  -fstack-protector -L/usr/local/lib'
    libpth=/usr/lib /usr/local/lib /usr/include/gcc/4.2 /usr/lib
    libs=-lgdbm -lm -lcrypt -lutil -lc
    perllibs=-lm -lcrypt -lutil -lc
    libc=, so=so, useshrplib=false, libperl=libperl.a
    gnulibc_version=''
  Dynamic Linking:
    dlsrc=dl_dlopen.xs, dlext=so, d_dlsymun=undef, ccdlflags=' '
    cccdlflags='-DPIC -fPIC', lddlflags='-shared  -L/usr/local/lib -fstack-protector'


Characteristics of this binary (from libperl): 
  Compile-time options: HAS_TIMES PERLIO_LAYERS PERL_DONT_CREATE_GVSV
                        PERL_HASH_FUNC_ONE_AT_A_TIME_HARD PERL_MALLOC_WRAP
                        PERL_NEW_COPY_ON_WRITE PERL_PRESERVE_IVUV
                        USE_64_BIT_ALL USE_64_BIT_INT USE_LARGE_FILES
                        USE_LOCALE USE_LOCALE_COLLATE USE_LOCALE_CTYPE
                        USE_LOCALE_NUMERIC USE_PERLIO USE_PERL_ATOF
  Built under freebsd
  Compiled at May 27 2014 13:55:26
  %ENV:
    PERL5LIB=""
    PERL5OPT=""
    PERL5_CPANPLUS_IS_RUNNING="23739"
    PERL5_CPAN_IS_RUNNING="23739"
    PERL5_CPAN_IS_RUNNING_IN_RECURSION="23695,23739"
    PERLDOC="-MPod::Perldoc::ToTextOverstrike"
    PERL_BATCH="yes"
    PERL_CANARY_STABILITY_NOPROMPT="1"
    PERL_CPAN_REPORTER_CONFIG="/var/tmp/cpansmoker-1023/2022090316/cpanreporter_000_config.ini"
    PERL_EXTUTILS_AUTOINSTALL="--defaultdeps"
    PERL_USE_UNSAFE_INC="1"
  @INC:
    /usr/perl5.20.0/lib/site_perl/5.20.0/amd64-freebsd
    /usr/perl5.20.0/lib/site_perl/5.20.0
    /usr/perl5.20.0/lib/5.20.0/amd64-freebsd
    /usr/perl5.20.0/lib/5.20.0
    .