Report for HTTP-MobileAttribute-0.23

Back
From: metabase:user:320bfe00-2aae-11df-837a-5e0a49663a4f
Subject: PASS HTTP-MobileAttribute-0.23 v5.25.1 GNU/Linux
Date: 2016-05-29T16:14:14Z

This distribution has been tested as part of the CPAN Testers
project, supporting the Perl programming language.  See
http://wiki.cpantesters.org/ for more information or email
questions to cpan-testers-discuss@perl.org


--
Dear Author,

This is a computer-generated report for HTTP-MobileAttribute-0.23
on perl 5.25.1, created by CPAN-Reporter-1.2017.

Thank you for uploading your work to CPAN.  Congratulations!
All tests were successful.

Sections of this report:

    * Tester comments
    * Program output
    * Prerequisites
    * Environment and other context

------------------------------
TESTER COMMENTS
------------------------------

Additional comments from tester:

this report is from an automated smoke testing program
and was not reviewed by a human for accuracy

------------------------------
PROGRAM OUTPUT
------------------------------

Output from '/usr/bin/make test':

PERL_DL_NONLAZY=1 "/tmp/basesmoker-reloperl-UDpN/bin/perl" "-MExtUtils::Command::MM" "-MTest::Harness" "-e" "undef *Test::Harness::Switches; test_harness(0, 'inc', 'blib/lib', 'blib/arch')" t/*.t t/Plugins/*.t t/*/*/*.t
Possible precedence issue with control flow operator at /tmp/loop_over_bdir-27440-k5BmBX/HTTP-MobileAttribute-0.23-0/inc/Test/Builder.pm line 917.
t/00_compile.t .............................. ok
Possible precedence issue with control flow operator at /tmp/loop_over_bdir-27440-k5BmBX/HTTP-MobileAttribute-0.23-0/inc/Test/Builder.pm line 917.
Redundant argument in sprintf at /tmp/loop_over_bdir-27440-k5BmBX/HTTP-MobileAttribute-0.23-0/inc/Spiffy.pm line 225.
Redundant argument in sprintf at /tmp/loop_over_bdir-27440-k5BmBX/HTTP-MobileAttribute-0.23-0/inc/Spiffy.pm line 225.
Redundant argument in sprintf at /tmp/loop_over_bdir-27440-k5BmBX/HTTP-MobileAttribute-0.23-0/inc/Spiffy.pm line 225.
Redundant argument in sprintf at /tmp/loop_over_bdir-27440-k5BmBX/HTTP-MobileAttribute-0.23-0/inc/Spiffy.pm line 225.
t/01_carrier_detect.t ....................... ok
Possible precedence issue with control flow operator at /tmp/loop_over_bdir-27440-k5BmBX/HTTP-MobileAttribute-0.23-0/inc/Test/Builder.pm line 917.
t/01_request.t .............................. ok
Possible precedence issue with control flow operator at /tmp/loop_over_bdir-27440-k5BmBX/HTTP-MobileAttribute-0.23-0/inc/Test/Builder.pm line 917.
t/02_docomo.t ............................... ok
Possible precedence issue with control flow operator at /tmp/loop_over_bdir-27440-k5BmBX/HTTP-MobileAttribute-0.23-0/inc/Test/Builder.pm line 917.
t/03_j_phone.t .............................. ok
Possible precedence issue with control flow operator at /tmp/loop_over_bdir-27440-k5BmBX/HTTP-MobileAttribute-0.23-0/inc/Test/Builder.pm line 917.
t/04_ezweb.t ................................ ok
Possible precedence issue with control flow operator at /tmp/loop_over_bdir-27440-k5BmBX/HTTP-MobileAttribute-0.23-0/inc/Test/Builder.pm line 917.
t/06_nonmobile.t ............................ ok
Possible precedence issue with control flow operator at /tmp/loop_over_bdir-27440-k5BmBX/HTTP-MobileAttribute-0.23-0/inc/Test/Builder.pm line 917.
t/07_airh.t ................................. ok
Possible precedence issue with control flow operator at /tmp/loop_over_bdir-27440-k5BmBX/HTTP-MobileAttribute-0.23-0/inc/Test/Builder.pm line 917.
t/09_vodafone_3gc.t ......................... ok
Possible precedence issue with control flow operator at /tmp/loop_over_bdir-27440-k5BmBX/HTTP-MobileAttribute-0.23-0/inc/Test/Builder.pm line 917.
t/10_softbank.t ............................. ok
Possible precedence issue with control flow operator at /tmp/loop_over_bdir-27440-k5BmBX/HTTP-MobileAttribute-0.23-0/inc/Test/Builder.pm line 917.
Redundant argument in sprintf at /tmp/loop_over_bdir-27440-k5BmBX/HTTP-MobileAttribute-0.23-0/inc/Spiffy.pm line 225.
Redundant argument in sprintf at /tmp/loop_over_bdir-27440-k5BmBX/HTTP-MobileAttribute-0.23-0/inc/Spiffy.pm line 225.
Redundant argument in sprintf at /tmp/loop_over_bdir-27440-k5BmBX/HTTP-MobileAttribute-0.23-0/inc/Spiffy.pm line 225.
Redundant argument in sprintf at /tmp/loop_over_bdir-27440-k5BmBX/HTTP-MobileAttribute-0.23-0/inc/Spiffy.pm line 225.
t/11_softbank_base.t ........................ ok
Possible precedence issue with control flow operator at /tmp/loop_over_bdir-27440-k5BmBX/HTTP-MobileAttribute-0.23-0/inc/Test/Builder.pm line 917.
t/12_no_match.t ............................. ok
Possible precedence issue with control flow operator at /tmp/loop_over_bdir-27440-k5BmBX/HTTP-MobileAttribute-0.23-0/inc/Test/Builder.pm line 917.
Redundant argument in sprintf at /tmp/loop_over_bdir-27440-k5BmBX/HTTP-MobileAttribute-0.23-0/inc/Spiffy.pm line 225.
Redundant argument in sprintf at /tmp/loop_over_bdir-27440-k5BmBX/HTTP-MobileAttribute-0.23-0/inc/Spiffy.pm line 225.
Redundant argument in sprintf at /tmp/loop_over_bdir-27440-k5BmBX/HTTP-MobileAttribute-0.23-0/inc/Spiffy.pm line 225.
Redundant argument in sprintf at /tmp/loop_over_bdir-27440-k5BmBX/HTTP-MobileAttribute-0.23-0/inc/Spiffy.pm line 225.
t/Plugins/CIDR-base.t ....................... skipped: Net::CIDR::MobileJP is not installed.
Possible precedence issue with control flow operator at /tmp/loop_over_bdir-27440-k5BmBX/HTTP-MobileAttribute-0.23-0/inc/Test/Builder.pm line 917.
Redundant argument in sprintf at /tmp/loop_over_bdir-27440-k5BmBX/HTTP-MobileAttribute-0.23-0/inc/Spiffy.pm line 225.
Redundant argument in sprintf at /tmp/loop_over_bdir-27440-k5BmBX/HTTP-MobileAttribute-0.23-0/inc/Spiffy.pm line 225.
Redundant argument in sprintf at /tmp/loop_over_bdir-27440-k5BmBX/HTTP-MobileAttribute-0.23-0/inc/Spiffy.pm line 225.
Redundant argument in sprintf at /tmp/loop_over_bdir-27440-k5BmBX/HTTP-MobileAttribute-0.23-0/inc/Spiffy.pm line 225.
t/Plugins/CIDR-setter.t ..................... skipped: Net::CIDR::MobileJP is not installed.
Possible precedence issue with control flow operator at /tmp/loop_over_bdir-27440-k5BmBX/HTTP-MobileAttribute-0.23-0/inc/Test/Builder.pm line 917.
Redundant argument in sprintf at /tmp/loop_over_bdir-27440-k5BmBX/HTTP-MobileAttribute-0.23-0/inc/Spiffy.pm line 225.
Redundant argument in sprintf at /tmp/loop_over_bdir-27440-k5BmBX/HTTP-MobileAttribute-0.23-0/inc/Spiffy.pm line 225.
Redundant argument in sprintf at /tmp/loop_over_bdir-27440-k5BmBX/HTTP-MobileAttribute-0.23-0/inc/Spiffy.pm line 225.
Redundant argument in sprintf at /tmp/loop_over_bdir-27440-k5BmBX/HTTP-MobileAttribute-0.23-0/inc/Spiffy.pm line 225.
t/Plugins/CIDR-yaml.t ....................... skipped: Net::CIDR::MobileJP is not installed.
Possible precedence issue with control flow operator at /tmp/loop_over_bdir-27440-k5BmBX/HTTP-MobileAttribute-0.23-0/inc/Test/Builder.pm line 917.
Redundant argument in sprintf at /tmp/loop_over_bdir-27440-k5BmBX/HTTP-MobileAttribute-0.23-0/inc/Spiffy.pm line 225.
Redundant argument in sprintf at /tmp/loop_over_bdir-27440-k5BmBX/HTTP-MobileAttribute-0.23-0/inc/Spiffy.pm line 225.
Redundant argument in sprintf at /tmp/loop_over_bdir-27440-k5BmBX/HTTP-MobileAttribute-0.23-0/inc/Spiffy.pm line 225.
Redundant argument in sprintf at /tmp/loop_over_bdir-27440-k5BmBX/HTTP-MobileAttribute-0.23-0/inc/Spiffy.pm line 225.
t/Plugins/Display.t ......................... ok
Possible precedence issue with control flow operator at /tmp/loop_over_bdir-27440-k5BmBX/HTTP-MobileAttribute-0.23-0/inc/Test/Builder.pm line 917.
Redundant argument in sprintf at /tmp/loop_over_bdir-27440-k5BmBX/HTTP-MobileAttribute-0.23-0/inc/Spiffy.pm line 225.
Redundant argument in sprintf at /tmp/loop_over_bdir-27440-k5BmBX/HTTP-MobileAttribute-0.23-0/inc/Spiffy.pm line 225.
Redundant argument in sprintf at /tmp/loop_over_bdir-27440-k5BmBX/HTTP-MobileAttribute-0.23-0/inc/Spiffy.pm line 225.
Redundant argument in sprintf at /tmp/loop_over_bdir-27440-k5BmBX/HTTP-MobileAttribute-0.23-0/inc/Spiffy.pm line 225.
t/Plugins/DoCoMo/Browser.t .................. ok
Possible precedence issue with control flow operator at /tmp/loop_over_bdir-27440-k5BmBX/HTTP-MobileAttribute-0.23-0/inc/Test/Builder.pm line 917.
Redundant argument in sprintf at /tmp/loop_over_bdir-27440-k5BmBX/HTTP-MobileAttribute-0.23-0/inc/Spiffy.pm line 225.
Redundant argument in sprintf at /tmp/loop_over_bdir-27440-k5BmBX/HTTP-MobileAttribute-0.23-0/inc/Spiffy.pm line 225.
Redundant argument in sprintf at /tmp/loop_over_bdir-27440-k5BmBX/HTTP-MobileAttribute-0.23-0/inc/Spiffy.pm line 225.
Redundant argument in sprintf at /tmp/loop_over_bdir-27440-k5BmBX/HTTP-MobileAttribute-0.23-0/inc/Spiffy.pm line 225.
t/Plugins/Encoding.t ........................ ok
Possible precedence issue with control flow operator at /tmp/loop_over_bdir-27440-k5BmBX/HTTP-MobileAttribute-0.23-0/inc/Test/Builder.pm line 917.
Redundant argument in sprintf at /tmp/loop_over_bdir-27440-k5BmBX/HTTP-MobileAttribute-0.23-0/inc/Spiffy.pm line 225.
Redundant argument in sprintf at /tmp/loop_over_bdir-27440-k5BmBX/HTTP-MobileAttribute-0.23-0/inc/Spiffy.pm line 225.
Redundant argument in sprintf at /tmp/loop_over_bdir-27440-k5BmBX/HTTP-MobileAttribute-0.23-0/inc/Spiffy.pm line 225.
Redundant argument in sprintf at /tmp/loop_over_bdir-27440-k5BmBX/HTTP-MobileAttribute-0.23-0/inc/Spiffy.pm line 225.
t/Plugins/GPS-gps_compliant.t ............... ok
Possible precedence issue with control flow operator at /tmp/loop_over_bdir-27440-k5BmBX/HTTP-MobileAttribute-0.23-0/inc/Test/Builder.pm line 917.
Redundant argument in sprintf at /tmp/loop_over_bdir-27440-k5BmBX/HTTP-MobileAttribute-0.23-0/inc/Spiffy.pm line 225.
Redundant argument in sprintf at /tmp/loop_over_bdir-27440-k5BmBX/HTTP-MobileAttribute-0.23-0/inc/Spiffy.pm line 225.
Redundant argument in sprintf at /tmp/loop_over_bdir-27440-k5BmBX/HTTP-MobileAttribute-0.23-0/inc/Spiffy.pm line 225.
Redundant argument in sprintf at /tmp/loop_over_bdir-27440-k5BmBX/HTTP-MobileAttribute-0.23-0/inc/Spiffy.pm line 225.
THIS METHOD IS OBSOLETE. DO NOT USE THIS. at /tmp/loop_over_bdir-27440-k5BmBX/HTTP-MobileAttribute-0.23-0/blib/lib/HTTP/MobileAttribute/Plugin/GPS.pm line 13, <DATA> line 1.
THIS METHOD IS OBSOLETE. DO NOT USE THIS. at /tmp/loop_over_bdir-27440-k5BmBX/HTTP-MobileAttribute-0.23-0/blib/lib/HTTP/MobileAttribute/Plugin/GPS.pm line 13, <DATA> line 1.
t/Plugins/GPS-is_gps.t ...................... ok
Possible precedence issue with control flow operator at /tmp/loop_over_bdir-27440-k5BmBX/HTTP-MobileAttribute-0.23-0/inc/Test/Builder.pm line 917.
t/Plugins/Locator/00.load.t ................. ok
Possible precedence issue with control flow operator at /tmp/loop_over_bdir-27440-k5BmBX/HTTP-MobileAttribute-0.23-0/inc/Test/Builder.pm line 917.
Argument "35.21.03.342" isn't numeric in numeric lt (<) at /home/sand/src/perl/repoperls/installed-perls/host/k93x64sid/v5.25.1/fae6/lib/site_perl/5.25.1/Geo/Coordinates/Converter/Format/Milliseconds.pm line 13.
Argument "35.21.03.342" isn't numeric in numeric lt (<) at /home/sand/src/perl/repoperls/installed-perls/host/k93x64sid/v5.25.1/fae6/lib/site_perl/5.25.1/Geo/Coordinates/Converter/Format/Milliseconds.pm line 13.
Argument "35.21.03.342" isn't numeric in numeric lt (<) at /home/sand/src/perl/repoperls/installed-perls/host/k93x64sid/v5.25.1/fae6/lib/site_perl/5.25.1/Geo/Coordinates/Converter/Format/Milliseconds.pm line 13.
Argument "35.21.03.342" isn't numeric in numeric lt (<) at /home/sand/src/perl/repoperls/installed-perls/host/k93x64sid/v5.25.1/fae6/lib/site_perl/5.25.1/Geo/Coordinates/Converter/Format/Milliseconds.pm line 13.
Argument "+35.39.43.538" isn't numeric in numeric lt (<) at /home/sand/src/perl/repoperls/installed-perls/host/k93x64sid/v5.25.1/fae6/lib/site_perl/5.25.1/Geo/Coordinates/Converter/Format/Milliseconds.pm line 13.
Argument "+35.39.43.538" isn't numeric in numeric lt (<) at /home/sand/src/perl/repoperls/installed-perls/host/k93x64sid/v5.25.1/fae6/lib/site_perl/5.25.1/Geo/Coordinates/Converter/Format/Milliseconds.pm line 13.
Argument "+35.39.43.538" isn't numeric in numeric lt (<) at /home/sand/src/perl/repoperls/installed-perls/host/k93x64sid/v5.25.1/fae6/lib/site_perl/5.25.1/Geo/Coordinates/Converter/Format/Milliseconds.pm line 13.
Argument "+35.39.43.538" isn't numeric in numeric lt (<) at /home/sand/src/perl/repoperls/installed-perls/host/k93x64sid/v5.25.1/fae6/lib/site_perl/5.25.1/Geo/Coordinates/Converter/Format/Milliseconds.pm line 13.
Argument "+35.39.43.538" isn't numeric in numeric lt (<) at /home/sand/src/perl/repoperls/installed-perls/host/k93x64sid/v5.25.1/fae6/lib/site_perl/5.25.1/Geo/Coordinates/Converter/Format/Milliseconds.pm line 13.
Argument "+35.39.43.538" isn't numeric in numeric lt (<) at /home/sand/src/perl/repoperls/installed-perls/host/k93x64sid/v5.25.1/fae6/lib/site_perl/5.25.1/Geo/Coordinates/Converter/Format/Milliseconds.pm line 13.
Argument "35.21.03.342" isn't numeric in numeric lt (<) at /home/sand/src/perl/repoperls/installed-perls/host/k93x64sid/v5.25.1/fae6/lib/site_perl/5.25.1/Geo/Coordinates/Converter/Format/Milliseconds.pm line 13.
Argument "35.21.03.342" isn't numeric in numeric lt (<) at /home/sand/src/perl/repoperls/installed-perls/host/k93x64sid/v5.25.1/fae6/lib/site_perl/5.25.1/Geo/Coordinates/Converter/Format/Milliseconds.pm line 13.
Argument "35.21.03.342" isn't numeric in numeric lt (<) at /home/sand/src/perl/repoperls/installed-perls/host/k93x64sid/v5.25.1/fae6/lib/site_perl/5.25.1/Geo/Coordinates/Converter/Format/Milliseconds.pm line 13.
Argument "35.21.03.342" isn't numeric in numeric lt (<) at /home/sand/src/perl/repoperls/installed-perls/host/k93x64sid/v5.25.1/fae6/lib/site_perl/5.25.1/Geo/Coordinates/Converter/Format/Milliseconds.pm line 13.
Argument "35.21.03.342" isn't numeric in numeric lt (<) at /home/sand/src/perl/repoperls/installed-perls/host/k93x64sid/v5.25.1/fae6/lib/site_perl/5.25.1/Geo/Coordinates/Converter/Format/Milliseconds.pm line 13.
Argument "35.21.03.342" isn't numeric in numeric lt (<) at /home/sand/src/perl/repoperls/installed-perls/host/k93x64sid/v5.25.1/fae6/lib/site_perl/5.25.1/Geo/Coordinates/Converter/Format/Milliseconds.pm line 13.
Argument "35.20.51.00" isn't numeric in numeric lt (<) at /home/sand/src/perl/repoperls/installed-perls/host/k93x64sid/v5.25.1/fae6/lib/site_perl/5.25.1/Geo/Coordinates/Converter/Format/Milliseconds.pm line 13.
Argument "35.20.51.00" isn't numeric in numeric lt (<) at /home/sand/src/perl/repoperls/installed-perls/host/k93x64sid/v5.25.1/fae6/lib/site_perl/5.25.1/Geo/Coordinates/Converter/Format/Milliseconds.pm line 13.
Argument "35.20.51.00" isn't numeric in numeric lt (<) at /home/sand/src/perl/repoperls/installed-perls/host/k93x64sid/v5.25.1/fae6/lib/site_perl/5.25.1/Geo/Coordinates/Converter/Format/Milliseconds.pm line 13.
Argument "35.20.51.00" isn't numeric in numeric lt (<) at /home/sand/src/perl/repoperls/installed-perls/host/k93x64sid/v5.25.1/fae6/lib/site_perl/5.25.1/Geo/Coordinates/Converter/Format/Milliseconds.pm line 13.
Argument "35.20.51.00" isn't numeric in numeric lt (<) at /home/sand/src/perl/repoperls/installed-perls/host/k93x64sid/v5.25.1/fae6/lib/site_perl/5.25.1/Geo/Coordinates/Converter/Format/Milliseconds.pm line 13.
Argument "35.20.51.00" isn't numeric in numeric lt (<) at /home/sand/src/perl/repoperls/installed-perls/host/k93x64sid/v5.25.1/fae6/lib/site_perl/5.25.1/Geo/Coordinates/Converter/Format/Milliseconds.pm line 13.
Argument "35.20.51.00" isn't numeric in numeric lt (<) at /home/sand/src/perl/repoperls/installed-perls/host/k93x64sid/v5.25.1/fae6/lib/site_perl/5.25.1/Geo/Coordinates/Converter/Format/Milliseconds.pm line 13.
Argument "35.20.51.00" isn't numeric in numeric lt (<) at /home/sand/src/perl/repoperls/installed-perls/host/k93x64sid/v5.25.1/fae6/lib/site_perl/5.25.1/Geo/Coordinates/Converter/Format/Milliseconds.pm line 13.
Argument "35.20.51.00" isn't numeric in numeric lt (<) at /home/sand/src/perl/repoperls/installed-perls/host/k93x64sid/v5.25.1/fae6/lib/site_perl/5.25.1/Geo/Coordinates/Converter/Format/Milliseconds.pm line 13.
Argument "35.20.51.00" isn't numeric in numeric lt (<) at /home/sand/src/perl/repoperls/installed-perls/host/k93x64sid/v5.25.1/fae6/lib/site_perl/5.25.1/Geo/Coordinates/Converter/Format/Milliseconds.pm line 13.
Argument "35.20.51.664" isn't numeric in numeric lt (<) at /home/sand/src/perl/repoperls/installed-perls/host/k93x64sid/v5.25.1/fae6/lib/site_perl/5.25.1/Geo/Coordinates/Converter/Format/Milliseconds.pm line 13.
Argument "35.20.51.664" isn't numeric in numeric lt (<) at /home/sand/src/perl/repoperls/installed-perls/host/k93x64sid/v5.25.1/fae6/lib/site_perl/5.25.1/Geo/Coordinates/Converter/Format/Milliseconds.pm line 13.
Argument "35.20.51.664" isn't numeric in numeric lt (<) at /home/sand/src/perl/repoperls/installed-perls/host/k93x64sid/v5.25.1/fae6/lib/site_perl/5.25.1/Geo/Coordinates/Converter/Format/Milliseconds.pm line 13.
Argument "35.20.51.664" isn't numeric in numeric lt (<) at /home/sand/src/perl/repoperls/installed-perls/host/k93x64sid/v5.25.1/fae6/lib/site_perl/5.25.1/Geo/Coordinates/Converter/Format/Milliseconds.pm line 13.
Argument "35.20.51.664" isn't numeric in numeric lt (<) at /home/sand/src/perl/repoperls/installed-perls/host/k93x64sid/v5.25.1/fae6/lib/site_perl/5.25.1/Geo/Coordinates/Converter/Format/Milliseconds.pm line 13.
Argument "35.20.51.664" isn't numeric in numeric lt (<) at /home/sand/src/perl/repoperls/installed-perls/host/k93x64sid/v5.25.1/fae6/lib/site_perl/5.25.1/Geo/Coordinates/Converter/Format/Milliseconds.pm line 13.
Argument "35.20.51.664" isn't numeric in numeric lt (<) at /home/sand/src/perl/repoperls/installed-perls/host/k93x64sid/v5.25.1/fae6/lib/site_perl/5.25.1/Geo/Coordinates/Converter/Format/Milliseconds.pm line 13.
Argument "35.20.51.664" isn't numeric in numeric lt (<) at /home/sand/src/perl/repoperls/installed-perls/host/k93x64sid/v5.25.1/fae6/lib/site_perl/5.25.1/Geo/Coordinates/Converter/Format/Milliseconds.pm line 13.
t/Plugins/Locator/01.get_location.t ......... ok
Possible precedence issue with control flow operator at /tmp/loop_over_bdir-27440-k5BmBX/HTTP-MobileAttribute-0.23-0/inc/Test/Builder.pm line 917.
t/Plugins/Locator/02.gps_comliant.t ......... ok
Possible precedence issue with control flow operator at /tmp/loop_over_bdir-27440-k5BmBX/HTTP-MobileAttribute-0.23-0/inc/Test/Builder.pm line 917.
t/Plugins/Locator/03.non_mobile.t ........... ok
Possible precedence issue with control flow operator at /tmp/loop_over_bdir-27440-k5BmBX/HTTP-MobileAttribute-0.23-0/inc/Test/Builder.pm line 917.
t/Plugins/Locator/04.apache_params.t ........ ok
Possible precedence issue with control flow operator at /tmp/loop_over_bdir-27440-k5BmBX/HTTP-MobileAttribute-0.23-0/inc/Test/Builder.pm line 917.
CGI::param called in list context from /tmp/loop_over_bdir-27440-k5BmBX/HTTP-MobileAttribute-0.23-0/blib/lib/HTTP/MobileAttribute/Plugin/Locator.pm line 92, this can lead to vulnerabilities. See the warning in "Fetching the value or values of a single named parameter" at /home/sand/src/perl/repoperls/installed-perls/host/k93x64sid/v5.25.1/fae6/lib/site_perl/5.25.1/CGI.pm line 407.
t/Plugins/Locator/05.cgi_params.t ........... ok
Possible precedence issue with control flow operator at /tmp/loop_over_bdir-27440-k5BmBX/HTTP-MobileAttribute-0.23-0/inc/Test/Builder.pm line 917.
t/Plugins/Locator/06.hashref_params.t ....... ok
Possible precedence issue with control flow operator at /tmp/loop_over_bdir-27440-k5BmBX/HTTP-MobileAttribute-0.23-0/inc/Test/Builder.pm line 917.
t/Plugins/Locator/07.gps_parameter.t ........ ok
Possible precedence issue with control flow operator at /tmp/loop_over_bdir-27440-k5BmBX/HTTP-MobileAttribute-0.23-0/inc/Test/Builder.pm line 917.
CGI::param called in list context from /tmp/loop_over_bdir-27440-k5BmBX/HTTP-MobileAttribute-0.23-0/blib/lib/HTTP/MobileAttribute/Plugin/Locator.pm line 92, this can lead to vulnerabilities. See the warning in "Fetching the value or values of a single named parameter" at /home/sand/src/perl/repoperls/installed-perls/host/k93x64sid/v5.25.1/fae6/lib/site_perl/5.25.1/CGI.pm line 407.
t/Plugins/Locator/08.regression-params.t .... ok
Possible precedence issue with control flow operator at /tmp/loop_over_bdir-27440-k5BmBX/HTTP-MobileAttribute-0.23-0/inc/Test/Builder.pm line 917.
t/Plugins/Locator/09.get_carrier_locator.t .. ok
Possible precedence issue with control flow operator at /tmp/loop_over_bdir-27440-k5BmBX/HTTP-MobileAttribute-0.23-0/inc/Test/Builder.pm line 917.
Redundant argument in sprintf at /tmp/loop_over_bdir-27440-k5BmBX/HTTP-MobileAttribute-0.23-0/inc/Spiffy.pm line 225.
Redundant argument in sprintf at /tmp/loop_over_bdir-27440-k5BmBX/HTTP-MobileAttribute-0.23-0/inc/Spiffy.pm line 225.
Redundant argument in sprintf at /tmp/loop_over_bdir-27440-k5BmBX/HTTP-MobileAttribute-0.23-0/inc/Spiffy.pm line 225.
Redundant argument in sprintf at /tmp/loop_over_bdir-27440-k5BmBX/HTTP-MobileAttribute-0.23-0/inc/Spiffy.pm line 225.
t/Plugins/UserID-base.t ..................... ok
Possible precedence issue with control flow operator at /tmp/loop_over_bdir-27440-k5BmBX/HTTP-MobileAttribute-0.23-0/inc/Test/Builder.pm line 917.
Redundant argument in sprintf at /tmp/loop_over_bdir-27440-k5BmBX/HTTP-MobileAttribute-0.23-0/inc/Spiffy.pm line 225.
Redundant argument in sprintf at /tmp/loop_over_bdir-27440-k5BmBX/HTTP-MobileAttribute-0.23-0/inc/Spiffy.pm line 225.
Redundant argument in sprintf at /tmp/loop_over_bdir-27440-k5BmBX/HTTP-MobileAttribute-0.23-0/inc/Spiffy.pm line 225.
Redundant argument in sprintf at /tmp/loop_over_bdir-27440-k5BmBX/HTTP-MobileAttribute-0.23-0/inc/Spiffy.pm line 225.
t/Plugins/UserID-fallback-card.t ............ ok
Possible precedence issue with control flow operator at /tmp/loop_over_bdir-27440-k5BmBX/HTTP-MobileAttribute-0.23-0/inc/Test/Builder.pm line 917.
Redundant argument in sprintf at /tmp/loop_over_bdir-27440-k5BmBX/HTTP-MobileAttribute-0.23-0/inc/Spiffy.pm line 225.
Redundant argument in sprintf at /tmp/loop_over_bdir-27440-k5BmBX/HTTP-MobileAttribute-0.23-0/inc/Spiffy.pm line 225.
Redundant argument in sprintf at /tmp/loop_over_bdir-27440-k5BmBX/HTTP-MobileAttribute-0.23-0/inc/Spiffy.pm line 225.
Redundant argument in sprintf at /tmp/loop_over_bdir-27440-k5BmBX/HTTP-MobileAttribute-0.23-0/inc/Spiffy.pm line 225.
t/Plugins/UserID-fallback.t ................. ok
Possible precedence issue with control flow operator at /tmp/loop_over_bdir-27440-k5BmBX/HTTP-MobileAttribute-0.23-0/inc/Test/Builder.pm line 917.
Redundant argument in sprintf at /tmp/loop_over_bdir-27440-k5BmBX/HTTP-MobileAttribute-0.23-0/inc/Spiffy.pm line 225.
Redundant argument in sprintf at /tmp/loop_over_bdir-27440-k5BmBX/HTTP-MobileAttribute-0.23-0/inc/Spiffy.pm line 225.
Redundant argument in sprintf at /tmp/loop_over_bdir-27440-k5BmBX/HTTP-MobileAttribute-0.23-0/inc/Spiffy.pm line 225.
Redundant argument in sprintf at /tmp/loop_over_bdir-27440-k5BmBX/HTTP-MobileAttribute-0.23-0/inc/Spiffy.pm line 225.
t/Plugins/UserID-supports_user_id.t ......... ok
All tests successful.
Files=34, Tests=2904,  2 wallclock secs ( 0.18 usr  0.14 sys +  2.01 cusr  0.29 csys =  2.62 CPU)
Result: PASS

------------------------------
PREREQUISITES
------------------------------

Prerequisite modules loaded:

requires:

    Module              Need     Have    
    ------------------- -------- --------
    Class::Component    0.17     0.17    
    Filter::Util::Call  0        1.55    
    perl                5.008001 5.025001
    UNIVERSAL::require  0.13     0.18    

build_requires:

    Module              Need     Have    
    ------------------- -------- --------
    ExtUtils::MakeMaker 6.42     7.18    
    YAML                0        1.15    

configure_requires:

    Module              Need     Have    
    ------------------- -------- --------
    ExtUtils::MakeMaker 6.42     7.18    


------------------------------
ENVIRONMENT AND OTHER CONTEXT
------------------------------

Environment variables:

    AUTOMATED_TESTING = 1
    LANG = C
    PATH = /usr/lib/ccache:/home/sand/bin:/usr/local/bin:/usr/lib/ccache:/usr/bin:/bin:/usr/games:/usr/local/perl/bin:/usr/X11/bin:/sbin:/usr/sbin
    PERL5LIB = /tmp/loop_over_bdir-27440-k5BmBX/FusionInventory-Agent-2.3.17-0/blib/arch:/tmp/loop_over_bdir-27440-k5BmBX/FusionInventory-Agent-2.3.17-0/blib/lib
    PERL5OPT = 
    PERL5_CPANPLUS_IS_RUNNING = 23938
    PERL5_CPAN_IS_RUNNING = 23938
    PERL_CANARY_STABILITY_NOPROMPT = 1
    PERL_MM_USE_DEFAULT = 1
    SHELL = /usr/bin/zsh
    TERM = screen

Perl special variables (and OS-specific diagnostics, for MSWin32):

    $^X = /tmp/basesmoker-reloperl-UDpN/bin/perl
    $UID/$EUID = 1005 / 1005
    $GID = 1005 1005
    $EGID = 1005 1005

Perl module toolchain versions installed:

    Module              Have    
    ------------------- --------
    CPAN                2.13    
    CPAN::Meta          2.150005
    Cwd                 3.63    
    ExtUtils::CBuilder  0.280225
    ExtUtils::Command   7.18    
    ExtUtils::Install   2.04    
    ExtUtils::MakeMaker 7.18    
    ExtUtils::Manifest  1.70    
    ExtUtils::ParseXS   3.31    
    File::Spec          3.63    
    JSON                2.90    
    JSON::PP            2.27300 
    Module::Build       0.4218  
    Module::Signature   0.79    
    Parse::CPAN::Meta   1.4417  
    Test::Harness       3.36    
    Test::More          1.302019
    YAML                1.15    
    YAML::Syck          1.29    
    version             0.9916  


--

Summary of my perl5 (revision 5 version 25 subversion 1) configuration:
  Commit id: 5b145eb412326b9b57276229cfde0ef09e7ca2bc
  Platform:
    osname=linux, osvers=4.5.0-2-amd64, archname=x86_64-linux-thread-multi
    uname='linux k93x64sid 4.5.0-2-amd64 #1 smp debian 4.5.4-1 (2016-05-16) x86_64 gnulinux '
    config_args='-Dprefix=/home/sand/src/perl/repoperls/installed-perls/host/k93x64sid/v5.25.1/fae6 -Dmyhostname=k93x64sid -Dinstallusrbinperl=n -Uversiononly -Dusedevel -des -Ui_db -Dlibswanted=cl pthread socket inet nsl gdbm dbm malloc dl ld sun m crypt sec util c cposix posix ucb BSD gdbm_compat -Duseithreads -Uuselongdouble'
    hint=recommended, useposix=true, d_sigaction=define
    useithreads=define, usemultiplicity=define
    use64bitint=define, use64bitall=define, uselongdouble=undef
    usemymalloc=n, bincompat5005=undef
  Compiler:
    cc='cc', ccflags ='-D_REENTRANT -D_GNU_SOURCE -fwrapv -fno-strict-aliasing -pipe -fstack-protector-strong -I/usr/local/include -D_LARGEFILE_SOURCE -D_FILE_OFFSET_BITS=64 -D_FORTIFY_SOURCE=2',
    optimize='-O2',
    cppflags='-D_REENTRANT -D_GNU_SOURCE -fwrapv -fno-strict-aliasing -pipe -fstack-protector-strong -I/usr/local/include'
    ccversion='', gccversion='5.3.1 20160519', gccosandvers=''
    intsize=4, longsize=8, ptrsize=8, doublesize=8, byteorder=12345678, doublekind=3
    d_longlong=define, longlongsize=8, d_longdbl=define, longdblsize=16, longdblkind=3
    ivtype='long', ivsize=8, nvtype='double', nvsize=8, Off_t='off_t', lseeksize=8
    alignbytes=8, prototype=define
  Linker and Libraries:
    ld='cc', ldflags =' -fstack-protector-strong -L/usr/local/lib'
    libpth=/usr/local/lib /usr/lib/gcc/x86_64-linux-gnu/5/include-fixed /usr/include/x86_64-linux-gnu /usr/lib /lib/x86_64-linux-gnu /lib/../lib /usr/lib/x86_64-linux-gnu /usr/lib/../lib /lib
    libs=-lpthread -lnsl -ldl -lm -lcrypt -lutil -lc
    perllibs=-lpthread -lnsl -ldl -lm -lcrypt -lutil -lc
    libc=libc-2.22.so, so=so, useshrplib=false, libperl=libperl.a
    gnulibc_version='2.22'
  Dynamic Linking:
    dlsrc=dl_dlopen.xs, dlext=so, d_dlsymun=undef, ccdlflags='-Wl,-E'
    cccdlflags='-fPIC', lddlflags='-shared -O2 -L/usr/local/lib -fstack-protector-strong'


Characteristics of this binary (from libperl): 
  Compile-time options: HAS_TIMES MULTIPLICITY PERLIO_LAYERS
                        PERL_COPY_ON_WRITE PERL_DONT_CREATE_GVSV
                        PERL_HASH_FUNC_ONE_AT_A_TIME_HARD
                        PERL_IMPLICIT_CONTEXT PERL_MALLOC_WRAP PERL_OP_PARENT
                        PERL_PRESERVE_IVUV PERL_USE_DEVEL USE_64_BIT_ALL
                        USE_64_BIT_INT USE_ITHREADS USE_LARGE_FILES
                        USE_LOCALE USE_LOCALE_COLLATE USE_LOCALE_CTYPE
                        USE_LOCALE_NUMERIC USE_LOCALE_TIME USE_PERLIO
                        USE_PERL_ATOF USE_REENTRANT_API
  Built under linux
  Compiled at Jan  1 1970 00:00:00
  %ENV:
    PERL5LIB="/tmp/loop_over_bdir-27440-k5BmBX/FusionInventory-Agent-2.3.17-0/blib/arch:/tmp/loop_over_bdir-27440-k5BmBX/FusionInventory-Agent-2.3.17-0/blib/lib"
    PERL5OPT=""
    PERL5_CPANPLUS_IS_RUNNING="23938"
    PERL5_CPAN_IS_RUNNING="23938"
    PERL_CANARY_STABILITY_NOPROMPT="1"
    PERL_MM_USE_DEFAULT="1"
  @INC:
    /tmp/loop_over_bdir-27440-k5BmBX/FusionInventory-Agent-2.3.17-0/blib/arch
    /tmp/loop_over_bdir-27440-k5BmBX/FusionInventory-Agent-2.3.17-0/blib/lib
    /home/sand/src/perl/repoperls/installed-perls/host/k93x64sid/v5.25.1/fae6/lib/site_perl/5.25.1/x86_64-linux-thread-multi
    /home/sand/src/perl/repoperls/installed-perls/host/k93x64sid/v5.25.1/fae6/lib/site_perl/5.25.1
    /home/sand/src/perl/repoperls/installed-perls/host/k93x64sid/v5.25.1/fae6/lib/5.25.1/x86_64-linux-thread-multi
    /home/sand/src/perl/repoperls/installed-perls/host/k93x64sid/v5.25.1/fae6/lib/5.25.1
    .