YAML-Safe v0.82 Perl 5 v5.41.3 x86_64-linux
- Status
- Pass
- From
- Carlos Guevara
- Dist
-
YAML-Safe v0.82
- Platform
- Perl 5 v5.41.3 x86_64-linux
- Date
- 2024-08-20 11:50:24
- ID
- 62c58e96-5eea-11ef-88a2-c41f0a2fbdab
This distribution has been tested as part of the CPAN Testers
project, supporting the Perl programming language. See
http://wiki.cpantesters.org/ for more information or email
questions to cpan-testers-discuss@perl.org
--
Dear Reini Urban,
This is a computer-generated report for YAML-Safe-0.82
on perl 5.41.3, created by CPAN-Reporter-1.2020.
Thank you for uploading your work to CPAN. Congratulations!
All tests were successful.
Sections of this report:
* Tester comments
* Program output
* Prerequisites
* Environment and other context
------------------------------
TESTER COMMENTS
------------------------------
Additional comments from tester:
this report is from an automated smoke testing program
and was not reviewed by a human for accuracy
------------------------------
PROGRAM OUTPUT
------------------------------
Output from '/usr/bin/make test':
"/home/cpan/bin/perl/bin/perl5.41.3" -MExtUtils::Command::MM -e 'cp_nonempty' -- Safe.bs blib/arch/auto/YAML/Safe/Safe.bs 644
PERL_DL_NONLAZY=1 "/home/cpan/bin/perl/bin/perl5.41.3" "-MExtUtils::Command::MM" "-MTest::Harness" "-e" "undef *Test::Harness::Switches; test_harness(0, 'blib/lib', 'blib/arch')" t/*.t
t/alias.t ................. ok
t/api.t ................... ok
t/ascii.t ................. ok
t/binary.t ................ ok
t/blessed.t ............... ok
t/boolean-boolean.t ....... ok
t/boolean-cpaneljsonxs.t .. ok
t/boolean-invalid.t ....... ok
# Found Cpanel::JSON::XS 4.38
t/boolean-jsonmaybexs.t ... ok
t/boolean-jsonpp.t ........ ok
t/boolean-jsonxs.t ........ skipped: JSON::XS failed to load
t/boolean.t ............... ok
t/bug-pvf.t ............... ok
t/bug-stack.t ............. ok
t/code.t .................. ok
t/cpan.t .................. ok
t/dump-heuristics.t ....... ok
t/dump-int.t .............. ok
t/dump.t .................. ok
t/empty.t ................. ok
t/error.t ................. ok
t/file.t .................. ok
t/glob.t .................. ok
t/indent.t ................ ok
t/io-handle.t ............. ok
t/leak.t .................. ok
# libyaml version = 0.2.3
t/libyaml-version.t ....... ok
t/load-blessed.t .......... ok
t/load.t .................. ok
t/load_standard_tags.t .... ok
t/loadfile-empty.t ........ ok
t/long_plain_wrap.t ....... skipped: Failing test. Not yet implemented
t/magic.t ................. ok
t/native.t ................ ok
t/nonstrict.t ............. ok
t/null.t .................. ok
t/numbers.t ............... ok
t/options.t ............... ok
t/path-class.t ............ ok
t/pl_sv_undef.t ........... ok
t/private.t ............... ok
t/quote.t ................. ok
t/ref-scalar.t ............ ok
t/regexp.t ................ ok
t/safeclass.t ............. ok
t/string_nulls.t .......... ok
t/tags.t .................. ok
t/tied.t .................. ok
t/utf8.t .................. ok
All tests successful.
Files=49, Tests=459, 3 wallclock secs ( 0.11 usr 0.05 sys + 2.65 cusr 0.66 csys = 3.47 CPU)
Result: PASS
------------------------------
PREREQUISITES
------------------------------
Prerequisite modules loaded:
requires:
Module Need Have
------------------- ----- ----
boolean 0.3 0.46
constant 0.1 1.33
File::Path 0.1 2.18
JSON::PP 2.273 4.16
lib 0.1 0.65
Test::Base 0.8 0.89
build_requires:
Module Need Have
------------------- ----- ----
ExtUtils::MakeMaker 0 7.70
configure_requires:
Module Need Have
------------------- ----- ----
ExtUtils::MakeMaker 0 7.70
------------------------------
ENVIRONMENT AND OTHER CONTEXT
------------------------------
Environment variables:
AUTOMATED_TESTING = 1
DATE_MANIP_TEST_DM5 = 1
LANG = C.UTF-8
LC_COLLATE = C
NONINTERACTIVE_TESTING = 1
NO_NETWORK_TESTING = 1
PATH = /home/cpan/bin/perl/bin:/usr/local/sbin:/usr/local/bin:/usr/sbin:/usr/bin:/sbin:/bin
PERL5LIB =
PERL5OPT =
PERL5_CPANPLUS_IS_RUNNING = 17405
PERL5_CPAN_IS_RUNNING = 17405
PERL_MM_USE_DEFAULT = 1
PERL_USE_UNSAFE_INC = 1
SHELL = /bin/bash
TERM = screen
Perl special variables (and OS-specific diagnostics, for MSWin32):
$^X = /home/cpan/bin/perl/bin/perl5.41.3
$UID/$EUID = 1001 / 1001
$GID = 1001 1001
$EGID = 1001 1001
Perl module toolchain versions installed:
Module Have
------------------- --------
CPAN 2.36
CPAN::Meta 2.150010
Cwd 3.92
ExtUtils::CBuilder 0.280240
ExtUtils::Command 7.70
ExtUtils::Install 2.22
ExtUtils::MakeMaker 7.70
ExtUtils::Manifest 1.75
ExtUtils::ParseXS 3.53
File::Spec 3.92
JSON 4.10
JSON::PP 4.16
Module::Build 0.4234
Module::Signature n/a
Parse::CPAN::Meta 2.150010
Test2 1.302201
Test::Harness 3.50
Test::More 1.302201
YAML 1.31
YAML::Syck 1.34
version 0.9930
--
Summary of my perl5 (revision 5 version 41 subversion 3) configuration:
Commit id: d67896a03348d3896e30ec98828570b66bafb89a
Platform:
osname=linux
osvers=6.6.47-0-lts
archname=x86_64-linux
uname='linux cjg-alpine3 6.6.47-0-lts #1-alpine smp preempt_dynamic 2024-08-19 08:18:35 x86_64 linux '
config_args='-des -Dprefix=/home/cpan/bin/perl -Dscriptdir=/home/cpan/bin/perl/bin -Dusedevel -Duse64bitall'
hint=recommended
useposix=true
d_sigaction=define
useithreads=undef
usemultiplicity=undef
use64bitint=define
use64bitall=define
uselongdouble=undef
usemymalloc=n
default_inc_excludes_dot=define
Compiler:
cc='cc'
ccflags ='-D_GNU_SOURCE -fwrapv -fno-strict-aliasing -pipe -fstack-protector-strong -D_LARGEFILE_SOURCE -D_FILE_OFFSET_BITS=64'
optimize='-O2'
cppflags='-D_GNU_SOURCE -fwrapv -fno-strict-aliasing -pipe -fstack-protector-strong'
ccversion=''
gccversion='13.2.1 20240309'
gccosandvers=''
intsize=4
longsize=8
ptrsize=8
doublesize=8
byteorder=12345678
doublekind=3
d_longlong=define
longlongsize=8
d_longdbl=define
longdblsize=16
longdblkind=3
ivtype='long'
ivsize=8
nvtype='double'
nvsize=8
Off_t='off_t'
lseeksize=8
alignbytes=8
prototype=define
Linker and Libraries:
ld='cc'
ldflags =' -fstack-protector-strong -L/usr/local/lib'
libpth=/usr/lib /usr/local/lib /lib
libs=-lpthread -ldb -ldl -lm -lcrypt -lutil -lc
perllibs=-lpthread -ldl -lm -lcrypt -lutil -lc
libc=/usr/lib/libc.a
so=so
useshrplib=false
libperl=libperl.a
gnulibc_version=''
Dynamic Linking:
dlsrc=dl_dlopen.xs
dlext=so
d_dlsymun=undef
ccdlflags='-Wl,-E'
cccdlflags='-fPIC'
lddlflags='-shared -O2 -L/usr/local/lib -fstack-protector-strong'
Characteristics of this binary (from libperl):
Compile-time options:
HAS_LONG_DOUBLE
HAS_STRTOLD
HAS_TIMES
PERLIO_LAYERS
PERL_COPY_ON_WRITE
PERL_DONT_CREATE_GVSV
PERL_HASH_FUNC_SIPHASH13
PERL_HASH_USE_SBOX32
PERL_MALLOC_WRAP
PERL_OP_PARENT
PERL_PRESERVE_IVUV
PERL_USE_DEVEL
PERL_USE_SAFE_PUTENV
USE_64_BIT_ALL
USE_64_BIT_INT
USE_LARGE_FILES
USE_LOCALE
USE_LOCALE_COLLATE
USE_LOCALE_CTYPE
USE_LOCALE_NUMERIC
USE_LOCALE_TIME
USE_PERLIO
USE_PERL_ATOF
Built under linux
Compiled at Aug 19 2024 15:17:06
%ENV:
PERL5LIB=""
PERL5OPT=""
PERL5_CPANPLUS_IS_RUNNING="17405"
PERL5_CPAN_IS_RUNNING="17405"
PERL_MM_USE_DEFAULT="1"
PERL_USE_UNSAFE_INC="1"
@INC:
/home/cpan/bin/perl/lib/site_perl/5.41.3/x86_64-linux
/home/cpan/bin/perl/lib/site_perl/5.41.3
/home/cpan/bin/perl/lib/5.41.3/x86_64-linux
/home/cpan/bin/perl/lib/5.41.3
.