Report for Catalyst-View-Email-0.33

Back
From: metabase:user:320bfe00-2aae-11df-837a-5e0a49663a4f
Subject: PASS Catalyst-View-Email-0.33 v5.19.8 GNU/Linux
Date: 2014-01-11T21:57:38Z

This distribution has been tested as part of the CPAN Testers
project, supporting the Perl programming language.  See
http://wiki.cpantesters.org/ for more information or email
questions to cpan-testers-discuss@perl.org


--
Dear Devin Austin,

This is a computer-generated report for Catalyst-View-Email-0.33
on perl 5.19.8, created by CPAN-Reporter-1.2010.

Thank you for uploading your work to CPAN.  Congratulations!
All tests were successful.

Sections of this report:

    * Tester comments
    * Program output
    * Prerequisites
    * Environment and other context

------------------------------
TESTER COMMENTS
------------------------------

Additional comments from tester:

this report is from an automated smoke testing program
and was not reviewed by a human for accuracy

------------------------------
PROGRAM OUTPUT
------------------------------

Output from '/usr/bin/make test':

PERL_DL_NONLAZY=1 /tmp/basesmoker-reloperl-FXRY/bin/perl "-MExtUtils::Command::MM" "-MTest::Harness" "-e" "undef *Test::Harness::Switches; test_harness(0, 'inc', 'blib/lib', 'blib/arch')" t/01use.t t/02pod.t t/04basic.t t/05template.t t/06config.t t/07mason.t
t/01use.t ....... ok
t/02pod.t ....... skipped: set TEST_POD to enable this test
require TestApp::View::Mason was successful but the package is not defined. at /home/sand/src/perl/repoperls/installed-perls/perl/v5.19.7-255-gad94bb3/127e/lib/site_perl/5.19.8/Catalyst/Utils.pm line 314.
Class::MOP::load_class is deprecated at /home/sand/src/perl/repoperls/installed-perls/perl/v5.19.7-255-gad94bb3/127e/lib/site_perl/5.19.8/x86_64-linux-ld/Class/MOP.pm line 76.
	Class::MOP::load_class("Email::Sender::Transport::Test") called at /tmp/loop_over_bdir-2497-bG5gec/Catalyst-View-Email-0.33-gov4vk/blib/lib/Catalyst/View/Email.pm line 226
	Catalyst::View::Email::_build_mailer_obj(TestApp::View::Email=HASH(0x4c6a510)) called at accessor Catalyst::View::Email::_mailer_obj (defined at /tmp/loop_over_bdir-2497-bG5gec/Catalyst-View-Email-0.33-gov4vk/blib/lib/Catalyst/View/Email.pm line 21) line 11
	Catalyst::View::Email::_mailer_obj(TestApp::View::Email=HASH(0x4c6a510)) called at /tmp/loop_over_bdir-2497-bG5gec/Catalyst-View-Email-0.33-gov4vk/blib/lib/Catalyst/View/Email.pm line 299
	Catalyst::View::Email::process(TestApp::View::Email=HASH(0x4c6a510), TestApp=HASH(0x4cebe60)) called at /home/sand/src/perl/repoperls/installed-perls/perl/v5.19.7-255-gad94bb3/127e/lib/site_perl/5.19.8/Catalyst/Action.pm line 65
	Catalyst::Action::execute(Catalyst::Action=HASH(0x4d67bc0), TestApp::View::Email=HASH(0x4c6a510), TestApp=HASH(0x4cebe60)) called at /home/sand/src/perl/repoperls/installed-perls/perl/v5.19.7-255-gad94bb3/127e/lib/site_perl/5.19.8/Catalyst.pm line 1727
	eval {...} called at /home/sand/src/perl/repoperls/installed-perls/perl/v5.19.7-255-gad94bb3/127e/lib/site_perl/5.19.8/Catalyst.pm line 1727
	Catalyst::execute(TestApp=HASH(0x4cebe60), "TestApp::View::Email", Catalyst::Action=HASH(0x4d67bc0)) called at /home/sand/src/perl/repoperls/installed-perls/perl/v5.19.7-255-gad94bb3/127e/lib/site_perl/5.19.8/Catalyst/Action.pm line 60
	Catalyst::Action::dispatch(Catalyst::Action=HASH(0x4d67bc0), TestApp=HASH(0x4cebe60)) called at /home/sand/src/perl/repoperls/installed-perls/perl/v5.19.7-255-gad94bb3/127e/lib/site_perl/5.19.8/Catalyst/Dispatcher.pm line 258
	Catalyst::Dispatcher::_do_forward(Catalyst::Dispatcher=HASH(0x4529998), "forward", TestApp=HASH(0x4cebe60), "TestApp::View::Email") called at /home/sand/src/perl/repoperls/installed-perls/perl/v5.19.7-255-gad94bb3/127e/lib/site_perl/5.19.8/Catalyst/Dispatcher.pm line 238
	Catalyst::Dispatcher::forward(Catalyst::Dispatcher=HASH(0x4529998), TestApp=HASH(0x4cebe60), "TestApp::View::Email") called at /home/sand/src/perl/repoperls/installed-perls/perl/v5.19.7-255-gad94bb3/127e/lib/site_perl/5.19.8/Catalyst.pm line 391
	Catalyst::forward(TestApp=HASH(0x4cebe60), "TestApp::View::Email") called at /tmp/loop_over_bdir-2497-bG5gec/Catalyst-View-Email-0.33-gov4vk/t/lib/TestApp/Controller/Root.pm line 26
	TestApp::Controller::Root::email(TestApp::Controller::Root=HASH(0x4c6aa68), TestApp=HASH(0x4cebe60)) called at /home/sand/src/perl/repoperls/installed-perls/perl/v5.19.7-255-gad94bb3/127e/lib/site_perl/5.19.8/Catalyst/Action.pm line 65
	Catalyst::Action::execute(Catalyst::Action=HASH(0x4ca76f8), TestApp::Controller::Root=HASH(0x4c6aa68), TestApp=HASH(0x4cebe60)) called at /home/sand/src/perl/repoperls/installed-perls/perl/v5.19.7-255-gad94bb3/127e/lib/site_perl/5.19.8/Catalyst.pm line 1727
	eval {...} called at /home/sand/src/perl/repoperls/installed-perls/perl/v5.19.7-255-gad94bb3/127e/lib/site_perl/5.19.8/Catalyst.pm line 1727
	Catalyst::execute(TestApp=HASH(0x4cebe60), "TestApp::Controller::Root", Catalyst::Action=HASH(0x4ca76f8)) called at /home/sand/src/perl/repoperls/installed-perls/perl/v5.19.7-255-gad94bb3/127e/lib/site_perl/5.19.8/Catalyst/Action.pm line 60
	Catalyst::Action::dispatch(Catalyst::Action=HASH(0x4ca76f8), TestApp=HASH(0x4cebe60)) called at /home/sand/src/perl/repoperls/installed-perls/perl/v5.19.7-255-gad94bb3/127e/lib/site_perl/5.19.8/Catalyst/Controller.pm line 161
	Catalyst::Controller::_ACTION(TestApp::Controller::Root=HASH(0x4c6aa68), TestApp=HASH(0x4cebe60)) called at /home/sand/src/perl/repoperls/installed-perls/perl/v5.19.7-255-gad94bb3/127e/lib/site_perl/5.19.8/Catalyst/Action.pm line 65
	Catalyst::Action::execute(Catalyst::Action=HASH(0x4ca2970), TestApp::Controller::Root=HASH(0x4c6aa68), TestApp=HASH(0x4cebe60)) called at /home/sand/src/perl/repoperls/installed-perls/perl/v5.19.7-255-gad94bb3/127e/lib/site_perl/5.19.8/Catalyst.pm line 1727
	eval {...} called at /home/sand/src/perl/repoperls/installed-perls/perl/v5.19.7-255-gad94bb3/127e/lib/site_perl/5.19.8/Catalyst.pm line 1727
	Catalyst::execute(TestApp=HASH(0x4cebe60), "TestApp::Controller::Root", Catalyst::Action=HASH(0x4ca2970)) called at /home/sand/src/perl/repoperls/installed-perls/perl/v5.19.7-255-gad94bb3/127e/lib/site_perl/5.19.8/Catalyst/Action.pm line 60
	Catalyst::Action::dispatch(Catalyst::Action=HASH(0x4ca2970), TestApp=HASH(0x4cebe60)) called at /home/sand/src/perl/repoperls/installed-perls/perl/v5.19.7-255-gad94bb3/127e/lib/site_perl/5.19.8/Catalyst/Dispatcher.pm line 258
	Catalyst::Dispatcher::_do_forward(Catalyst::Dispatcher=HASH(0x4529998), "forward", TestApp=HASH(0x4cebe60), "_ACTION") called at /home/sand/src/perl/repoperls/installed-perls/perl/v5.19.7-255-gad94bb3/127e/lib/site_perl/5.19.8/Catalyst/Dispatcher.pm line 238
	Catalyst::Dispatcher::forward(Catalyst::Dispatcher=HASH(0x4529998), TestApp=HASH(0x4cebe60), "_ACTION") called at /home/sand/src/perl/repoperls/installed-perls/perl/v5.19.7-255-gad94bb3/127e/lib/site_perl/5.19.8/Catalyst.pm line 391
	Catalyst::forward(TestApp=HASH(0x4cebe60), "_ACTION") called at /home/sand/src/perl/repoperls/installed-perls/perl/v5.19.7-255-gad94bb3/127e/lib/site_perl/5.19.8/Catalyst/Controller.pm line 135
	Catalyst::Controller::_DISPATCH(TestApp::Controller::Root=HASH(0x4c6aa68), TestApp=HASH(0x4cebe60)) called at /home/sand/src/perl/repoperls/installed-perls/perl/v5.19.7-255-gad94bb3/127e/lib/site_perl/5.19.8/Catalyst/Action.pm line 65
	Catalyst::Action::execute(Catalyst::Action=HASH(0x4ca1de8), TestApp::Controller::Root=HASH(0x4c6aa68), TestApp=HASH(0x4cebe60)) called at /home/sand/src/perl/repoperls/installed-perls/perl/v5.19.7-255-gad94bb3/127e/lib/site_perl/5.19.8/Catalyst.pm line 1727
	eval {...} called at /home/sand/src/perl/repoperls/installed-perls/perl/v5.19.7-255-gad94bb3/127e/lib/site_perl/5.19.8/Catalyst.pm line 1727
	Catalyst::execute(TestApp=HASH(0x4cebe60), "TestApp::Controller::Root", Catalyst::Action=HASH(0x4ca1de8)) called at /home/sand/src/perl/repoperls/installed-perls/perl/v5.19.7-255-gad94bb3/127e/lib/site_perl/5.19.8/Catalyst/Action.pm line 60
	Catalyst::Action::dispatch(Catalyst::Action=HASH(0x4ca1de8), TestApp=HASH(0x4cebe60)) called at /home/sand/src/perl/repoperls/installed-perls/perl/v5.19.7-255-gad94bb3/127e/lib/site_perl/5.19.8/Catalyst/Dispatcher.pm line 258
	Catalyst::Dispatcher::_do_forward(Catalyst::Dispatcher=HASH(0x4529998), "forward", TestApp=HASH(0x4cebe60), "/root/_DISPATCH") called at /home/sand/src/perl/repoperls/installed-perls/perl/v5.19.7-255-gad94bb3/127e/lib/site_perl/5.19.8/Catalyst/Dispatcher.pm line 238
	Catalyst::Dispatcher::forward(Catalyst::Dispatcher=HASH(0x4529998), TestApp=HASH(0x4cebe60), "/root/_DISPATCH") called at /home/sand/src/perl/repoperls/installed-perls/perl/v5.19.7-255-gad94bb3/127e/lib/site_perl/5.19.8/Catalyst.pm line 391
	Catalyst::forward(TestApp=HASH(0x4cebe60), "/root/_DISPATCH") called at /home/sand/src/perl/repoperls/installed-perls/perl/v5.19.7-255-gad94bb3/127e/lib/site_perl/5.19.8/Catalyst/Dispatcher.pm line 107
	Catalyst::Dispatcher::dispatch(Catalyst::Dispatcher=HASH(0x4529998), TestApp=HASH(0x4cebe60)) called at /home/sand/src/perl/repoperls/installed-perls/perl/v5.19.7-255-gad94bb3/127e/lib/site_perl/5.19.8/Catalyst.pm line 1673
	Catalyst::dispatch(TestApp=HASH(0x4cebe60)) called at /home/sand/src/perl/repoperls/installed-perls/perl/v5.19.7-255-gad94bb3/127e/lib/site_perl/5.19.8/Catalyst.pm line 2032
	Catalyst::try {...} () called at /home/sand/src/perl/repoperls/installed-perls/perl/v5.19.7-255-gad94bb3/127e/lib/site_perl/5.19.8/Try/Tiny.pm line 83
	eval {...} called at /home/sand/src/perl/repoperls/installed-perls/perl/v5.19.7-255-gad94bb3/127e/lib/site_perl/5.19.8/Try/Tiny.pm line 74
	Try::Tiny::try(CODE(0x4ceb800), Try::Tiny::Catch=REF(0x490fdf8)) called at /home/sand/src/perl/repoperls/installed-perls/perl/v5.19.7-255-gad94bb3/127e/lib/site_perl/5.19.8/Catalyst.pm line 2038
	Catalyst::handle_request("TestApp", "env", HASH(0x4d0a990), "response_cb", CODE(0x4ceb710)) called at /home/sand/src/perl/repoperls/installed-perls/perl/v5.19.7-255-gad94bb3/127e/lib/site_perl/5.19.8/Catalyst/Engine.pm line 712
	Catalyst::Engine::__ANON__(CODE(0x4ceb710)) called at /home/sand/src/perl/repoperls/installed-perls/perl/v5.19.7-255-gad94bb3/127e/lib/site_perl/5.19.8/HTTP/Message/PSGI.pm line 100
	HTTP::Message::PSGI::res_from_psgi(CODE(0x4ceb608)) called at /home/sand/src/perl/repoperls/installed-perls/perl/v5.19.7-255-gad94bb3/127e/lib/site_perl/5.19.8/HTTP/Message/PSGI.pm line 155
	HTTP::Response::from_psgi("HTTP::Response", CODE(0x4ceb608)) called at /home/sand/src/perl/repoperls/installed-perls/perl/v5.19.7-255-gad94bb3/127e/lib/site_perl/5.19.8/Plack/Test/MockHTTP.pm line 24
	Plack::Test::MockHTTP::try {...} () called at /home/sand/src/perl/repoperls/installed-perls/perl/v5.19.7-255-gad94bb3/127e/lib/site_perl/5.19.8/Try/Tiny.pm line 81
	eval {...} called at /home/sand/src/perl/repoperls/installed-perls/perl/v5.19.7-255-gad94bb3/127e/lib/site_perl/5.19.8/Try/Tiny.pm line 74
	Try::Tiny::try(CODE(0x4b18890), Try::Tiny::Catch=REF(0x4c72728)) called at /home/sand/src/perl/repoperls/installed-perls/perl/v5.19.7-255-gad94bb3/127e/lib/site_perl/5.19.8/Plack/Test/MockHTTP.pm line 27
	Plack::Test::MockHTTP::request(Plack::Test::MockHTTP=HASH(0x4cbf838), HTTP::Request=HASH(0x4cb49c0)) called at /home/sand/src/perl/repoperls/installed-perls/perl/v5.19.7-255-gad94bb3/127e/lib/site_perl/5.19.8/Plack/Test.pm line 38
	Plack::Test::__ANON__(HTTP::Request=HASH(0x4cb49c0)) called at /home/sand/src/perl/repoperls/installed-perls/perl/v5.19.7-255-gad94bb3/127e/lib/site_perl/5.19.8/Catalyst/Test.pm line 281
	Catalyst::Test::__ANON__(CODE(0x4cbf6a0)) called at /home/sand/src/perl/repoperls/installed-perls/perl/v5.19.7-255-gad94bb3/127e/lib/site_perl/5.19.8/Plack/Test.pm line 38
	Plack::Test::test_psgi("mangle_response", CODE(0x3ace1c0), "app", CODE(0x4cae3f0), "app", CODE(0x4cb4ea0), "client", CODE(0x4cbf298)) called at /home/sand/src/perl/repoperls/installed-perls/perl/v5.19.7-255-gad94bb3/127e/lib/site_perl/5.19.8/Catalyst/Test.pm line 284
	Catalyst::Test::_request(HASH(0x1ba7250), "/email?time=1389477446") called at /home/sand/src/perl/repoperls/installed-perls/perl/v5.19.7-255-gad94bb3/127e/lib/site_perl/5.19.8/Catalyst/Test.pm line 327
	Catalyst::Test::_local_request("TestApp", "/email?time=1389477446") called at /home/sand/src/perl/repoperls/installed-perls/perl/v5.19.7-255-gad94bb3/127e/lib/site_perl/5.19.8/Catalyst/Test.pm line 32
	Catalyst::Test::__ANON__("/email?time=1389477446") called at t/04basic.t line 14
t/04basic.t ..... ok
require TestApp::View::Mason was successful but the package is not defined. at /home/sand/src/perl/repoperls/installed-perls/perl/v5.19.7-255-gad94bb3/127e/lib/site_perl/5.19.8/Catalyst/Utils.pm line 314.
Class::MOP::load_class is deprecated at /home/sand/src/perl/repoperls/installed-perls/perl/v5.19.7-255-gad94bb3/127e/lib/site_perl/5.19.8/x86_64-linux-ld/Class/MOP.pm line 76.
	Class::MOP::load_class("Email::Sender::Transport::Test") called at /tmp/loop_over_bdir-2497-bG5gec/Catalyst-View-Email-0.33-gov4vk/blib/lib/Catalyst/View/Email.pm line 226
	Catalyst::View::Email::_build_mailer_obj(TestApp::View::Email::Template=HASH(0x54a5f08)) called at accessor Catalyst::View::Email::_mailer_obj (defined at /tmp/loop_over_bdir-2497-bG5gec/Catalyst-View-Email-0.33-gov4vk/blib/lib/Catalyst/View/Email.pm line 21) line 11
	Catalyst::View::Email::_mailer_obj(TestApp::View::Email::Template=HASH(0x54a5f08)) called at /tmp/loop_over_bdir-2497-bG5gec/Catalyst-View-Email-0.33-gov4vk/blib/lib/Catalyst/View/Email.pm line 299
	Catalyst::View::Email::process(TestApp::View::Email::Template=HASH(0x54a5f08), TestApp=HASH(0x55a4088)) called at /tmp/loop_over_bdir-2497-bG5gec/Catalyst-View-Email-0.33-gov4vk/blib/lib/Catalyst/View/Email/Template.pm line 306
	Class::MOP::Class:::around(CODE(0x53265a8), TestApp::View::Email::Template=HASH(0x54a5f08), TestApp=HASH(0x55a4088)) called at /home/sand/src/perl/repoperls/installed-perls/perl/v5.19.7-255-gad94bb3/127e/lib/site_perl/5.19.8/x86_64-linux-ld/Class/MOP/Method/Wrapped.pm line 166
	Class::MOP::Method::Wrapped::__ANON__(TestApp::View::Email::Template=HASH(0x54a5f08), TestApp=HASH(0x55a4088)) called at /home/sand/src/perl/repoperls/installed-perls/perl/v5.19.7-255-gad94bb3/127e/lib/site_perl/5.19.8/x86_64-linux-ld/Class/MOP/Method/Wrapped.pm line 95
	Catalyst::View::Email::Template::process(TestApp::View::Email::Template=HASH(0x54a5f08), TestApp=HASH(0x55a4088)) called at /home/sand/src/perl/repoperls/installed-perls/perl/v5.19.7-255-gad94bb3/127e/lib/site_perl/5.19.8/Catalyst/Action.pm line 65
	Catalyst::Action::execute(Catalyst::Action=HASH(0x5623a08), TestApp::View::Email::Template=HASH(0x54a5f08), TestApp=HASH(0x55a4088)) called at /home/sand/src/perl/repoperls/installed-perls/perl/v5.19.7-255-gad94bb3/127e/lib/site_perl/5.19.8/Catalyst.pm line 1727
	eval {...} called at /home/sand/src/perl/repoperls/installed-perls/perl/v5.19.7-255-gad94bb3/127e/lib/site_perl/5.19.8/Catalyst.pm line 1727
	Catalyst::execute(TestApp=HASH(0x55a4088), "TestApp::View::Email::Template", Catalyst::Action=HASH(0x5623a08)) called at /home/sand/src/perl/repoperls/installed-perls/perl/v5.19.7-255-gad94bb3/127e/lib/site_perl/5.19.8/Catalyst/Action.pm line 60
	Catalyst::Action::dispatch(Catalyst::Action=HASH(0x5623a08), TestApp=HASH(0x55a4088)) called at /home/sand/src/perl/repoperls/installed-perls/perl/v5.19.7-255-gad94bb3/127e/lib/site_perl/5.19.8/Catalyst/Dispatcher.pm line 258
	Catalyst::Dispatcher::_do_forward(Catalyst::Dispatcher=HASH(0x4e15ba0), "forward", TestApp=HASH(0x55a4088), "TestApp::View::Email::Template") called at /home/sand/src/perl/repoperls/installed-perls/perl/v5.19.7-255-gad94bb3/127e/lib/site_perl/5.19.8/Catalyst/Dispatcher.pm line 238
	Catalyst::Dispatcher::forward(Catalyst::Dispatcher=HASH(0x4e15ba0), TestApp=HASH(0x55a4088), "TestApp::View::Email::Template") called at /home/sand/src/perl/repoperls/installed-perls/perl/v5.19.7-255-gad94bb3/127e/lib/site_perl/5.19.8/Catalyst.pm line 391
	Catalyst::forward(TestApp=HASH(0x55a4088), "TestApp::View::Email::Template") called at /tmp/loop_over_bdir-2497-bG5gec/Catalyst-View-Email-0.33-gov4vk/t/lib/TestApp/Controller/Root.pm line 81
	TestApp::Controller::Root::template_email(TestApp::Controller::Root=HASH(0x54a5098), TestApp=HASH(0x55a4088)) called at /home/sand/src/perl/repoperls/installed-perls/perl/v5.19.7-255-gad94bb3/127e/lib/site_perl/5.19.8/Catalyst/Action.pm line 65
	Catalyst::Action::execute(Catalyst::Action=HASH(0x556a9b0), TestApp::Controller::Root=HASH(0x54a5098), TestApp=HASH(0x55a4088)) called at /home/sand/src/perl/repoperls/installed-perls/perl/v5.19.7-255-gad94bb3/127e/lib/site_perl/5.19.8/Catalyst.pm line 1727
	eval {...} called at /home/sand/src/perl/repoperls/installed-perls/perl/v5.19.7-255-gad94bb3/127e/lib/site_perl/5.19.8/Catalyst.pm line 1727
	Catalyst::execute(TestApp=HASH(0x55a4088), "TestApp::Controller::Root", Catalyst::Action=HASH(0x556a9b0)) called at /home/sand/src/perl/repoperls/installed-perls/perl/v5.19.7-255-gad94bb3/127e/lib/site_perl/5.19.8/Catalyst/Action.pm line 60
	Catalyst::Action::dispatch(Catalyst::Action=HASH(0x556a9b0), TestApp=HASH(0x55a4088)) called at /home/sand/src/perl/repoperls/installed-perls/perl/v5.19.7-255-gad94bb3/127e/lib/site_perl/5.19.8/Catalyst/Controller.pm line 161
	Catalyst::Controller::_ACTION(TestApp::Controller::Root=HASH(0x54a5098), TestApp=HASH(0x55a4088)) called at /home/sand/src/perl/repoperls/installed-perls/perl/v5.19.7-255-gad94bb3/127e/lib/site_perl/5.19.8/Catalyst/Action.pm line 65
	Catalyst::Action::execute(Catalyst::Action=HASH(0x5564478), TestApp::Controller::Root=HASH(0x54a5098), TestApp=HASH(0x55a4088)) called at /home/sand/src/perl/repoperls/installed-perls/perl/v5.19.7-255-gad94bb3/127e/lib/site_perl/5.19.8/Catalyst.pm line 1727
	eval {...} called at /home/sand/src/perl/repoperls/installed-perls/perl/v5.19.7-255-gad94bb3/127e/lib/site_perl/5.19.8/Catalyst.pm line 1727
	Catalyst::execute(TestApp=HASH(0x55a4088), "TestApp::Controller::Root", Catalyst::Action=HASH(0x5564478)) called at /home/sand/src/perl/repoperls/installed-perls/perl/v5.19.7-255-gad94bb3/127e/lib/site_perl/5.19.8/Catalyst/Action.pm line 60
	Catalyst::Action::dispatch(Catalyst::Action=HASH(0x5564478), TestApp=HASH(0x55a4088)) called at /home/sand/src/perl/repoperls/installed-perls/perl/v5.19.7-255-gad94bb3/127e/lib/site_perl/5.19.8/Catalyst/Dispatcher.pm line 258
	Catalyst::Dispatcher::_do_forward(Catalyst::Dispatcher=HASH(0x4e15ba0), "forward", TestApp=HASH(0x55a4088), "_ACTION") called at /home/sand/src/perl/repoperls/installed-perls/perl/v5.19.7-255-gad94bb3/127e/lib/site_perl/5.19.8/Catalyst/Dispatcher.pm line 238
	Catalyst::Dispatcher::forward(Catalyst::Dispatcher=HASH(0x4e15ba0), TestApp=HASH(0x55a4088), "_ACTION") called at /home/sand/src/perl/repoperls/installed-perls/perl/v5.19.7-255-gad94bb3/127e/lib/site_perl/5.19.8/Catalyst.pm line 391
	Catalyst::forward(TestApp=HASH(0x55a4088), "_ACTION") called at /home/sand/src/perl/repoperls/installed-perls/perl/v5.19.7-255-gad94bb3/127e/lib/site_perl/5.19.8/Catalyst/Controller.pm line 135
	Catalyst::Controller::_DISPATCH(TestApp::Controller::Root=HASH(0x54a5098), TestApp=HASH(0x55a4088)) called at /home/sand/src/perl/repoperls/installed-perls/perl/v5.19.7-255-gad94bb3/127e/lib/site_perl/5.19.8/Catalyst/Action.pm line 65
	Catalyst::Action::execute(Catalyst::Action=HASH(0x5562310), TestApp::Controller::Root=HASH(0x54a5098), TestApp=HASH(0x55a4088)) called at /home/sand/src/perl/repoperls/installed-perls/perl/v5.19.7-255-gad94bb3/127e/lib/site_perl/5.19.8/Catalyst.pm line 1727
	eval {...} called at /home/sand/src/perl/repoperls/installed-perls/perl/v5.19.7-255-gad94bb3/127e/lib/site_perl/5.19.8/Catalyst.pm line 1727
	Catalyst::execute(TestApp=HASH(0x55a4088), "TestApp::Controller::Root", Catalyst::Action=HASH(0x5562310)) called at /home/sand/src/perl/repoperls/installed-perls/perl/v5.19.7-255-gad94bb3/127e/lib/site_perl/5.19.8/Catalyst/Action.pm line 60
	Catalyst::Action::dispatch(Catalyst::Action=HASH(0x5562310), TestApp=HASH(0x55a4088)) called at /home/sand/src/perl/repoperls/installed-perls/perl/v5.19.7-255-gad94bb3/127e/lib/site_perl/5.19.8/Catalyst/Dispatcher.pm line 258
	Catalyst::Dispatcher::_do_forward(Catalyst::Dispatcher=HASH(0x4e15ba0), "forward", TestApp=HASH(0x55a4088), "/root/_DISPATCH") called at /home/sand/src/perl/repoperls/installed-perls/perl/v5.19.7-255-gad94bb3/127e/lib/site_perl/5.19.8/Catalyst/Dispatcher.pm line 238
	Catalyst::Dispatcher::forward(Catalyst::Dispatcher=HASH(0x4e15ba0), TestApp=HASH(0x55a4088), "/root/_DISPATCH") called at /home/sand/src/perl/repoperls/installed-perls/perl/v5.19.7-255-gad94bb3/127e/lib/site_perl/5.19.8/Catalyst.pm line 391
	Catalyst::forward(TestApp=HASH(0x55a4088), "/root/_DISPATCH") called at /home/sand/src/perl/repoperls/installed-perls/perl/v5.19.7-255-gad94bb3/127e/lib/site_perl/5.19.8/Catalyst/Dispatcher.pm line 107
	Catalyst::Dispatcher::dispatch(Catalyst::Dispatcher=HASH(0x4e15ba0), TestApp=HASH(0x55a4088)) called at /home/sand/src/perl/repoperls/installed-perls/perl/v5.19.7-255-gad94bb3/127e/lib/site_perl/5.19.8/Catalyst.pm line 1673
	Catalyst::dispatch(TestApp=HASH(0x55a4088)) called at /home/sand/src/perl/repoperls/installed-perls/perl/v5.19.7-255-gad94bb3/127e/lib/site_perl/5.19.8/Catalyst.pm line 2032
	Catalyst::try {...} () called at /home/sand/src/perl/repoperls/installed-perls/perl/v5.19.7-255-gad94bb3/127e/lib/site_perl/5.19.8/Try/Tiny.pm line 83
	eval {...} called at /home/sand/src/perl/repoperls/installed-perls/perl/v5.19.7-255-gad94bb3/127e/lib/site_perl/5.19.8/Try/Tiny.pm line 74
	Try::Tiny::try(CODE(0x55a7160), Try::Tiny::Catch=REF(0x5564bf8)) called at /home/sand/src/perl/repoperls/installed-perls/perl/v5.19.7-255-gad94bb3/127e/lib/site_perl/5.19.8/Catalyst.pm line 2038
	Catalyst::handle_request("TestApp", "env", HASH(0x55af3c0), "response_cb", CODE(0x55a7070)) called at /home/sand/src/perl/repoperls/installed-perls/perl/v5.19.7-255-gad94bb3/127e/lib/site_perl/5.19.8/Catalyst/Engine.pm line 712
	Catalyst::Engine::__ANON__(CODE(0x55a7070)) called at /home/sand/src/perl/repoperls/installed-perls/perl/v5.19.7-255-gad94bb3/127e/lib/site_perl/5.19.8/HTTP/Message/PSGI.pm line 100
	HTTP::Message::PSGI::res_from_psgi(CODE(0x55a6f68)) called at /home/sand/src/perl/repoperls/installed-perls/perl/v5.19.7-255-gad94bb3/127e/lib/site_perl/5.19.8/HTTP/Message/PSGI.pm line 155
	HTTP::Response::from_psgi("HTTP::Response", CODE(0x55a6f68)) called at /home/sand/src/perl/repoperls/installed-perls/perl/v5.19.7-255-gad94bb3/127e/lib/site_perl/5.19.8/Plack/Test/MockHTTP.pm line 24
	Plack::Test::MockHTTP::try {...} () called at /home/sand/src/perl/repoperls/installed-perls/perl/v5.19.7-255-gad94bb3/127e/lib/site_perl/5.19.8/Try/Tiny.pm line 81
	eval {...} called at /home/sand/src/perl/repoperls/installed-perls/perl/v5.19.7-255-gad94bb3/127e/lib/site_perl/5.19.8/Try/Tiny.pm line 74
	Try::Tiny::try(CODE(0x55626e8), Try::Tiny::Catch=REF(0x552ec88)) called at /home/sand/src/perl/repoperls/installed-perls/perl/v5.19.7-255-gad94bb3/127e/lib/site_perl/5.19.8/Plack/Test/MockHTTP.pm line 27
	Plack::Test::MockHTTP::request(Plack::Test::MockHTTP=HASH(0x559bc38), HTTP::Request=HASH(0x556de38)) called at /home/sand/src/perl/repoperls/installed-perls/perl/v5.19.7-255-gad94bb3/127e/lib/site_perl/5.19.8/Plack/Test.pm line 38
	Plack::Test::__ANON__(HTTP::Request=HASH(0x556de38)) called at /home/sand/src/perl/repoperls/installed-perls/perl/v5.19.7-255-gad94bb3/127e/lib/site_perl/5.19.8/Catalyst/Test.pm line 281
	Catalyst::Test::__ANON__(CODE(0x559ba88)) called at /home/sand/src/perl/repoperls/installed-perls/perl/v5.19.7-255-gad94bb3/127e/lib/site_perl/5.19.8/Plack/Test.pm line 38
	Plack::Test::test_psgi("app", CODE(0x556d940), "mangle_response", CODE(0x4653660), "app", CODE(0x556e318), "client", CODE(0x559b698)) called at /home/sand/src/perl/repoperls/installed-perls/perl/v5.19.7-255-gad94bb3/127e/lib/site_perl/5.19.8/Catalyst/Test.pm line 284
	Catalyst::Test::_request(HASH(0x2447250), "/template_email?time=1389477447") called at /home/sand/src/perl/repoperls/installed-perls/perl/v5.19.7-255-gad94bb3/127e/lib/site_perl/5.19.8/Catalyst/Test.pm line 327
	Catalyst::Test::_local_request("TestApp", "/template_email?time=1389477447") called at /home/sand/src/perl/repoperls/installed-perls/perl/v5.19.7-255-gad94bb3/127e/lib/site_perl/5.19.8/Catalyst/Test.pm line 32
	Catalyst::Test::__ANON__("/template_email?time=1389477447") called at t/05template.t line 18
t/05template.t .. ok
require TestApp::View::Mason was successful but the package is not defined. at /home/sand/src/perl/repoperls/installed-perls/perl/v5.19.7-255-gad94bb3/127e/lib/site_perl/5.19.8/Catalyst/Utils.pm line 314.
Class::MOP::load_class is deprecated at /home/sand/src/perl/repoperls/installed-perls/perl/v5.19.7-255-gad94bb3/127e/lib/site_perl/5.19.8/x86_64-linux-ld/Class/MOP.pm line 76.
	Class::MOP::load_class("Email::Sender::Transport::Test") called at /tmp/loop_over_bdir-2497-bG5gec/Catalyst-View-Email-0.33-gov4vk/blib/lib/Catalyst/View/Email.pm line 226
	Catalyst::View::Email::_build_mailer_obj(TestApp::View::Email::AppConfig=HASH(0x380a0a8)) called at accessor Catalyst::View::Email::_mailer_obj (defined at /tmp/loop_over_bdir-2497-bG5gec/Catalyst-View-Email-0.33-gov4vk/blib/lib/Catalyst/View/Email.pm line 21) line 11
	Catalyst::View::Email::_mailer_obj(TestApp::View::Email::AppConfig=HASH(0x380a0a8)) called at /tmp/loop_over_bdir-2497-bG5gec/Catalyst-View-Email-0.33-gov4vk/blib/lib/Catalyst/View/Email.pm line 299
	Catalyst::View::Email::process(TestApp::View::Email::AppConfig=HASH(0x380a0a8), TestApp=HASH(0x3a17830)) called at /home/sand/src/perl/repoperls/installed-perls/perl/v5.19.7-255-gad94bb3/127e/lib/site_perl/5.19.8/Catalyst/Action.pm line 65
	Catalyst::Action::execute(Catalyst::Action=HASH(0x3a92de8), TestApp::View::Email::AppConfig=HASH(0x380a0a8), TestApp=HASH(0x3a17830)) called at /home/sand/src/perl/repoperls/installed-perls/perl/v5.19.7-255-gad94bb3/127e/lib/site_perl/5.19.8/Catalyst.pm line 1727
	eval {...} called at /home/sand/src/perl/repoperls/installed-perls/perl/v5.19.7-255-gad94bb3/127e/lib/site_perl/5.19.8/Catalyst.pm line 1727
	Catalyst::execute(TestApp=HASH(0x3a17830), "TestApp::View::Email::AppConfig", Catalyst::Action=HASH(0x3a92de8)) called at /home/sand/src/perl/repoperls/installed-perls/perl/v5.19.7-255-gad94bb3/127e/lib/site_perl/5.19.8/Catalyst/Action.pm line 60
	Catalyst::Action::dispatch(Catalyst::Action=HASH(0x3a92de8), TestApp=HASH(0x3a17830)) called at /home/sand/src/perl/repoperls/installed-perls/perl/v5.19.7-255-gad94bb3/127e/lib/site_perl/5.19.8/Catalyst/Dispatcher.pm line 258
	Catalyst::Dispatcher::_do_forward(Catalyst::Dispatcher=HASH(0x34202b8), "forward", TestApp=HASH(0x3a17830), "TestApp::View::Email::AppConfig") called at /home/sand/src/perl/repoperls/installed-perls/perl/v5.19.7-255-gad94bb3/127e/lib/site_perl/5.19.8/Catalyst/Dispatcher.pm line 238
	Catalyst::Dispatcher::forward(Catalyst::Dispatcher=HASH(0x34202b8), TestApp=HASH(0x3a17830), "TestApp::View::Email::AppConfig") called at /home/sand/src/perl/repoperls/installed-perls/perl/v5.19.7-255-gad94bb3/127e/lib/site_perl/5.19.8/Catalyst.pm line 391
	Catalyst::forward(TestApp=HASH(0x3a17830), "TestApp::View::Email::AppConfig") called at /tmp/loop_over_bdir-2497-bG5gec/Catalyst-View-Email-0.33-gov4vk/t/lib/TestApp/Controller/Root.pm line 48
	TestApp::Controller::Root::email_app_config(TestApp::Controller::Root=HASH(0x3996820), TestApp=HASH(0x3a17830)) called at /home/sand/src/perl/repoperls/installed-perls/perl/v5.19.7-255-gad94bb3/127e/lib/site_perl/5.19.8/Catalyst/Action.pm line 65
	Catalyst::Action::execute(Catalyst::Action=HASH(0x39d43e8), TestApp::Controller::Root=HASH(0x3996820), TestApp=HASH(0x3a17830)) called at /home/sand/src/perl/repoperls/installed-perls/perl/v5.19.7-255-gad94bb3/127e/lib/site_perl/5.19.8/Catalyst.pm line 1727
	eval {...} called at /home/sand/src/perl/repoperls/installed-perls/perl/v5.19.7-255-gad94bb3/127e/lib/site_perl/5.19.8/Catalyst.pm line 1727
	Catalyst::execute(TestApp=HASH(0x3a17830), "TestApp::Controller::Root", Catalyst::Action=HASH(0x39d43e8)) called at /home/sand/src/perl/repoperls/installed-perls/perl/v5.19.7-255-gad94bb3/127e/lib/site_perl/5.19.8/Catalyst/Action.pm line 60
	Catalyst::Action::dispatch(Catalyst::Action=HASH(0x39d43e8), TestApp=HASH(0x3a17830)) called at /home/sand/src/perl/repoperls/installed-perls/perl/v5.19.7-255-gad94bb3/127e/lib/site_perl/5.19.8/Catalyst/Controller.pm line 161
	Catalyst::Controller::_ACTION(TestApp::Controller::Root=HASH(0x3996820), TestApp=HASH(0x3a17830)) called at /home/sand/src/perl/repoperls/installed-perls/perl/v5.19.7-255-gad94bb3/127e/lib/site_perl/5.19.8/Catalyst/Action.pm line 65
	Catalyst::Action::execute(Catalyst::Action=HASH(0x39d3c80), TestApp::Controller::Root=HASH(0x3996820), TestApp=HASH(0x3a17830)) called at /home/sand/src/perl/repoperls/installed-perls/perl/v5.19.7-255-gad94bb3/127e/lib/site_perl/5.19.8/Catalyst.pm line 1727
	eval {...} called at /home/sand/src/perl/repoperls/installed-perls/perl/v5.19.7-255-gad94bb3/127e/lib/site_perl/5.19.8/Catalyst.pm line 1727
	Catalyst::execute(TestApp=HASH(0x3a17830), "TestApp::Controller::Root", Catalyst::Action=HASH(0x39d3c80)) called at /home/sand/src/perl/repoperls/installed-perls/perl/v5.19.7-255-gad94bb3/127e/lib/site_perl/5.19.8/Catalyst/Action.pm line 60
	Catalyst::Action::dispatch(Catalyst::Action=HASH(0x39d3c80), TestApp=HASH(0x3a17830)) called at /home/sand/src/perl/repoperls/installed-perls/perl/v5.19.7-255-gad94bb3/127e/lib/site_perl/5.19.8/Catalyst/Dispatcher.pm line 258
	Catalyst::Dispatcher::_do_forward(Catalyst::Dispatcher=HASH(0x34202b8), "forward", TestApp=HASH(0x3a17830), "_ACTION") called at /home/sand/src/perl/repoperls/installed-perls/perl/v5.19.7-255-gad94bb3/127e/lib/site_perl/5.19.8/Catalyst/Dispatcher.pm line 238
	Catalyst::Dispatcher::forward(Catalyst::Dispatcher=HASH(0x34202b8), TestApp=HASH(0x3a17830), "_ACTION") called at /home/sand/src/perl/repoperls/installed-perls/perl/v5.19.7-255-gad94bb3/127e/lib/site_perl/5.19.8/Catalyst.pm line 391
	Catalyst::forward(TestApp=HASH(0x3a17830), "_ACTION") called at /home/sand/src/perl/repoperls/installed-perls/perl/v5.19.7-255-gad94bb3/127e/lib/site_perl/5.19.8/Catalyst/Controller.pm line 135
	Catalyst::Controller::_DISPATCH(TestApp::Controller::Root=HASH(0x3996820), TestApp=HASH(0x3a17830)) called at /home/sand/src/perl/repoperls/installed-perls/perl/v5.19.7-255-gad94bb3/127e/lib/site_perl/5.19.8/Catalyst/Action.pm line 65
	Catalyst::Action::execute(Catalyst::Action=HASH(0x39cf628), TestApp::Controller::Root=HASH(0x3996820), TestApp=HASH(0x3a17830)) called at /home/sand/src/perl/repoperls/installed-perls/perl/v5.19.7-255-gad94bb3/127e/lib/site_perl/5.19.8/Catalyst.pm line 1727
	eval {...} called at /home/sand/src/perl/repoperls/installed-perls/perl/v5.19.7-255-gad94bb3/127e/lib/site_perl/5.19.8/Catalyst.pm line 1727
	Catalyst::execute(TestApp=HASH(0x3a17830), "TestApp::Controller::Root", Catalyst::Action=HASH(0x39cf628)) called at /home/sand/src/perl/repoperls/installed-perls/perl/v5.19.7-255-gad94bb3/127e/lib/site_perl/5.19.8/Catalyst/Action.pm line 60
	Catalyst::Action::dispatch(Catalyst::Action=HASH(0x39cf628), TestApp=HASH(0x3a17830)) called at /home/sand/src/perl/repoperls/installed-perls/perl/v5.19.7-255-gad94bb3/127e/lib/site_perl/5.19.8/Catalyst/Dispatcher.pm line 258
	Catalyst::Dispatcher::_do_forward(Catalyst::Dispatcher=HASH(0x34202b8), "forward", TestApp=HASH(0x3a17830), "/root/_DISPATCH") called at /home/sand/src/perl/repoperls/installed-perls/perl/v5.19.7-255-gad94bb3/127e/lib/site_perl/5.19.8/Catalyst/Dispatcher.pm line 238
	Catalyst::Dispatcher::forward(Catalyst::Dispatcher=HASH(0x34202b8), TestApp=HASH(0x3a17830), "/root/_DISPATCH") called at /home/sand/src/perl/repoperls/installed-perls/perl/v5.19.7-255-gad94bb3/127e/lib/site_perl/5.19.8/Catalyst.pm line 391
	Catalyst::forward(TestApp=HASH(0x3a17830), "/root/_DISPATCH") called at /home/sand/src/perl/repoperls/installed-perls/perl/v5.19.7-255-gad94bb3/127e/lib/site_perl/5.19.8/Catalyst/Dispatcher.pm line 107
	Catalyst::Dispatcher::dispatch(Catalyst::Dispatcher=HASH(0x34202b8), TestApp=HASH(0x3a17830)) called at /home/sand/src/perl/repoperls/installed-perls/perl/v5.19.7-255-gad94bb3/127e/lib/site_perl/5.19.8/Catalyst.pm line 1673
	Catalyst::dispatch(TestApp=HASH(0x3a17830)) called at /home/sand/src/perl/repoperls/installed-perls/perl/v5.19.7-255-gad94bb3/127e/lib/site_perl/5.19.8/Catalyst.pm line 2032
	Catalyst::try {...} () called at /home/sand/src/perl/repoperls/installed-perls/perl/v5.19.7-255-gad94bb3/127e/lib/site_perl/5.19.8/Try/Tiny.pm line 83
	eval {...} called at /home/sand/src/perl/repoperls/installed-perls/perl/v5.19.7-255-gad94bb3/127e/lib/site_perl/5.19.8/Try/Tiny.pm line 74
	Try::Tiny::try(CODE(0x3a171d0), Try::Tiny::Catch=REF(0x3838dc8)) called at /home/sand/src/perl/repoperls/installed-perls/perl/v5.19.7-255-gad94bb3/127e/lib/site_perl/5.19.8/Catalyst.pm line 2038
	Catalyst::handle_request("TestApp", "env", HASH(0x36e99a0), "response_cb", CODE(0x3a170e0)) called at /home/sand/src/perl/repoperls/installed-perls/perl/v5.19.7-255-gad94bb3/127e/lib/site_perl/5.19.8/Catalyst/Engine.pm line 712
	Catalyst::Engine::__ANON__(CODE(0x3a170e0)) called at /home/sand/src/perl/repoperls/installed-perls/perl/v5.19.7-255-gad94bb3/127e/lib/site_perl/5.19.8/HTTP/Message/PSGI.pm line 100
	HTTP::Message::PSGI::res_from_psgi(CODE(0x3a16fd8)) called at /home/sand/src/perl/repoperls/installed-perls/perl/v5.19.7-255-gad94bb3/127e/lib/site_perl/5.19.8/HTTP/Message/PSGI.pm line 155
	HTTP::Response::from_psgi("HTTP::Response", CODE(0x3a16fd8)) called at /home/sand/src/perl/repoperls/installed-perls/perl/v5.19.7-255-gad94bb3/127e/lib/site_perl/5.19.8/Plack/Test/MockHTTP.pm line 24
	Plack::Test::MockHTTP::try {...} () called at /home/sand/src/perl/repoperls/installed-perls/perl/v5.19.7-255-gad94bb3/127e/lib/site_perl/5.19.8/Try/Tiny.pm line 81
	eval {...} called at /home/sand/src/perl/repoperls/installed-perls/perl/v5.19.7-255-gad94bb3/127e/lib/site_perl/5.19.8/Try/Tiny.pm line 74
	Try::Tiny::try(CODE(0x3848b18), Try::Tiny::Catch=REF(0x399e078)) called at /home/sand/src/perl/repoperls/installed-perls/perl/v5.19.7-255-gad94bb3/127e/lib/site_perl/5.19.8/Plack/Test/MockHTTP.pm line 27
	Plack::Test::MockHTTP::request(Plack::Test::MockHTTP=HASH(0x3a0c3c8), HTTP::Request=HASH(0x8c02b8)) called at /home/sand/src/perl/repoperls/installed-perls/perl/v5.19.7-255-gad94bb3/127e/lib/site_perl/5.19.8/Plack/Test.pm line 38
	Plack::Test::__ANON__(HTTP::Request=HASH(0x8c02b8)) called at /home/sand/src/perl/repoperls/installed-perls/perl/v5.19.7-255-gad94bb3/127e/lib/site_perl/5.19.8/Catalyst/Test.pm line 281
	Catalyst::Test::__ANON__(CODE(0x3a0c230)) called at /home/sand/src/perl/repoperls/installed-perls/perl/v5.19.7-255-gad94bb3/127e/lib/site_perl/5.19.8/Plack/Test.pm line 38
	Plack::Test::test_psgi("mangle_response", CODE(0x2ac4798), "app", CODE(0x39dbec8), "app", CODE(0x8c0798), "client", CODE(0x3a0be28)) called at /home/sand/src/perl/repoperls/installed-perls/perl/v5.19.7-255-gad94bb3/127e/lib/site_perl/5.19.8/Catalyst/Test.pm line 284
	Catalyst::Test::_request(HASH(0x8b7250), "/email_app_config?time=1389477448") called at /home/sand/src/perl/repoperls/installed-perls/perl/v5.19.7-255-gad94bb3/127e/lib/site_perl/5.19.8/Catalyst/Test.pm line 327
	Catalyst::Test::_local_request("TestApp", "/email_app_config?time=1389477448") called at /home/sand/src/perl/repoperls/installed-perls/perl/v5.19.7-255-gad94bb3/127e/lib/site_perl/5.19.8/Catalyst/Test.pm line 32
	Catalyst::Test::__ANON__("/email_app_config?time=1389477448") called at t/06config.t line 21
t/06config.t .... ok
t/07mason.t ..... skipped: Test requires module 'Catalyst::View::Mason' but it's not found
All tests successful.
Files=6, Tests=34,  4 wallclock secs ( 0.04 usr  0.00 sys +  2.93 cusr  0.22 csys =  3.19 CPU)
Result: PASS

------------------------------
PREREQUISITES
------------------------------

Prerequisite modules loaded:

requires:

    Module                Need     Have    
    --------------------- -------- --------
    Authen::SASL          2.13     2.16    
    Catalyst              5.7      5.90053 
    Email::MIME           1.859    1.925   
    Email::MIME::Creator  1.455    1.925   
    Email::Sender::Simple 0.100110 1.300006
    MIME::Base64          3.08     3.14    
    Moose                 0.93     2.1200  
    parent                0.223    0.228   
    Test::More            0.88     1.001002
    Test::Requires        0        0.07    

build_requires:

    Module                Need     Have    
    --------------------- -------- --------
    ExtUtils::MakeMaker   6.36     6.86    
    Test::More            0        1.001002
    Test::Requires        0        0.07    

configure_requires:

    Module                Need     Have    
    --------------------- -------- --------
    ExtUtils::MakeMaker   6.36     6.86    


------------------------------
ENVIRONMENT AND OTHER CONTEXT
------------------------------

Environment variables:

    AUTOMATED_TESTING = 1
    LANG = en_US.UTF-8
    LANGUAGE = en_US:en
    PATH = /usr/lib/ccache:/home/sand/bin:/usr/local/bin:/usr/bin:/bin:/usr/bin/X11:/usr/games:/usr/local/perl/bin:/usr/X11/bin:/sbin:/usr/sbin
    PERL = /tmp/basesmoker-reloperl-FXRY/bin/perl
    PERL5LIB = 
    PERL5OPT = 
    PERL5_CPANPLUS_IS_RUNNING = 28823
    PERL5_CPAN_IS_RUNNING = 28823
    PERL_MM_USE_DEFAULT = 1
    SHELL = /usr/bin/zsh
    TERM = screen

Perl special variables (and OS-specific diagnostics, for MSWin32):

    $^X = /tmp/basesmoker-reloperl-FXRY/bin/perl
    $UID/$EUID = 1005 / 1005
    $GID = 1005 1005
    $EGID = 1005 1005

Perl module toolchain versions installed:

    Module              Have    
    ------------------- --------
    CPAN                2.00    
    CPAN::Meta          2.133380
    Cwd                 3.45    
    ExtUtils::CBuilder  0.280213
    ExtUtils::Command   1.18    
    ExtUtils::Install   1.61    
    ExtUtils::MakeMaker 6.86    
    ExtUtils::Manifest  1.63    
    ExtUtils::ParseXS   3.23    
    File::Spec          3.45    
    JSON                2.90    
    JSON::PP            2.27203 
    Module::Build       0.4203  
    Module::Signature   0.73    
    Parse::CPAN::Meta   1.4409  
    Test::Harness       3.30    
    Test::More          1.001002
    YAML                0.88    
    YAML::Syck          1.27    
    version             0.9906  


--

Summary of my perl5 (revision 5 version 19 subversion 8) configuration:
  Commit id: ad94bb394e2544f935ffc8cb9aa70295ca2045dd
  Platform:
    osname=linux, osvers=3.10-3-amd64, archname=x86_64-linux-ld
    uname='linux k83 3.10-3-amd64 #1 smp debian 3.10.11-1 (2013-09-10) x86_64 gnulinux '
    config_args='-Dprefix=/home/sand/src/perl/repoperls/installed-perls/perl/v5.19.7-255-gad94bb3/127e -Dmyhostname=k83 -Dinstallusrbinperl=n -Uversiononly -Dusedevel -des -Ui_db -Uuseithreads -Duselongdouble -DDEBUGGING=-g'
    hint=recommended, useposix=true, d_sigaction=define
    useithreads=undef, usemultiplicity=undef
    use64bitint=define, use64bitall=define, uselongdouble=define
    usemymalloc=n, bincompat5005=undef
  Compiler:
    cc='cc', ccflags ='-fno-strict-aliasing -pipe -fstack-protector -I/usr/local/include -D_LARGEFILE_SOURCE -D_FILE_OFFSET_BITS=64',
    optimize='-O2 -g',
    cppflags='-fno-strict-aliasing -pipe -fstack-protector -I/usr/local/include'
    ccversion='', gccversion='4.8.2', gccosandvers=''
    intsize=4, longsize=8, ptrsize=8, doublesize=8, byteorder=12345678
    d_longlong=define, longlongsize=8, d_longdbl=define, longdblsize=16
    ivtype='long', ivsize=8, nvtype='long double', nvsize=16, Off_t='off_t', lseeksize=8
    alignbytes=16, prototype=define
  Linker and Libraries:
    ld='cc', ldflags =' -fstack-protector -L/usr/local/lib'
    libpth=/usr/local/lib /lib/x86_64-linux-gnu /lib/../lib /usr/lib/x86_64-linux-gnu /usr/lib/../lib /lib /usr/lib
    libs=-lnsl -lgdbm -ldb -ldl -lm -lcrypt -lutil -lc -lgdbm_compat
    perllibs=-lnsl -ldl -lm -lcrypt -lutil -lc
    libc=, so=so, useshrplib=false, libperl=libperl.a
    gnulibc_version='2.17'
  Dynamic Linking:
    dlsrc=dl_dlopen.xs, dlext=so, d_dlsymun=undef, ccdlflags='-Wl,-E'
    cccdlflags='-fPIC', lddlflags='-shared -O2 -g -L/usr/local/lib -fstack-protector'


Characteristics of this binary (from libperl): 
  Compile-time options: HAS_TIMES PERLIO_LAYERS PERL_DONT_CREATE_GVSV
                        PERL_HASH_FUNC_ONE_AT_A_TIME_HARD PERL_MALLOC_WRAP
                        PERL_NEW_COPY_ON_WRITE PERL_PRESERVE_IVUV
                        PERL_USE_DEVEL USE_64_BIT_ALL USE_64_BIT_INT
                        USE_LARGE_FILES USE_LOCALE USE_LOCALE_COLLATE
                        USE_LOCALE_CTYPE USE_LOCALE_NUMERIC USE_LONG_DOUBLE
                        USE_PERLIO USE_PERL_ATOF
  Built under linux
  Compiled at Jan 11 2014 06:54:26
  %ENV:
    PERL="/tmp/basesmoker-reloperl-FXRY/bin/perl"
    PERL5LIB=""
    PERL5OPT=""
    PERL5_CPANPLUS_IS_RUNNING="28823"
    PERL5_CPAN_IS_RUNNING="28823"
    PERL_MM_USE_DEFAULT="1"
  @INC:
    /home/sand/src/perl/repoperls/installed-perls/perl/v5.19.7-255-gad94bb3/127e/lib/site_perl/5.19.8/x86_64-linux-ld
    /home/sand/src/perl/repoperls/installed-perls/perl/v5.19.7-255-gad94bb3/127e/lib/site_perl/5.19.8
    /home/sand/src/perl/repoperls/installed-perls/perl/v5.19.7-255-gad94bb3/127e/lib/5.19.8/x86_64-linux-ld
    /home/sand/src/perl/repoperls/installed-perls/perl/v5.19.7-255-gad94bb3/127e/lib/5.19.8
    .