WebService-Simple v0.25 Perl 5 v5.24.1 x86_64-linux-thread-multi-ld
- Status
- Pass
- From
- Andreas J. König (ANDK)
- Dist
-
WebService-Simple v0.25
- Platform
- Perl 5 v5.24.1 x86_64-linux-thread-multi-ld
- Date
- 2017-11-10 09:56:13
- ID
- 62dba650-c5fd-11e7-a638-91e05c8c738e
This distribution has been tested as part of the CPAN Testers
project, supporting the Perl programming language. See
http://wiki.cpantesters.org/ for more information or email
questions to cpan-testers-discuss@perl.org
--
Dear Yusuke Wada,
This is a computer-generated report for WebService-Simple-0.25
on perl 5.24.1, created by CPAN-Reporter-1.2018.
Thank you for uploading your work to CPAN. Congratulations!
All tests were successful.
Sections of this report:
* Tester comments
* Program output
* Prerequisites
* Environment and other context
------------------------------
TESTER COMMENTS
------------------------------
Additional comments from tester:
this report is from an automated smoke testing program
and was not reviewed by a human for accuracy
------------------------------
PROGRAM OUTPUT
------------------------------
Output from './Build test':
# Testing WebService::Simple 0.25
t/00_load.t ............... ok
t/01_api_get.t ............ ok
t/01_api_post.t ........... ok
t/01_basic.t .............. skipped: Please set FLICKR_API_KEY to enable this test
t/01_escape.t ............. ok
t/02_parser.t ............. ok
t/02_parser_json.t ........ ok
t/02_parser_libxml.t ...... ok
t/02_parser_lite.t ........ skipped: XML::Parser::Lite::Tree not installed
t/02_parser_xml_feed.t .... skipped: XML::Feed not installed
t/02_parser_xml_simple.t .. ok
All tests successful.
Files=11, Tests=27, 4 wallclock secs ( 0.06 usr 0.09 sys + 1.28 cusr 0.36 csys = 1.79 CPU)
Result: PASS
------------------------------
PREREQUISITES
------------------------------
Prerequisite modules loaded:
requires:
Module Need Have
----------------------- ----- --------
Class::Accessor::Fast 0 0.34
Class::Data::ConfigHash 0 0.00002
Class::Inspector 0 1.32
Data::Dumper 0 2.161
Digest::MD5 0 2.54
Hash::MultiValue 0 0.16
HTTP::Message 0 6.13
JSON 2.0 2.94
LWP::Protocol::https 0 6.07
LWP::UserAgent 0 6.27
UNIVERSAL::require 0 0.18
URI 1.36 1.72
XML::Simple 0 2.24
build_requires:
Module Need Have
----------------------- ----- --------
ExtUtils::MakeMaker 6.36 7.31_04
Test::More 0.94 1.302106
configure_requires:
Module Need Have
----------------------- ----- --------
Module::Build::Tiny 0.035 0.039
------------------------------
ENVIRONMENT AND OTHER CONTEXT
------------------------------
Environment variables:
AUTOMATED_TESTING = 1
LANG = en_US.UTF-8
PATH = /home/sand/bin:/usr/local/bin:/usr/bin:/bin:/usr/games:/usr/local/perl/bin:/usr/X11/bin:/sbin:/usr/sbin
PERL5LIB = /tmp/loop_over_bdir-4096-EV08gH/Class-Data-ConfigHash-0.00002-0/blib/arch:/tmp/loop_over_bdir-4096-EV08gH/Class-Data-ConfigHash-0.00002-0/blib/lib:/tmp/loop_over_bdir-4096-EV08gH/AWS-Signature4-1.02-0/blib/arch:/tmp/loop_over_bdir-4096-EV08gH/AWS-Signature4-1.02-0/blib/lib
PERL5OPT =
PERL5_CPANPLUS_IS_RUNNING = 4112
PERL5_CPAN_IS_RUNNING = 4112
PERL5_CPAN_IS_RUNNING_IN_RECURSION = 5905,4112
PERL_CANARY_STABILITY_NOPROMPT = 1
PERL_MM_USE_DEFAULT = 1
PERL_USE_UNSAFE_INC = 1
SHELL = /usr/bin/zsh
TERM = screen
Perl special variables (and OS-specific diagnostics, for MSWin32):
$^X = /home/sand/src/perl/repoperls/installed-perls/host/k93msid/v5.24.1/5ea4/bin/perl
$UID/$EUID = 1005 / 1005
$GID = 1005 1005
$EGID = 1005 1005
Perl module toolchain versions installed:
Module Have
------------------- --------
CPAN 2.18
CPAN::Meta 2.150010
Cwd 3.63_01
ExtUtils::CBuilder 0.280226
ExtUtils::Command 7.31_04
ExtUtils::Install 2.06
ExtUtils::MakeMaker 7.31_04
ExtUtils::Manifest 1.70
ExtUtils::ParseXS 3.31
File::Spec 3.63_01
JSON 2.94
JSON::PP 2.94
Module::Build 0.4224
Module::Signature 0.81
Parse::CPAN::Meta 2.150010
Test::Harness 3.39
Test::More 1.302106
YAML 1.24
YAML::Syck 1.30
version 0.9916
--
Summary of my perl5 (revision 5 version 24 subversion 1) configuration:
Derived from: 443bd156a6baaf7a8fe6b6b05fcf6c4178140ed2
Platform:
osname=linux, osvers=4.12.0-2-amd64, archname=x86_64-linux-thread-multi-ld
uname='linux k93msid 4.12.0-2-amd64 #1 smp debian 4.12.13-1 (2017-09-19) x86_64 gnulinux '
config_args='-Dprefix=/home/sand/src/perl/repoperls/installed-perls/host/k93msid/v5.24.1/5ea4 -Dmyhostname=k93msid -Dinstallusrbinperl=n -Uversiononly -Dusedevel -des -Ui_db -Dlibswanted=cl pthread socket inet nsl gdbm dbm malloc dl ld sun m crypt sec util c cposix posix ucb BSD gdbm_compat -Duseithreads -Duselongdouble -DDEBUGGING=-g'
hint=recommended, useposix=true, d_sigaction=define
useithreads=define, usemultiplicity=define
use64bitint=define, use64bitall=define, uselongdouble=define
usemymalloc=n, bincompat5005=undef
Compiler:
cc='cc', ccflags ='-D_REENTRANT -D_GNU_SOURCE -fwrapv -fno-strict-aliasing -pipe -fstack-protector-strong -I/usr/local/include -D_LARGEFILE_SOURCE -D_FILE_OFFSET_BITS=64',
optimize='-O2 -g',
cppflags='-D_REENTRANT -D_GNU_SOURCE -fwrapv -fno-strict-aliasing -pipe -fstack-protector-strong -I/usr/local/include'
ccversion='', gccversion='7.2.0', gccosandvers=''
intsize=4, longsize=8, ptrsize=8, doublesize=8, byteorder=12345678, doublekind=3
d_longlong=define, longlongsize=8, d_longdbl=define, longdblsize=16, longdblkind=3
ivtype='long', ivsize=8, nvtype='long double', nvsize=16, Off_t='off_t', lseeksize=8
alignbytes=16, prototype=define
Linker and Libraries:
ld='cc', ldflags =' -fstack-protector-strong -L/usr/local/lib'
libpth=/usr/local/lib /usr/lib/gcc/x86_64-linux-gnu/7/include-fixed /usr/include/x86_64-linux-gnu /usr/lib /lib/x86_64-linux-gnu /lib/../lib /usr/lib/x86_64-linux-gnu /usr/lib/../lib /lib
libs=-lpthread -lnsl -ldl -lm -lcrypt -lutil -lc
perllibs=-lpthread -lnsl -ldl -lm -lcrypt -lutil -lc
libc=libc-2.24.so, so=so, useshrplib=false, libperl=libperl.a
gnulibc_version='2.24'
Dynamic Linking:
dlsrc=dl_dlopen.xs, dlext=so, d_dlsymun=undef, ccdlflags='-Wl,-E'
cccdlflags='-fPIC', lddlflags='-shared -O2 -g -L/usr/local/lib -fstack-protector-strong'
Characteristics of this binary (from libperl):
Compile-time options: HAS_TIMES MULTIPLICITY PERLIO_LAYERS
PERL_COPY_ON_WRITE PERL_DONT_CREATE_GVSV
PERL_HASH_FUNC_ONE_AT_A_TIME_HARD
PERL_IMPLICIT_CONTEXT PERL_MALLOC_WRAP
PERL_PRESERVE_IVUV PERL_USE_DEVEL USE_64_BIT_ALL
USE_64_BIT_INT USE_ITHREADS USE_LARGE_FILES
USE_LOCALE USE_LOCALE_COLLATE USE_LOCALE_CTYPE
USE_LOCALE_NUMERIC USE_LOCALE_TIME USE_LONG_DOUBLE
USE_PERLIO USE_PERL_ATOF USE_REENTRANT_API
Locally applied patches:
uncommitted-changes
Built under linux
Compiled at Oct 2 2017 16:15:05
%ENV:
PERL5LIB="/tmp/loop_over_bdir-4096-EV08gH/Class-Data-ConfigHash-0.00002-0/blib/arch:/tmp/loop_over_bdir-4096-EV08gH/Class-Data-ConfigHash-0.00002-0/blib/lib:/tmp/loop_over_bdir-4096-EV08gH/AWS-Signature4-1.02-0/blib/arch:/tmp/loop_over_bdir-4096-EV08gH/AWS-Signature4-1.02-0/blib/lib"
PERL5OPT=""
PERL5_CPANPLUS_IS_RUNNING="4112"
PERL5_CPAN_IS_RUNNING="4112"
PERL5_CPAN_IS_RUNNING_IN_RECURSION="5905,4112"
PERL_CANARY_STABILITY_NOPROMPT="1"
PERL_MM_USE_DEFAULT="1"
PERL_USE_UNSAFE_INC="1"
@INC:
/tmp/loop_over_bdir-4096-EV08gH/Class-Data-ConfigHash-0.00002-0/blib/arch
/tmp/loop_over_bdir-4096-EV08gH/Class-Data-ConfigHash-0.00002-0/blib/lib
/tmp/loop_over_bdir-4096-EV08gH/AWS-Signature4-1.02-0/blib/arch
/tmp/loop_over_bdir-4096-EV08gH/AWS-Signature4-1.02-0/blib/lib
/home/sand/src/perl/repoperls/installed-perls/host/k93msid/v5.24.1/5ea4/lib/site_perl/5.24.1/x86_64-linux-thread-multi-ld
/home/sand/src/perl/repoperls/installed-perls/host/k93msid/v5.24.1/5ea4/lib/site_perl/5.24.1
/home/sand/src/perl/repoperls/installed-perls/host/k93msid/v5.24.1/5ea4/lib/5.24.1/x86_64-linux-thread-multi-ld
/home/sand/src/perl/repoperls/installed-perls/host/k93msid/v5.24.1/5ea4/lib/5.24.1
.