WebService-GeoIPify v0.05 Perl 5 v5.37.5 x86_64-linux
- Status
- Pass
- From
- Andreas J. König (ANDK)
- Dist
-
WebService-GeoIPify v0.05
- Platform
- Perl 5 v5.37.5 x86_64-linux
- Date
- 2022-10-25 18:18:12
- ID
- 630c1678-5491-11ed-bc2d-713966ca80ec
This distribution has been tested as part of the CPAN Testers
project, supporting the Perl programming language. See
http://wiki.cpantesters.org/ for more information or email
questions to cpan-testers-discuss@perl.org
--
Dear Kian Meng, Ang,
This is a computer-generated report for WebService-GeoIPify-0.05
on perl 5.37.5, created by CPAN-Reporter-1.2018.
Thank you for uploading your work to CPAN. Congratulations!
All tests were successful.
Sections of this report:
* Tester comments
* Program output
* Prerequisites
* Environment and other context
------------------------------
TESTER COMMENTS
------------------------------
Additional comments from tester:
this report is from an automated smoke testing program
and was not reviewed by a human for accuracy
------------------------------
PROGRAM OUTPUT
------------------------------
Output from './Build test':
t/00-compile.t .............. ok
# Testing with Perl 5.037005, /tmp/basesmoker-reloperl-qB1D/bin/perl
# Cache::LRU version is 0.04
# Data::Validate::IP version is 0.30
# File::Spec version is 3.87
# IO::Handle version is 1.51
# IPC::Open3 version is 1.22
# JSON version is 4.10
# Module::Build::Tiny version is 0.039
# Moo version is 2.005004
# Pod::Coverage::TrustPod version is 0.100005
# REST::Client version is 281
# Role::Cache::LRU version is 0.05
# Role::REST::Client version is 0.23
# Sub::Quote version is 2.006006
# Test::CPAN::Meta version is 0.25
# Test::DistManifest version is 1.014
# Test::Exception version is 0.43
# Test::HasVersion version is 0.014
# Test::More version is 1.302191
# Test::Warn version is 0.37
# Types::Common::String version is 2.000001
# Types::Standard version is 2.000001
# namespace::clean version is 0.27
# strictures version is 2.000006
t/000-report-versions.t ..... ok
t/00_compile.t .............. ok
t/01_instantiation.t ........ ok
t/02_lookup.t ............... skipped: $ENV{GEOIPIFY_ACCESS_KEY} not set, skipping live tests
t/03_check.t ................ skipped: $ENV{GEOIPIFY_ACCESS_KEY} not set, skipping live tests
t/author-eol.t .............. skipped: these tests are for testing by the author
t/author-minimum-version.t .. skipped: these tests are for testing by the author
t/author-pod-coverage.t ..... skipped: these tests are for testing by the author
t/author-pod-syntax.t ....... skipped: these tests are for testing by the author
t/release-distmeta.t ........ skipped: these tests are for release candidate testing
t/release-has-version.t ..... skipped: these tests are for release candidate testing
t/release-kwalitee.t ........ skipped: these tests are for release candidate testing
t/release-unused-vars.t ..... skipped: these tests are for release candidate testing
All tests successful.
Files=14, Tests=29, 2 wallclock secs ( 0.09 usr 0.06 sys + 1.93 cusr 0.26 csys = 2.34 CPU)
Result: PASS
------------------------------
PREREQUISITES
------------------------------
Prerequisite modules loaded:
requires:
Module Need Have
----------------------- -------- --------
Cache::LRU 0 0.04
Data::Validate::IP 0 0.30
JSON 0 4.10
Moo 0 2.005004
namespace::clean 0 0.27
perl 5.008005 5.037005
REST::Client 0 281
Role::Cache::LRU 0 0.05
Role::REST::Client 0 0.23
strictures 2 2.000006
Sub::Quote 0 2.006006
Types::Common::String 1.004002 2.000001
Types::Standard 1.004002 2.000001
build_requires:
Module Need Have
----------------------- -------- --------
File::Spec 0 3.87
IO::Handle 0 1.51
IPC::Open3 0 1.22
Pod::Coverage::TrustPod 0 0.100005
Test::CPAN::Meta 0 0.25
Test::DistManifest 0 1.014
Test::Exception 0 0.43
Test::HasVersion 0 0.014
Test::Kwalitee 0 1.28
Test::More 0 1.302191
Test::Pod::Coverage 0 1.10
Test::Warn 0 0.37
configure_requires:
Module Need Have
----------------------- -------- --------
Module::Build::Tiny 0.034 0.039
------------------------------
ENVIRONMENT AND OTHER CONTEXT
------------------------------
Environment variables:
AUTOMATED_TESTING = 1
LANG = en_US.UTF-8
PATH = /home/sand/bin:/usr/local/bin:/usr/local/sbin:/usr/sbin:/usr/bin:/sbin:/bin:/usr/games:/usr/local/games:/snap/bin:/usr/local/perl/bin:/usr/X11/bin
PERL5LIB = /tmp/loop_over_bdir-723628-HyBcCw/EJBCA-CrlPublish-0.60-0/blib/arch:/tmp/loop_over_bdir-723628-HyBcCw/EJBCA-CrlPublish-0.60-0/blib/lib:/tmp/loop_over_bdir-723628-HyBcCw/RDF-NLP-SPARQLQuery-0.1-0/blib/arch:/tmp/loop_over_bdir-723628-HyBcCw/RDF-NLP-SPARQLQuery-0.1-0/blib/lib:/tmp/loop_over_bdir-723628-HyBcCw/CGI-Application-NetNewsIface-0.0204-0/blib/arch:/tmp/loop_over_bdir-723628-HyBcCw/CGI-Application-NetNewsIface-0.0204-0/blib/lib:/tmp/loop_over_bdir-723628-HyBcCw/Dpkg-1.21.9-0/blib/arch:/tmp/loop_over_bdir-723628-HyBcCw/Dpkg-1.21.9-0/blib/lib
PERL5OPT =
PERL5_CPANPLUS_IS_RUNNING = 723636
PERL5_CPAN_IS_RUNNING = 723636
PERL_CANARY_STABILITY_NOPROMPT = 1
PERL_MM_USE_DEFAULT = 1
PERL_USE_UNSAFE_INC = 1
SHELL = /usr/bin/zsh
TERM = screen
Perl special variables (and OS-specific diagnostics, for MSWin32):
$^X = /tmp/basesmoker-reloperl-qB1D/bin/perl
$UID/$EUID = 1005 / 1005
$GID = 1005 1005
$EGID = 1005 1005
Perl module toolchain versions installed:
Module Have
------------------- --------
CPAN 2.34
CPAN::Meta 2.150010
Cwd 3.86
ExtUtils::CBuilder 0.280237
ExtUtils::Command 7.64
ExtUtils::Install 2.20
ExtUtils::MakeMaker 7.64
ExtUtils::Manifest 1.73
ExtUtils::ParseXS 3.46
File::Spec 3.87
JSON 4.10
JSON::PP 4.12
Module::Build 0.4231
Module::Signature 0.88
Parse::CPAN::Meta 2.150010
Test::Harness 3.44
Test::More 1.302191
YAML 1.30
YAML::Syck 1.34
version 0.9929
--
Summary of my perl5 (revision 5 version 37 subversion 5) configuration:
Commit id: 064941484781d9099db0bbe7d6ea22a826df1e15
Platform:
osname=linux
osvers=5.4.0-125-generic
archname=x86_64-linux
uname='linux k93focal 5.4.0-125-generic #141-ubuntu smp wed aug 10 13:42:03 utc 2022 x86_64 x86_64 x86_64 gnulinux '
config_args='-Dprefix=/home/sand/src/perl/repoperls/installed-perls/host/k93focal/v5.37.4-160-g0649414847/b254 -Dmyhostname=k93focal -Dinstallusrbinperl=n -Uversiononly -Dusedevel -des -Ui_db -Dlibswanted=cl pthread socket inet nsl gdbm dbm malloc dl ld sun m crypt sec util c cposix posix ucb BSD gdbm_compat -Uuseithreads -Uuselongdouble -DEBUGGING=both'
hint=recommended
useposix=true
d_sigaction=define
useithreads=undef
usemultiplicity=undef
use64bitint=define
use64bitall=define
uselongdouble=undef
usemymalloc=n
default_inc_excludes_dot=define
Compiler:
cc='cc'
ccflags ='-fwrapv -DDEBUGGING -fno-strict-aliasing -pipe -fstack-protector-strong -I/usr/local/include -D_LARGEFILE_SOURCE -D_FILE_OFFSET_BITS=64'
optimize='-O2 -g'
cppflags='-fwrapv -DDEBUGGING -fno-strict-aliasing -pipe -fstack-protector-strong -I/usr/local/include'
ccversion=''
gccversion='9.4.0'
gccosandvers=''
intsize=4
longsize=8
ptrsize=8
doublesize=8
byteorder=12345678
doublekind=3
d_longlong=define
longlongsize=8
d_longdbl=define
longdblsize=16
longdblkind=3
ivtype='long'
ivsize=8
nvtype='double'
nvsize=8
Off_t='off_t'
lseeksize=8
alignbytes=8
prototype=define
Linker and Libraries:
ld='cc'
ldflags =' -fstack-protector-strong -L/usr/local/lib'
libpth=/usr/local/lib /usr/lib/x86_64-linux-gnu /usr/lib /usr/lib64
libs=-lpthread -lnsl -ldl -lm -lcrypt -lutil -lc
perllibs=-lpthread -lnsl -ldl -lm -lcrypt -lutil -lc
libc=libc-2.31.so
so=so
useshrplib=false
libperl=libperl.a
gnulibc_version='2.31'
Dynamic Linking:
dlsrc=dl_dlopen.xs
dlext=so
d_dlsymun=undef
ccdlflags='-Wl,-E'
cccdlflags='-fPIC'
lddlflags='-shared -O2 -g -L/usr/local/lib -fstack-protector-strong'
Characteristics of this binary (from libperl):
Compile-time options:
DEBUGGING
HAS_TIMES
PERLIO_LAYERS
PERL_COPY_ON_WRITE
PERL_DONT_CREATE_GVSV
PERL_HASH_FUNC_SIPHASH13
PERL_HASH_USE_SBOX32
PERL_MALLOC_WRAP
PERL_OP_PARENT
PERL_PRESERVE_IVUV
PERL_USE_DEVEL
PERL_USE_SAFE_PUTENV
USE_64_BIT_ALL
USE_64_BIT_INT
USE_LARGE_FILES
USE_LOCALE
USE_LOCALE_COLLATE
USE_LOCALE_CTYPE
USE_LOCALE_NUMERIC
USE_LOCALE_TIME
USE_PERLIO
USE_PERL_ATOF
Built under linux
Compiled at Oct 20 2022 19:29:29
%ENV:
PERL5LIB="/tmp/loop_over_bdir-723628-HyBcCw/EJBCA-CrlPublish-0.60-0/blib/arch:/tmp/loop_over_bdir-723628-HyBcCw/EJBCA-CrlPublish-0.60-0/blib/lib:/tmp/loop_over_bdir-723628-HyBcCw/RDF-NLP-SPARQLQuery-0.1-0/blib/arch:/tmp/loop_over_bdir-723628-HyBcCw/RDF-NLP-SPARQLQuery-0.1-0/blib/lib:/tmp/loop_over_bdir-723628-HyBcCw/CGI-Application-NetNewsIface-0.0204-0/blib/arch:/tmp/loop_over_bdir-723628-HyBcCw/CGI-Application-NetNewsIface-0.0204-0/blib/lib:/tmp/loop_over_bdir-723628-HyBcCw/Dpkg-1.21.9-0/blib/arch:/tmp/loop_over_bdir-723628-HyBcCw/Dpkg-1.21.9-0/blib/lib"
PERL5OPT=""
PERL5_CPANPLUS_IS_RUNNING="723636"
PERL5_CPAN_IS_RUNNING="723636"
PERL_CANARY_STABILITY_NOPROMPT="1"
PERL_MM_USE_DEFAULT="1"
PERL_USE_UNSAFE_INC="1"
@INC:
/tmp/loop_over_bdir-723628-HyBcCw/EJBCA-CrlPublish-0.60-0/blib/arch
/tmp/loop_over_bdir-723628-HyBcCw/EJBCA-CrlPublish-0.60-0/blib/lib
/tmp/loop_over_bdir-723628-HyBcCw/RDF-NLP-SPARQLQuery-0.1-0/blib/arch
/tmp/loop_over_bdir-723628-HyBcCw/RDF-NLP-SPARQLQuery-0.1-0/blib/lib
/tmp/loop_over_bdir-723628-HyBcCw/CGI-Application-NetNewsIface-0.0204-0/blib/arch
/tmp/loop_over_bdir-723628-HyBcCw/CGI-Application-NetNewsIface-0.0204-0/blib/lib
/tmp/loop_over_bdir-723628-HyBcCw/Dpkg-1.21.9-0/blib/arch
/tmp/loop_over_bdir-723628-HyBcCw/Dpkg-1.21.9-0/blib/lib
/home/sand/src/perl/repoperls/installed-perls/host/k93focal/v5.37.4-160-g0649414847/b254/lib/site_perl/5.37.5/x86_64-linux
/home/sand/src/perl/repoperls/installed-perls/host/k93focal/v5.37.4-160-g0649414847/b254/lib/site_perl/5.37.5
/home/sand/src/perl/repoperls/installed-perls/host/k93focal/v5.37.4-160-g0649414847/b254/lib/5.37.5/x86_64-linux
/home/sand/src/perl/repoperls/installed-perls/host/k93focal/v5.37.4-160-g0649414847/b254/lib/5.37.5
.