Back
From: metabase:user:30f0bd62-2aae-11df-837a-5e0a49663a4f
Subject: PASS Data-Rx-0.200002 v5.16.2 NetBSD
Date: 2012-12-01T11:43:55Z
This distribution has been tested as part of the CPAN Testers
project, supporting the Perl programming language. See
http://wiki.cpantesters.org/ for more information or email
questions to cpan-testers-discuss@perl.org
--
Dear Ricardo SIGNES,
This is a computer-generated report for Data-Rx-0.200002
on perl 5.16.2, created by CPAN-Reporter-1.2006.
Thank you for uploading your work to CPAN. Congratulations!
All tests were successful.
Sections of this report:
* Tester comments
* Program output
* Prerequisites
* Environment and other context
------------------------------
TESTER COMMENTS
------------------------------
Additional comments from tester:
this report is from an automated smoke testing program
and was not reviewed by a human for accuracy
------------------------------
PROGRAM OUTPUT
------------------------------
Output from '/usr/bin/make test':
PERL_DL_NONLAZY=1 /home/sts/cpansmoke/perl-5.16.2/bin/perl "-MExtUtils::Command::MM" "-e" "test_harness(0, 'blib/lib', 'blib/arch')" t/*.t
t/00-compile.t ................ ok
#
#
# Generated by Dist::Zilla::Plugin::ReportVersions::Tiny v1.05
# perl: v5.16.2 (wanted any version) on netbsd from /home/sts/cpansmoke/perl-5.16.2/bin/perl
#
# Carp => 1.26 (want any version)
# ExtUtils::MakeMaker => 6.6302 (want 6.30)
# File::Find => 1.20 (want any version)
# File::Find::Rule => 0.33 (want any version)
# File::Temp => 0.22 (want any version)
# JSON => 2.53 (want 2)
# List::Util => 1.25 (want any version)
# Module::Pluggable => 4.0 (want 3.7)
# Module::Pluggable::Object => 3.9 (want any version)
# Number::Tolerant => 1.701 (want any version)
# Scalar::Util => 1.25 (want any version)
# Test::Deep::NoTest => <undef> (want any version)
# Test::More => 0.98 (want 0.96)
# Try::Tiny => 0.11 (want any version)
# autodie => 2.10 (want any version)
# overload => 1.18 (want any version)
# parent => 0.225 (want any version)
# strict => 1.07 (want any version)
# warnings => 1.13 (want any version)
#
# Thanks for using my code. I hope it works for you.
# If not, please try and include this output in the bug report.
# That will help me reproduce the issue and solve your problem.
#
t/000-report-versions-tiny.t .. ok
t/spec.t ...................... ok
t/util-range.t ................ ok
All tests successful.
Test Summary Report
-------------------
t/spec.t (Wstat: 0 Tests: 1625 Failed: 0)
TODO passed: 565, 567, 569-576, 618, 620, 622-629, 672
674, 676-683, 726, 728, 730-737, 910, 912
915-921, 963, 965, 968-974, 1017, 1019
1022-1028
Files=4, Tests=1659, 7 wallclock secs ( 0.48 usr 0.10 sys + 6.13 cusr 0.80 csys = 7.51 CPU)
Result: PASS
------------------------------
PREREQUISITES
------------------------------
Prerequisite modules loaded:
requires:
Module Need Have
------------------------- ---- -------
autodie 0 2.10
Carp 0 1.26
File::Find::Rule 0 0.33
JSON 2 2.53
List::Util 0 1.25
Module::Pluggable 3.7 4.0
Module::Pluggable::Object 0 3.9
Number::Tolerant 0 1.701
overload 0 1.18
parent 0 0.225
Scalar::Util 0 1.25
strict 0 1.07
Test::More 0 0.98
warnings 0 1.13
build_requires:
Module Need Have
------------------------- ---- -------
autodie 0 2.10
File::Find 0 1.20
File::Find::Rule 0 0.33
File::Temp 0 0.22
JSON 0 2.53
Test::Deep::NoTest 0 0
Test::More 0.96 0.98
Try::Tiny 0 0.11
configure_requires:
Module Need Have
------------------------- ---- -------
ExtUtils::MakeMaker 6.30 6.63_02
------------------------------
ENVIRONMENT AND OTHER CONTEXT
------------------------------
Environment variables:
AUTOMATED_TESTING = 1
PATH = /home/sts/bin:/bin:/sbin:/usr/bin:/usr/sbin:/usr/X11R7/bin:/usr/X11R6/bin:/usr/pkg/bin:/usr/pkg/sbin:/usr/games:/usr/local/bin:/usr/local/sbin
PERL5LIB = /home/sts/cpansmoke/perl-5.16.2/cpan/build/Test-Deep-0.110-PTANQR/blib/arch:/home/sts/cpansmoke/perl-5.16.2/cpan/build/Test-Deep-0.110-PTANQR/blib/lib:/home/sts/cpansmoke/perl-5.16.2/cpan/build/Number-Tolerant-1.701-4Lom4a/blib/arch:/home/sts/cpansmoke/perl-5.16.2/cpan/build/Number-Tolerant-1.701-4Lom4a/blib/lib:/home/sts/cpansmoke/perl-5.16.2/cpan/build/Try-Tiny-0.11-9OIIkp/blib/arch:/home/sts/cpansmoke/perl-5.16.2/cpan/build/Try-Tiny-0.11-9OIIkp/blib/lib
PERL5OPT =
PERL5_CPANPLUS_IS_RUNNING = 10514
PERL5_CPAN_IS_RUNNING = 10514
PERL5_CPAN_IS_RUNNING_IN_RECURSION = 884,10514
PERL_CR_SMOKER_CURRENT = Data-Rx-TypeBundle-Perl-0.006
PERL_EXTUTILS_AUTOINSTALL = --defaultdeps
PERL_MM_USE_DEFAULT = 1
SHELL = /usr/pkg/bin/bash
TERM = screen
TMPDIR = /home/sts/cpansmoke/tmp
Perl special variables (and OS-specific diagnostics, for MSWin32):
$^X = /home/sts/cpansmoke/perl-5.16.2/bin/perl
$UID/$EUID = 1000 / 1000
$GID = 100 100 0
$EGID = 100 100 0
Perl module toolchain versions installed:
Module Have
------------------- --------
CPAN 1.9800
CPAN::Meta 2.120630
Cwd 3.39_02
ExtUtils::CBuilder 0.280206
ExtUtils::Command 1.17
ExtUtils::Install 1.58
ExtUtils::MakeMaker 6.63_02
ExtUtils::Manifest 1.61
ExtUtils::ParseXS 3.16
File::Spec 3.39_02
JSON 2.53
JSON::PP 2.27200
Module::Build 0.39_01
Module::Signature n/a
Parse::CPAN::Meta 1.4402
Test::Harness 3.23
Test::More 0.98
YAML n/a
YAML::Syck n/a
version 0.99
--
Summary of my perl5 (revision 5 version 16 subversion 2) configuration:
Platform:
osname=netbsd, osvers=6.0, archname=i386-netbsd-thread-multi
uname='netbsd cpansmoke2 6.0 netbsd 6.0 (xen3_domu) i386 '
config_args='-des -Dusethreads -Dprefix=/home/sts/cpansmoke/perl-5.16.2'
hint=recommended, useposix=true, d_sigaction=define
useithreads=define, usemultiplicity=define
useperlio=define, d_sfio=undef, uselargefiles=define, usesocks=undef
use64bitint=undef, use64bitall=undef, uselongdouble=undef
usemymalloc=n, bincompat5005=undef
Compiler:
cc='cc', ccflags ='-fno-strict-aliasing -pipe -fstack-protector -I/usr/pkg/include',
optimize='-O',
cppflags='-fno-strict-aliasing -pipe -fstack-protector -I/usr/pkg/include'
ccversion='', gccversion='4.5.3', gccosandvers=''
intsize=4, longsize=4, ptrsize=4, doublesize=8, byteorder=1234
d_longlong=define, longlongsize=8, d_longdbl=define, longdblsize=12
ivtype='long', ivsize=4, nvtype='double', nvsize=8, Off_t='off_t', lseeksize=8
alignbytes=4, prototype=define
Linker and Libraries:
ld='cc', ldflags =' -Wl,-rpath,/usr/pkg/lib -Wl,-rpath,/usr/local/lib -fstack-protector -L/usr/pkg/lib'
libpth=/usr/pkg/lib /lib /usr/lib
libs=-lm -lcrypt -lutil -lc -lposix -lpthread
perllibs=-lm -lcrypt -lutil -lc -lposix -lpthread
libc=/lib/libc.so, so=so, useshrplib=false, libperl=libperl.a
gnulibc_version=''
Dynamic Linking:
dlsrc=dl_dlopen.xs, dlext=so, d_dlsymun=undef, ccdlflags='-Wl,-E '
cccdlflags='-DPIC -fPIC ', lddlflags='--whole-archive -shared -L/usr/pkg/lib -fstack-protector'
Characteristics of this binary (from libperl):
Compile-time options: HAS_TIMES MULTIPLICITY PERLIO_LAYERS
PERL_DONT_CREATE_GVSV PERL_IMPLICIT_CONTEXT
PERL_MALLOC_WRAP PERL_PRESERVE_IVUV USE_ITHREADS
USE_LARGE_FILES USE_LOCALE USE_LOCALE_COLLATE
USE_LOCALE_CTYPE USE_LOCALE_NUMERIC USE_PERLIO
USE_PERL_ATOF USE_REENTRANT_API
Built under netbsd
Compiled at Nov 27 2012 15:10:18
%ENV:
PERL5LIB="/home/sts/cpansmoke/perl-5.16.2/cpan/build/Test-Deep-0.110-PTANQR/blib/arch:/home/sts/cpansmoke/perl-5.16.2/cpan/build/Test-Deep-0.110-PTANQR/blib/lib:/home/sts/cpansmoke/perl-5.16.2/cpan/build/Number-Tolerant-1.701-4Lom4a/blib/arch:/home/sts/cpansmoke/perl-5.16.2/cpan/build/Number-Tolerant-1.701-4Lom4a/blib/lib:/home/sts/cpansmoke/perl-5.16.2/cpan/build/Try-Tiny-0.11-9OIIkp/blib/arch:/home/sts/cpansmoke/perl-5.16.2/cpan/build/Try-Tiny-0.11-9OIIkp/blib/lib"
PERL5OPT=""
PERL5_CPANPLUS_IS_RUNNING="10514"
PERL5_CPAN_IS_RUNNING="10514"
PERL5_CPAN_IS_RUNNING_IN_RECURSION="884,10514"
PERL_CR_SMOKER_CURRENT="Data-Rx-TypeBundle-Perl-0.006"
PERL_EXTUTILS_AUTOINSTALL="--defaultdeps"
PERL_MM_USE_DEFAULT="1"
@INC:
/home/sts/cpansmoke/perl-5.16.2/cpan/build/Test-Deep-0.110-PTANQR/blib/arch
/home/sts/cpansmoke/perl-5.16.2/cpan/build/Test-Deep-0.110-PTANQR/blib/lib
/home/sts/cpansmoke/perl-5.16.2/cpan/build/Number-Tolerant-1.701-4Lom4a/blib/arch
/home/sts/cpansmoke/perl-5.16.2/cpan/build/Number-Tolerant-1.701-4Lom4a/blib/lib
/home/sts/cpansmoke/perl-5.16.2/cpan/build/Try-Tiny-0.11-9OIIkp/blib/arch
/home/sts/cpansmoke/perl-5.16.2/cpan/build/Try-Tiny-0.11-9OIIkp/blib/lib
/home/sts/cpansmoke/perl-5.16.2/lib/site_perl/5.16.2/i386-netbsd-thread-multi
/home/sts/cpansmoke/perl-5.16.2/lib/site_perl/5.16.2
/home/sts/cpansmoke/perl-5.16.2/lib/5.16.2/i386-netbsd-thread-multi
/home/sts/cpansmoke/perl-5.16.2/lib/5.16.2
.