Benchmark-Perl-Formance v0.55 Perl 5 v5.41.10 x86_64-linux

Status
Pass
From
Carlos Guevara
Dist
Benchmark-Perl-Formance v0.55
Platform
Perl 5 v5.41.10 x86_64-linux
Date
2025-03-16 04:51:56
ID
634a279c-0222-11f0-b338-9cbe0b51a64c
This distribution has been tested as part of the CPAN Testers
project, supporting the Perl programming language.  See
http://wiki.cpantesters.org/ for more information or email
questions to cpan-testers-discuss@perl.org


--
Dear Steffen Schwigon,

This is a computer-generated report for Benchmark-Perl-Formance-0.55
on perl 5.41.10, created by CPAN-Reporter-1.2020.

Thank you for uploading your work to CPAN.  Congratulations!
All tests were successful.

Sections of this report:

    * Tester comments
    * Program output
    * Prerequisites
    * Environment and other context

------------------------------
TESTER COMMENTS
------------------------------

Additional comments from tester:

this report is from an automated smoke testing program
and was not reviewed by a human for accuracy

------------------------------
PROGRAM OUTPUT
------------------------------

Output from '/usr/bin/make test':

PERL_DL_NONLAZY=1 "/home/cpan/bin/perl/bin/perl5.41.10" "-MExtUtils::Command::MM" "-MTest::Harness" "-e" "undef *Test::Harness::Switches; test_harness(0, 'blib/lib', 'blib/arch')" t/*.t
t/00-compile.t ......... ok
# 
# Testing Benchmark::Perl::Formance 0.55, Perl 5.041010, /home/cpan/bin/perl/bin/perl5.41.10
t/00-load.t ............ ok
t/author-eol.t ......... skipped: these tests are for testing by the author
t/author-pod-syntax.t .. skipped: these tests are for testing by the author
t/basic.t .............. ok
# 
# Sample run. May take some seconds...
# Run DPath...
# Run Fib...
# Run FibOO...
# Run Mem...
# Run MatrixReal...
# Run Prime...
# Run Rx...
# Skip plugin 'Rx':Illegal division by zero at lib/Benchmark/Perl/Formance/Plugin/Rx.pm line 97.
# Run RxMicro...
# Run Shootout::fasta...
# Run Shootout::regexdna...
# Run Shootout::binarytrees...
# Run Shootout::revcomp...
# Run Shootout::nbody...
# Run Shootout::spectralnorm...
# 
# perlformance.perl5.DPath.dpath                        : 0.037175
# perlformance.perl5.Fib                                : 0.014296
# perlformance.perl5.FibOO                              : 0.019609
# perlformance.perl5.MatrixReal.det.005                 : 0.060312
# perlformance.perl5.MatrixReal.det_LR.005              : 0.055563
# perlformance.perl5.MatrixReal.inverse.005             : 0.202199
# perlformance.perl5.MatrixReal.invert_LR.005           : 0.201020
# perlformance.perl5.MatrixReal.matrix_squared.005      : 0.057161
# perlformance.perl5.MatrixReal.matrix_times_itself.005 : 0.043791
# perlformance.perl5.MatrixReal.to_negative_one.005     : 0.228063
# perlformance.perl5.Mem.allocate                       : 0.200354
# perlformance.perl5.Mem.copy                           : 0.303681
# perlformance.perl5.Prime.math_primality               : 0.001654
# perlformance.perl5.RxMicro.code-literal               : 0.236055
# perlformance.perl5.RxMicro.code-runtime               : 0.145547
# perlformance.perl5.RxMicro.precompile-access          : 0.349523
# perlformance.perl5.RxMicro.runtime-compile            : 0.414146
# perlformance.perl5.RxMicro.runtime-compile-nocache    : 0.450850
# perlformance.perl5.Shootout.binarytrees               : 0.093302
# perlformance.perl5.Shootout.fasta                     : 0.056760
# perlformance.perl5.Shootout.nbody                     : 0.025999
# perlformance.perl5.Shootout.spectralnorm              : 0.173312
t/samplerun.t .......... ok
All tests successful.
Files=6, Tests=21,  5 wallclock secs ( 0.02 usr  0.01 sys +  4.93 cusr  0.44 csys =  5.40 CPU)
Result: PASS

------------------------------
PREREQUISITES
------------------------------

Prerequisite modules loaded:

requires:

    Module                Need Have    
    --------------------- ---- --------
    Config::Perl::V       0    0.38    
    Data::DPath           0    0.60    
    Data::Structure::Util 0    0.16    
    Data::YAML::Writer    0    0.0.7   
    Devel::Platform::Info 0    1.00    
    JSON                  0    4.10    
    List::Util            0    1.68_01 
    Math::MatrixReal      0    2.13    
    Math::Primality       0    0.08    
    Module::Pluggable     0    6.3     
    Module::Runtime       0    0.016   
    Sys::Hostname         0    1.25    
    Sys::Info             0    0.7811  

build_requires:

    Module                Need Have    
    --------------------- ---- --------
    Data::YAML::Reader    0    0.0.7   
    ExtUtils::MakeMaker   0    7.72    
    File::Spec            0    3.93    
    IO::Handle            0    1.55    
    IPC::Open3            0    1.24    
    Test::More            0.88 1.302209

configure_requires:

    Module                Need Have    
    --------------------- ---- --------
    ExtUtils::MakeMaker   0    7.72    


------------------------------
ENVIRONMENT AND OTHER CONTEXT
------------------------------

Environment variables:

    AUTOMATED_TESTING = 1
    DATE_MANIP_TEST_DM5 = 1
    LANG = en_US.UTF-8
    LC_ALL = C
    LC_COLLATE = C
    NONINTERACTIVE_TESTING = 1
    NO_NETWORK_TESTING = 1
    PATH = /home/cpan/bin/perl/bin:/home/cpan/bin:/home/cpan/bin:/usr/local/sbin:/usr/local/bin:/usr/bin:/usr/sbin:/sbin:/bin
    PERL5LIB = 
    PERL5OPT = 
    PERL5_CPANPLUS_IS_RUNNING = 18230
    PERL5_CPAN_IS_RUNNING = 18230
    PERL_MM_USE_DEFAULT = 1
    PERL_USE_UNSAFE_INC = 1
    SHELL = /bin/bash
    TERM = screen
    TMPDIR = /home/cpan/tmp

Perl special variables (and OS-specific diagnostics, for MSWin32):

    $^X = /home/cpan/bin/perl/bin/perl5.41.10
    $UID/$EUID = 1001 / 1001
    $GID = 1001 1001
    $EGID = 1001 1001

Perl module toolchain versions installed:

    Module              Have    
    ------------------- --------
    CPAN                2.38    
    CPAN::Meta          2.150010
    Cwd                 3.92    
    ExtUtils::CBuilder  0.280240
    ExtUtils::Command   7.72    
    ExtUtils::Install   2.22    
    ExtUtils::MakeMaker 7.72    
    ExtUtils::Manifest  1.75    
    ExtUtils::ParseXS   3.57    
    File::Spec          3.93    
    JSON                4.10    
    JSON::PP            4.16    
    Module::Build       0.4234  
    Module::Signature   n/a     
    Parse::CPAN::Meta   2.150010
    Test2               1.302209
    Test::Harness       3.50    
    Test::More          1.302209
    YAML                1.31    
    YAML::Syck          n/a     
    version             0.9933  


--

Summary of my perl5 (revision 5 version 41 subversion 10) configuration:
  Commit id: eb87a4a2055bc69b3fcc6f971fbab1003cd49487
  Platform:
    osname=linux
    osvers=6.12.18_1
    archname=x86_64-linux
    uname='linux cjg-void 6.12.18_1 #1 smp preempt_dynamic sat mar 8 17:13:39 utc 2025 x86_64 gnulinux '
    config_args='-des -Dprefix=/home/cpan/bin/perl -Dscriptdir=/home/cpan/bin/perl/bin -Dusedevel -Duse64bitall'
    hint=recommended
    useposix=true
    d_sigaction=define
    useithreads=undef
    usemultiplicity=undef
    use64bitint=define
    use64bitall=define
    uselongdouble=undef
    usemymalloc=n
    default_inc_excludes_dot=define
  Compiler:
    cc='cc'
    ccflags ='-D_GNU_SOURCE -fwrapv -fno-strict-aliasing -pipe -fstack-protector-strong -I/usr/local/include -D_LARGEFILE_SOURCE -D_FILE_OFFSET_BITS=64 -D_FORTIFY_SOURCE=2'
    optimize='-O2'
    cppflags='-D_GNU_SOURCE -fwrapv -fno-strict-aliasing -pipe -fstack-protector-strong -I/usr/local/include'
    ccversion=''
    gccversion='13.2.0'
    gccosandvers=''
    intsize=4
    longsize=8
    ptrsize=8
    doublesize=8
    byteorder=12345678
    doublekind=3
    d_longlong=define
    longlongsize=8
    d_longdbl=define
    longdblsize=16
    longdblkind=3
    ivtype='long'
    ivsize=8
    nvtype='double'
    nvsize=8
    Off_t='off_t'
    lseeksize=8
    alignbytes=8
    prototype=define
  Linker and Libraries:
    ld='cc'
    ldflags =' -fstack-protector-strong -L/usr/local/lib'
    libpth=/usr/local/lib /usr/lib
    libs=-lpthread -ldb -ldl -lm -lcrypt -lutil -lc
    perllibs=-lpthread -ldl -lm -lcrypt -lutil -lc
    libc=/lib/../lib64/libc.so
    so=so
    useshrplib=false
    libperl=libperl.a
    gnulibc_version=''
  Dynamic Linking:
    dlsrc=dl_dlopen.xs
    dlext=so
    d_dlsymun=undef
    ccdlflags='-Wl,-E'
    cccdlflags='-fPIC'
    lddlflags='-shared -O2 -L/usr/local/lib -fstack-protector-strong'


Characteristics of this binary (from libperl): 
  Compile-time options:
    HAS_LONG_DOUBLE
    HAS_STRTOLD
    HAS_TIMES
    PERLIO_LAYERS
    PERL_COPY_ON_WRITE
    PERL_DONT_CREATE_GVSV
    PERL_HASH_FUNC_SIPHASH13
    PERL_HASH_USE_SBOX32
    PERL_MALLOC_WRAP
    PERL_OP_PARENT
    PERL_PRESERVE_IVUV
    PERL_USE_DEVEL
    PERL_USE_SAFE_PUTENV
    USE_64_BIT_ALL
    USE_64_BIT_INT
    USE_LARGE_FILES
    USE_LOCALE
    USE_LOCALE_COLLATE
    USE_LOCALE_CTYPE
    USE_LOCALE_NUMERIC
    USE_LOCALE_TIME
    USE_PERLIO
    USE_PERL_ATOF
  Built under linux
  Compiled at Mar 15 2025 23:35:03
  %ENV:
    PERL5LIB=""
    PERL5OPT=""
    PERL5_CPANPLUS_IS_RUNNING="18230"
    PERL5_CPAN_IS_RUNNING="18230"
    PERL_MM_USE_DEFAULT="1"
    PERL_USE_UNSAFE_INC="1"
  @INC:
    /home/cpan/bin/perl/lib/site_perl/5.41.10/x86_64-linux
    /home/cpan/bin/perl/lib/site_perl/5.41.10
    /home/cpan/bin/perl/lib/5.41.10/x86_64-linux
    /home/cpan/bin/perl/lib/5.41.10
    .