Report for App-SmokeBox-PerlVersion-0.16

Back
From: metabase:user:322078bc-2aae-11df-837a-5e0a49663a4f
Subject: PASS App-SmokeBox-PerlVersion-0.16 v5.18.1 GNU/Linux
Date: 2013-11-16T13:17:05Z

This distribution has been tested as part of the CPAN Testers
project, supporting the Perl programming language.  See
http://wiki.cpantesters.org/ for more information or email
questions to cpan-testers-discuss@perl.org


--

Dear Chris Williams,

This is a computer-generated error report created automatically by
CPANPLUS, version 0.9142. Testers personal comments may appear
at the end of this report.


Thank you for uploading your work to CPAN.  Congratulations!
All tests were successful.

TEST RESULTS:

Below is the error stack from stage 'make test':

PERL_DL_NONLAZY=1 /opt/perl-5.18.1/bin/perl "-MExtUtils::Command::MM" "-MTest::Harness" "-e" "undef *Test::Harness::Switches; test_harness(0, 'blib/lib', 'blib/arch')" t/*.t
t/00-compile.t ............ ok
# Using Perl /opt/perl-5.18.1/bin/perl
# 
# This is perl 5, version 18, subversion 1 (v5.18.1) built for x86_64-linux
# 
# Copyright 1987-2013, Larry Wall
# 
# Perl may be copied only under the terms of either the Artistic License or the
# GNU General Public License, which may be found in the Perl 5 source kit.
# 
# Complete documentation for Perl, including FAQ lists, should be found on
# this system using "man perl" or "perldoc perl".  If you have access to the
# Internet, point your browser at http://www.perl.org/, the Perl Home Page.
# 
t/01-event.t .............. ok
# Using Perl /opt/perl-5.18.1/bin/perl
# 
# This is perl 5, version 18, subversion 1 (v5.18.1) built for x86_64-linux
# 
# Copyright 1987-2013, Larry Wall
# 
# Perl may be copied only under the terms of either the Artistic License or the
# GNU General Public License, which may be found in the Perl 5 source kit.
# 
# Complete documentation for Perl, including FAQ lists, should be found on
# this system using "man perl" or "perldoc perl".  If you have access to the
# Internet, point your browser at http://www.perl.org/, the Perl Home Page.
# 
t/02-postback.t ........... ok
t/release-pod-coverage.t .. skipped: these tests are for release candidate testing
t/release-pod-syntax.t .... skipped: these tests are for release candidate testing
All tests successful.
Files=5, Tests=17,  1 wallclock secs ( 0.03 usr  0.01 sys +  0.48 cusr  0.06 csys =  0.58 CPU)
Result: PASS


PREREQUISITES:

Here is a list of prerequisites you specified and versions we
managed to load:

	  Module Name                        Have     Want
	  File::Spec                         3.40        0
	  IO::Handle                         1.34        0
	  IPC::Cmd                           0.88        0
	  IPC::Open3                         1.13        0
	  POE                               1.356    1.293
	  POE::Wheel::Run                   1.356        0
	  Test::More                     1.001002        0

Perl module toolchain versions installed:
	Module Name                        Have
	CPANPLUS                         0.9142
	CPANPLUS::Dist::Build              0.74
	Cwd                                3.40
	ExtUtils::CBuilder             0.280212
	ExtUtils::Command                  1.18
	ExtUtils::Install                  1.59
	ExtUtils::MakeMaker                6.82
	ExtUtils::Manifest                 1.63
	ExtUtils::ParseXS                  3.22
	File::Spec                         3.40
	Module::Build                    0.4005
	Pod::Parser                        1.61
	Pod::Simple                        3.28
	Test::Harness                      3.30
	Test::More                     1.001002
	version                          0.9904

******************************** NOTE ********************************
The comments above are created mechanically, possibly without manual
checking by the sender.  As there are many people performing automatic
tests on each upload to CPAN, it is likely that you will receive
identical messages about the same problem.

If you believe that the message is mistaken, please reply to the first
one with correction and/or additional informations, and do not take
it personally.  We appreciate your patience. :)
**********************************************************************

Additional comments:


This report was machine-generated by CPANPLUS::Dist::YACSmoke 0.90.

------------------------------
ENVIRONMENT AND OTHER CONTEXT
------------------------------

Environment variables:

    AUTOMATED_TESTING = 1
    LANG = POSIX
    LC_CTYPE = en_GB.UTF-8
    PATH = /sbin:/usr/sbin:/usr/local/sbin:/root/bin:/usr/local/bin:/usr/bin:/bin:/usr/X11R6/bin:/usr/games
    PERL5LIB = :/opt/perl-5.18.1/.cpanplus/5.18.1/build/App-SmokeBox-PerlVersion-0.16/blib/lib:/opt/perl-5.18.1/.cpanplus/5.18.1/build/App-SmokeBox-PerlVersion-0.16/blib/arch
    PERL5_CPANIDX_URL = http://cpan.mirror.local/cpanidx/
    PERL5_CPANPLUS_IS_RUNNING = 24603
    PERL5_CPANPLUS_IS_VERSION = 0.9142
    PERL_EXTUTILS_AUTOINSTALL = --defaultdeps
    PERL_MM_USE_DEFAULT = 1
    SHELL = /bin/bash
    TERM = xterm

Perl special variables (and OS-specific diagnostics, for MSWin32):

    Perl: $^X = /opt/perl-5.18.1/bin/perl
    UID:  $<  = 0
    EUID: $>  = 0
    GID:  $(  = 0 0
    EGID: $)  = 0 0


-------------------------------


--

Summary of my perl5 (revision 5 version 18 subversion 1) configuration:
   
  Platform:
    osname=linux, osvers=3.11.6-4-default, archname=x86_64-linux
    uname='linux osgo 3.11.6-4-default #1 smp wed oct 30 18:04:56 utc 2013 (e6d4a27) x86_64 x86_64 x86_64 gnulinux '
    config_args='-des -Dprefix=/opt/perl-5.18.1 -Dcc=clang'
    hint=recommended, useposix=true, d_sigaction=define
    useithreads=undef, usemultiplicity=undef
    useperlio=define, d_sfio=undef, uselargefiles=define, usesocks=undef
    use64bitint=define, use64bitall=define, uselongdouble=undef
    usemymalloc=n, bincompat5005=undef
  Compiler:
    cc='clang', ccflags ='-fno-strict-aliasing -pipe -fstack-protector -I/usr/local/include -D_LARGEFILE_SOURCE -D_FILE_OFFSET_BITS=64',
    optimize='-O2',
    cppflags='-fno-strict-aliasing -pipe -fstack-protector -I/usr/local/include'
    ccversion='', gccversion='4.2.1 Compatible Clang 3.3 (branches/release_33 183898)', gccosandvers=''
    intsize=4, longsize=8, ptrsize=8, doublesize=8, byteorder=12345678
    d_longlong=define, longlongsize=8, d_longdbl=define, longdblsize=16
    ivtype='long', ivsize=8, nvtype='double', nvsize=8, Off_t='off_t', lseeksize=8
    alignbytes=8, prototype=define
  Linker and Libraries:
    ld='clang', ldflags =' -fstack-protector -L/usr/local/lib'
    libpth=/usr/local/lib /lib/../lib64 /usr/lib/../lib64 /lib /usr/lib /lib64 /usr/lib64 /usr/local/lib64
    libs=-lnsl -lndbm -lgdbm -ldb -ldl -lm -lcrypt -lutil -lc -lgdbm_compat
    perllibs=-lnsl -ldl -lm -lcrypt -lutil -lc
    libc=, so=so, useshrplib=false, libperl=libperl.a
    gnulibc_version='2.18'
  Dynamic Linking:
    dlsrc=dl_dlopen.xs, dlext=so, d_dlsymun=undef, ccdlflags='-Wl,-E'
    cccdlflags='-fPIC', lddlflags='-shared -O2 -L/usr/local/lib -fstack-protector'


Characteristics of this binary (from libperl): 
  Compile-time options: HAS_TIMES PERLIO_LAYERS PERL_DONT_CREATE_GVSV
                        PERL_HASH_FUNC_ONE_AT_A_TIME_HARD PERL_MALLOC_WRAP
                        PERL_PRESERVE_IVUV PERL_SAWAMPERSAND USE_64_BIT_ALL
                        USE_64_BIT_INT USE_LARGE_FILES USE_LOCALE
                        USE_LOCALE_COLLATE USE_LOCALE_CTYPE
                        USE_LOCALE_NUMERIC USE_PERLIO USE_PERL_ATOF
  Built under linux
  Compiled at Nov 16 2013 12:51:02
  %ENV:
    PERL5LIB=":/opt/perl-5.18.1/.cpanplus/5.18.1/build/App-SmokeBox-PerlVersion-0.16/blib/lib:/opt/perl-5.18.1/.cpanplus/5.18.1/build/App-SmokeBox-PerlVersion-0.16/blib/arch"
    PERL5_CPANIDX_URL="http://cpan.mirror.local/cpanidx/"
    PERL5_CPANPLUS_IS_RUNNING="24603"
    PERL5_CPANPLUS_IS_VERSION="0.9142"
    PERL_EXTUTILS_AUTOINSTALL="--defaultdeps"
    PERL_MM_USE_DEFAULT="1"
  @INC:
    /opt/perl-5.18.1/.cpanplus/5.18.1/build/App-SmokeBox-PerlVersion-0.16/blib/lib
    /opt/perl-5.18.1/.cpanplus/5.18.1/build/App-SmokeBox-PerlVersion-0.16/blib/arch
    /opt/perl-5.18.1/lib/site_perl/5.18.1/x86_64-linux
    /opt/perl-5.18.1/lib/site_perl/5.18.1
    /opt/perl-5.18.1/lib/5.18.1/x86_64-linux
    /opt/perl-5.18.1/lib/5.18.1
    .