HTML-Scrubber v0.19 Perl 5 v5.26.3 x86_64-linux-thread-multi
- Status
- Pass
- From
- Nigel Horne
- Dist
-
HTML-Scrubber v0.19
- Platform
- Perl 5 v5.26.3 x86_64-linux-thread-multi
- Date
- 2019-09-24 13:37:02
- ID
- 63c8e45e-ded0-11e9-a65e-fe3acca03743
This distribution has been tested as part of the CPAN Testers
project, supporting the Perl programming language. See
http://wiki.cpantesters.org/ for more information or email
questions to cpan-testers-discuss@perl.org
--
Dear Nigel Metheringham,
This is a computer-generated report for HTML-Scrubber-0.19
on perl 5.26.3, created by CPAN-Reporter-1.2018.
Thank you for uploading your work to CPAN. Congratulations!
All tests were successful.
Sections of this report:
* Tester comments
* Program output
* Prerequisites
* Environment and other context
------------------------------
TESTER COMMENTS
------------------------------
Additional comments from tester:
this report is from an automated smoke testing program
and was not reviewed by a human for accuracy
------------------------------
PROGRAM OUTPUT
------------------------------
Output from '/usr/bin/make test':
PERL_DL_NONLAZY=1 "/home/smoker/perl5/perlbrew/perls/perl-5.26.3-thread/bin/perl5.26.3" "-MExtUtils::Command::MM" "-MTest::Harness" "-e" "undef *Test::Harness::Switches; test_harness(0, 'blib/lib', 'blib/arch')" t/*.t
# Testing HTML::Scrubber 0.19, Perl 5.026003, /home/smoker/perl5/perlbrew/perls/perl-5.26.3-thread/bin/perl5.26.3
t/01_use.t ...................... ok
t/02_basic.t .................... ok
t/05_pi_comment.t ............... ok
t/08_cb_attrs.t ................. ok
t/03_more.t ..................... ok
t/04_style_script.t ............. ok
t/07_booleans.t ................. ok
t/09_no_scrub_warnings.t ........ ok
t/09_memory_cycle.t ............. ok
t/jvn53973084.t ................. ok
t/rt120384_remove_false_tags.t .. ok
t/06_scrub_file.t ............... ok
t/rt19063_xhtml.t ............... ok
t/rt72659_utf8.t ................ ok
t/rt25477_self_closing.t ........ ok
t/rt79044_multiple.t ............ ok
#
# Versions for all modules listed in MYMETA.json (including optional ones):
#
# === Configure Requires ===
#
# Module Want Have
# ------------------- ---- ----
# ExtUtils::MakeMaker any 7.34
#
# === Build Requires ===
#
# Module Want Have
# ------------------- ---- ----
# ExtUtils::MakeMaker any 7.34
#
# === Test Requires ===
#
# Module Want Have
# ------------------- ---- --------
# ExtUtils::MakeMaker any 7.34
# File::Spec any 3.75
# File::Temp any 0.2304
# Test any 1.30
# Test::Differences any 0.67
# Test::Memory::Cycle any 1.06
# Test::More 0.88 1.302073
# utf8 any 1.19
#
# === Test Recommends ===
#
# Module Want Have
# ---------- -------- --------
# CPAN::Meta 2.120900 2.150010
#
# === Runtime Requires ===
#
# Module Want Have
# -------------- ---- -------
# HTML::Entities any 3.69
# HTML::Parser 3.47 3.72
# List::Util 1.33 1.46_02
# Scalar::Util any 1.46_02
# strict any 1.11
# warnings any 1.37
#
t/00-report-prereqs.t ........... ok
All tests successful.
Files=17, Tests=172, 0 wallclock secs ( 0.06 usr 0.01 sys + 0.86 cusr 0.39 csys = 1.32 CPU)
Result: PASS
------------------------------
PREREQUISITES
------------------------------
Prerequisite modules loaded:
requires:
Module Need Have
------------------- ----- --------
HTML::Entities 0 3.69
HTML::Parser 3.47 3.72
List::Util 1.33 1.46_02
perl 5.008 5.026003
Scalar::Util 0 1.46_02
strict 0 1.11
warnings 0 1.37
build_requires:
Module Need Have
------------------- ----- --------
ExtUtils::MakeMaker 0 7.34
File::Spec 0 3.75
File::Temp 0 0.2304
Test 0 1.30
Test::Differences 0 0.67
Test::Memory::Cycle 0 1.06
Test::More 0.88 1.302073
utf8 0 1.19
configure_requires:
Module Need Have
------------------- ----- --------
ExtUtils::MakeMaker 0 7.34
------------------------------
ENVIRONMENT AND OTHER CONTEXT
------------------------------
Environment variables:
AUTOMATED_TESTING = 1
HARNESS_OPTIONS = j10
NONINTERACTIVE_TESTING = 1
PATH = /home/smoker/perl5/perlbrew/bin:/home/smoker/perl5/perlbrew/perls/perl-5.26.3-thread/bin:/usr/local/sbin:/usr/local/bin:/usr/sbin:/usr/bin:/sbin:/bin
PERL5LIB = /tmp/build/Test-Memory-Cycle-1.06-0/blib/arch:/tmp/build/Test-Memory-Cycle-1.06-0/blib/lib:/tmp/build/PadWalker-2.3-0/blib/arch:/tmp/build/PadWalker-2.3-0/blib/lib:/tmp/build/Devel-Cycle-1.12-0/blib/arch:/tmp/build/Devel-Cycle-1.12-0/blib/lib:/tmp/build/Test-Differences-0.67-0/blib/arch:/tmp/build/Test-Differences-0.67-0/blib/lib
PERL5OPT =
PERL5_CPANPLUS_IS_RUNNING = 36
PERL5_CPAN_IS_RUNNING = 36
PERLBREW_HOME = /home/smoker/.perlbrew
PERLBREW_MANPATH = /home/smoker/perl5/perlbrew/perls/perl-5.26.3-thread/man
PERLBREW_PATH = /home/smoker/perl5/perlbrew/bin:/home/smoker/perl5/perlbrew/perls/perl-5.26.3-thread/bin
PERLBREW_PERL = perl-5.26.3-thread
PERLBREW_ROOT = /home/smoker/perl5/perlbrew
PERLBREW_SHELLRC_VERSION = 0.86
PERLBREW_VERSION = 0.86
PERL_MM_USE_DEFAULT = 1
PERL_USE_UNSAFE_INC = 1
SHELL = /bin/bash
TERM = xterm
TMPDIR = /tmp/testwrapper.25
Perl special variables (and OS-specific diagnostics, for MSWin32):
$^X = /home/smoker/perl5/perlbrew/perls/perl-5.26.3-thread/bin/perl5.26.3
$UID/$EUID = 1000 / 1000
$GID = 1000
$EGID = 1000
Perl module toolchain versions installed:
Module Have
------------------- ----------
CPAN 2.22
CPAN::Meta 2.150010
Cwd 3.75
ExtUtils::CBuilder 0.280225
ExtUtils::Command 7.34
ExtUtils::Install 2.06
ExtUtils::MakeMaker 7.34
ExtUtils::Manifest 1.70
ExtUtils::ParseXS 3.34
File::Spec 3.75
JSON 4.00
JSON::PP 2.27400_02
Module::Build 0.4224
Module::Signature n/a
Parse::CPAN::Meta 2.150010
Test::Harness 3.38
Test::More 1.302073
YAML 1.27
YAML::Syck 1.31
version 0.9917
--
Summary of my perl5 (revision 5 version 26 subversion 3) configuration:
Platform:
osname=linux
osvers=4.19.0-1-amd64
archname=x86_64-linux-thread-multi
uname='linux 1a4329f5b08b 4.19.0-1-amd64 #1 smp debian 4.19.12-1 (2018-12-22) x86_64 gnulinux '
config_args='-de -Dprefix=/home/smoker/perl5/perlbrew/perls/perl-5.26.3-thread -Dusedevel -Dusethreads -Accflags=-O2 -pipe -Wall -Wextra -mtune=native -march=native -Aeval:scriptdir=/home/smoker/perl5/perlbrew/perls/perl-5.26.3-thread/bin'
hint=recommended
useposix=true
d_sigaction=define
useithreads=define
usemultiplicity=define
use64bitint=define
use64bitall=define
uselongdouble=undef
usemymalloc=n
default_inc_excludes_dot=define
bincompat5005=undef
Compiler:
cc='cc'
ccflags ='-D_REENTRANT -D_GNU_SOURCE -O2 -pipe -Wall -Wextra -mtune=native -march=native -fwrapv -fno-strict-aliasing -fstack-protector-strong -I/usr/local/include -D_LARGEFILE_SOURCE -D_FILE_OFFSET_BITS=64 -D_FORTIFY_SOURCE=2'
optimize='-O2'
cppflags='-D_REENTRANT -D_GNU_SOURCE -O2 -pipe -Wall -Wextra -mtune=native -march=native -fwrapv -fno-strict-aliasing -fstack-protector-strong -I/usr/local/include'
ccversion=''
gccversion='6.3.0 20170516'
gccosandvers=''
intsize=4
longsize=8
ptrsize=8
doublesize=8
byteorder=12345678
doublekind=3
d_longlong=define
longlongsize=8
d_longdbl=define
longdblsize=16
longdblkind=3
ivtype='long'
ivsize=8
nvtype='double'
nvsize=8
Off_t='off_t'
lseeksize=8
alignbytes=8
prototype=define
Linker and Libraries:
ld='cc'
ldflags =' -fstack-protector-strong -L/usr/local/lib'
libpth=/usr/local/lib /usr/lib/gcc/x86_64-linux-gnu/6/include-fixed /usr/include/x86_64-linux-gnu /usr/lib /lib/x86_64-linux-gnu /lib/../lib /usr/lib/x86_64-linux-gnu /usr/lib/../lib /lib
libs=-lpthread -lnsl -ldl -lm -lcrypt -lutil -lc
perllibs=-lpthread -lnsl -ldl -lm -lcrypt -lutil -lc
libc=libc-2.24.so
so=so
useshrplib=false
libperl=libperl.a
gnulibc_version='2.24'
Dynamic Linking:
dlsrc=dl_dlopen.xs
dlext=so
d_dlsymun=undef
ccdlflags='-Wl,-E'
cccdlflags='-fPIC'
lddlflags='-shared -O2 -L/usr/local/lib -fstack-protector-strong'
Characteristics of this binary (from libperl):
Compile-time options:
HAS_TIMES
MULTIPLICITY
PERLIO_LAYERS
PERL_COPY_ON_WRITE
PERL_DONT_CREATE_GVSV
PERL_IMPLICIT_CONTEXT
PERL_MALLOC_WRAP
PERL_OP_PARENT
PERL_PRESERVE_IVUV
PERL_USE_DEVEL
USE_64_BIT_ALL
USE_64_BIT_INT
USE_ITHREADS
USE_LARGE_FILES
USE_LOCALE
USE_LOCALE_COLLATE
USE_LOCALE_CTYPE
USE_LOCALE_NUMERIC
USE_LOCALE_TIME
USE_PERLIO
USE_PERL_ATOF
USE_REENTRANT_API
Locally applied patches:
Devel::PatchPerl 1.52
Built under linux
Compiled at Jan 19 2019 18:11:24
%ENV:
PERL5LIB="/tmp/build/Test-Memory-Cycle-1.06-0/blib/arch:/tmp/build/Test-Memory-Cycle-1.06-0/blib/lib:/tmp/build/PadWalker-2.3-0/blib/arch:/tmp/build/PadWalker-2.3-0/blib/lib:/tmp/build/Devel-Cycle-1.12-0/blib/arch:/tmp/build/Devel-Cycle-1.12-0/blib/lib:/tmp/build/Test-Differences-0.67-0/blib/arch:/tmp/build/Test-Differences-0.67-0/blib/lib"
PERL5OPT=""
PERL5_CPANPLUS_IS_RUNNING="36"
PERL5_CPAN_IS_RUNNING="36"
PERLBREW_HOME="/home/smoker/.perlbrew"
PERLBREW_MANPATH="/home/smoker/perl5/perlbrew/perls/perl-5.26.3-thread/man"
PERLBREW_PATH="/home/smoker/perl5/perlbrew/bin:/home/smoker/perl5/perlbrew/perls/perl-5.26.3-thread/bin"
PERLBREW_PERL="perl-5.26.3-thread"
PERLBREW_ROOT="/home/smoker/perl5/perlbrew"
PERLBREW_SHELLRC_VERSION="0.86"
PERLBREW_VERSION="0.86"
PERL_MM_USE_DEFAULT="1"
PERL_USE_UNSAFE_INC="1"
@INC:
/tmp/build/Test-Memory-Cycle-1.06-0/blib/arch
/tmp/build/Test-Memory-Cycle-1.06-0/blib/lib
/tmp/build/PadWalker-2.3-0/blib/arch
/tmp/build/PadWalker-2.3-0/blib/lib
/tmp/build/Devel-Cycle-1.12-0/blib/arch
/tmp/build/Devel-Cycle-1.12-0/blib/lib
/tmp/build/Test-Differences-0.67-0/blib/arch
/tmp/build/Test-Differences-0.67-0/blib/lib
/home/smoker/perl5/perlbrew/perls/perl-5.26.3-thread/lib/site_perl/5.26.3/x86_64-linux-thread-multi
/home/smoker/perl5/perlbrew/perls/perl-5.26.3-thread/lib/site_perl/5.26.3
/home/smoker/perl5/perlbrew/perls/perl-5.26.3-thread/lib/5.26.3/x86_64-linux-thread-multi
/home/smoker/perl5/perlbrew/perls/perl-5.26.3-thread/lib/5.26.3
.