ack vv3.7.0 Perl 5 v5.24.0 amd64-freebsd

Status
Pass
From
Slaven Rezić
Dist
ack vv3.7.0
Platform
Perl 5 v5.24.0 amd64-freebsd
Date
2023-03-06 20:06:33
ID
64110c8c-bc5a-11ed-ab0e-5c386e8775ea
This distribution has been tested as part of the CPAN Testers
project, supporting the Perl programming language.  See
http://wiki.cpantesters.org/ for more information or email
questions to cpan-testers-discuss@perl.org


--
Dear Andy Lester,

This is a computer-generated report for ack-v3.7.0
on perl 5.24.0, created by CPAN-Reporter-1.2018.

Thank you for uploading your work to CPAN.  Congratulations!
All tests were successful.

Sections of this report:

    * Tester comments
    * Program output
    * Prerequisites
    * Environment and other context

------------------------------
TESTER COMMENTS
------------------------------

Additional comments from tester:

none provided

------------------------------
PROGRAM OUTPUT
------------------------------

Output from '/usr/bin/make test':

Manifying 1 pod document
"/usr/perl5.24.0p/bin/perl" t/runtests.pl 0 0 "blib/lib" "blib/arch" t/*.t
Running tests on blib/script/ack, ACK_TEST_STANDALONE=0
# Testing ack v3.7.0 under Perl v5.24.0, /usr/perl5.24.0p/bin/perl
# Using File::Next 1.18
# Using File::Spec 3.75
# Using Getopt::Long 2.54
# Using Pod::Perldoc 3.28
# Using Pod::Text 5.01
# Using Pod::Usage 2.03
# Using Term::ANSIColor 5.01
# Using Test::Harness 3.44
# Using Test::More 1.302191
# PATH=/usr/local/bin:/usr/bin:/bin:/usr/local/sbin:/usr/sbin:/sbin:/home/cpansand/bin/freebsd10.3:/home/cpansand/bin/sh:/home/cpansand/bin:/usr/games:/home/cpansand/devel:/home/eserte/src/srezic-misc/scripts
t/00-load.t .................. ok
t/ack-1.t .................... ok
t/ack-c.t .................... ok
t/ack-color.t ................ ok
t/ack-column.t ............... ok
t/ack-create-ackrc.t ......... ok
t/ack-dump.t ................. ok
t/ack-f.t .................... ok
t/ack-files-from.t ........... ok
t/ack-g.t .................... ok
t/ack-group.t ................ ok
t/ack-h.t .................... ok
t/ack-help-types.t ........... ok
t/ack-help.t ................. ok
t/ack-i.t .................... ok
t/ack-ignore-dir.t ........... ok
t/ack-ignore-file.t .......... ok
t/ack-k.t .................... ok
t/ack-l.t .................... ok
t/ack-m.t .................... ok
# 1106
t/ack-man.t .................. ok
t/ack-match.t ................ ok
t/ack-n.t .................... ok
t/ack-o.t .................... ok
t/ack-output.t ............... ok
t/ack-pager.t ................ ok
t/ack-passthru.t ............. ok
t/ack-print0.t ............... ok
t/ack-proximate.t ............ ok
t/ack-Q.t .................... ok
cannot chdir to child for /var/tmp/cpansmoker-1023/2023030521/E_c9cRWllp/foo: Permission denied at /usr/perl5.24.0p/lib/site_perl/5.24.0/File/Temp.pm line 2643.
cannot remove directory for /var/tmp/cpansmoker-1023/2023030521/E_c9cRWllp: Directory not empty at /usr/perl5.24.0p/lib/site_perl/5.24.0/File/Temp.pm line 2643.
t/ack-s.t .................... ok
t/ack-show-types.t ........... ok
t/ack-type-del.t ............. ok
t/ack-type.t ................. ok
t/ack-underline.t ............ ok
t/ack-v.t .................... ok
t/ack-version.t .............. ok
t/ack-w.t .................... ok
t/ack-x.t .................... ok
t/anchored.t ................. ok
t/bad-ackrc-opt.t ............ ok
t/basic.t .................... ok
t/command-line-files.t ....... ok
t/config-backwards-compat.t .. ok
t/config-finder.t ............ ok
t/config-loader.t ............ ok
t/context-with-newlines.t .... ok
t/context.t .................. ok
t/default-filter.t ........... ok
t/double-hyphen.t ............ ok
t/empty-lines.t .............. ok
t/exit-code.t ................ ok
t/ext-filter.t ............... ok
t/file-iterator.t ............ ok
t/file-permission.t .......... ok
t/filetype-detection.t ....... ok
t/filetypes.t ................ ok
t/filter.t ................... ok
t/firstlinematch-filter.t .... ok
t/forbidden-options.t ........ ok
t/from-stdin.t ............... ok
t/highlighting.t ............. ok
t/illegal-regex.t ............ ok
t/incomplete-last-line.t ..... ok
t/interactive.t .............. ok
t/invalid-ackrc.t ............ ok
t/invalid-options.t .......... ok
t/inverted-file-filter.t ..... ok
t/is-filter.t ................ ok
t/line-endings.t ............. ok
t/longopts.t ................. ok
t/lowercase.t ................ ok
t/match-filter.t ............. ok
t/multiple-captures.t ........ ok
t/mutex-options.t ............ ok
t/named-pipes.t .............. ok
t/needs-line-scan.t .......... ok
t/noackrc.t .................. ok
t/noenv.t .................... ok
t/prescan-line-boundaries.t .. ok
Can't exec "bash": No such file or directory at t/process-substitution.t line 21.
t/process-substitution.t ..... skipped: You need bash to run this test
t/trailing-whitespace.t ...... ok
t/zero.t ..................... ok
All tests successful.
Files=83, Tests=943, 116 wallclock secs ( 0.34 usr  0.45 sys + 36.24 cusr 20.98 csys = 58.02 CPU)
Result: PASS
"/usr/perl5.24.0p/bin/perl" squash ack lib/App/Ack.pm   lib/App/Ack/ConfigDefault.pm  lib/App/Ack/ConfigFinder.pm  lib/App/Ack/ConfigLoader.pm  lib/App/Ack/File.pm  lib/App/Ack/Files.pm  lib/App/Ack/Filter.pm   lib/App/Ack/Filter/Collection.pm  lib/App/Ack/Filter/Default.pm  lib/App/Ack/Filter/Extension.pm  lib/App/Ack/Filter/ExtensionGroup.pm  lib/App/Ack/Filter/FirstLineMatch.pm  lib/App/Ack/Filter/Inverse.pm  lib/App/Ack/Filter/Is.pm  lib/App/Ack/Filter/IsGroup.pm  lib/App/Ack/Filter/IsPath.pm  lib/App/Ack/Filter/IsPathGroup.pm  lib/App/Ack/Filter/Match.pm  lib/App/Ack/Filter/MatchGroup.pm File::Next  > ack-standalone
Reading ack
Reading lib/App/Ack.pm
Reading lib/App/Ack/ConfigDefault.pm
Reading lib/App/Ack/ConfigFinder.pm
Reading lib/App/Ack/ConfigLoader.pm
Reading lib/App/Ack/File.pm
Reading lib/App/Ack/Files.pm
Reading lib/App/Ack/Filter.pm
Reading lib/App/Ack/Filter/Collection.pm
Reading lib/App/Ack/Filter/Default.pm
Reading lib/App/Ack/Filter/Extension.pm
Reading lib/App/Ack/Filter/ExtensionGroup.pm
Reading lib/App/Ack/Filter/FirstLineMatch.pm
Reading lib/App/Ack/Filter/Inverse.pm
Reading lib/App/Ack/Filter/Is.pm
Reading lib/App/Ack/Filter/IsGroup.pm
Reading lib/App/Ack/Filter/IsPath.pm
Reading lib/App/Ack/Filter/IsPathGroup.pm
Reading lib/App/Ack/Filter/Match.pm
Reading lib/App/Ack/Filter/MatchGroup.pm
Reading /usr/perl5.24.0p/lib/site_perl/5.24.0/File/Next.pm
"/usr/perl5.24.0p/bin/perl" -MExtUtils::MY -e 'MY->fixin(shift)' -- ack-standalone
"/usr/perl5.24.0p/bin/perl" -c ack-standalone
ack-standalone syntax OK
"/usr/perl5.24.0p/bin/perl" t/runtests.pl 1 0 "blib/lib" "blib/arch" t/*.t
Running tests on ack-standalone, ACK_TEST_STANDALONE=1
# Testing ack v3.7.0 under Perl v5.24.0, /usr/perl5.24.0p/bin/perl
# Using File::Next 1.18
# Using File::Spec 3.75
# Using Getopt::Long 2.54
# Using Pod::Perldoc 3.28
# Using Pod::Text 5.01
# Using Pod::Usage 2.03
# Using Term::ANSIColor 5.01
# Using Test::Harness 3.44
# Using Test::More 1.302191
# PATH=/usr/local/bin:/usr/bin:/bin:/usr/local/sbin:/usr/sbin:/sbin:/home/cpansand/bin/freebsd10.3:/home/cpansand/bin/sh:/home/cpansand/bin:/usr/games:/home/cpansand/devel:/home/eserte/src/srezic-misc/scripts
t/00-load.t .................. ok
t/ack-1.t .................... ok
t/ack-c.t .................... ok
t/ack-color.t ................ ok
t/ack-column.t ............... ok
t/ack-create-ackrc.t ......... ok
t/ack-dump.t ................. ok
t/ack-f.t .................... ok
t/ack-files-from.t ........... ok
t/ack-g.t .................... ok
t/ack-group.t ................ ok
t/ack-h.t .................... ok
t/ack-help-types.t ........... ok
t/ack-help.t ................. ok
t/ack-i.t .................... ok
t/ack-ignore-dir.t ........... ok
t/ack-ignore-file.t .......... ok
t/ack-k.t .................... ok
t/ack-l.t .................... ok
t/ack-m.t .................... ok
# 1106
t/ack-man.t .................. ok
t/ack-match.t ................ ok
t/ack-n.t .................... ok
t/ack-o.t .................... ok
t/ack-output.t ............... ok
t/ack-pager.t ................ ok
t/ack-passthru.t ............. ok
t/ack-print0.t ............... ok
t/ack-proximate.t ............ ok
t/ack-Q.t .................... ok
cannot chdir to child for /var/tmp/cpansmoker-1023/2023030521/5NbLWevIi8/foo: Permission denied at /usr/perl5.24.0p/lib/site_perl/5.24.0/File/Temp.pm line 2643.
cannot remove directory for /var/tmp/cpansmoker-1023/2023030521/5NbLWevIi8: Directory not empty at /usr/perl5.24.0p/lib/site_perl/5.24.0/File/Temp.pm line 2643.
t/ack-s.t .................... ok
t/ack-show-types.t ........... ok
t/ack-type-del.t ............. ok
t/ack-type.t ................. ok
t/ack-underline.t ............ ok
t/ack-v.t .................... ok
t/ack-version.t .............. ok
t/ack-w.t .................... ok
t/ack-x.t .................... ok
t/anchored.t ................. ok
t/bad-ackrc-opt.t ............ ok
t/basic.t .................... ok
t/command-line-files.t ....... ok
t/config-backwards-compat.t .. ok
t/config-finder.t ............ ok
t/config-loader.t ............ ok
t/context-with-newlines.t .... ok
t/context.t .................. ok
t/default-filter.t ........... ok
t/double-hyphen.t ............ ok
t/empty-lines.t .............. ok
t/exit-code.t ................ ok
t/ext-filter.t ............... ok
t/file-iterator.t ............ ok
t/file-permission.t .......... ok
t/filetype-detection.t ....... ok
t/filetypes.t ................ ok
t/filter.t ................... ok
t/firstlinematch-filter.t .... ok
t/forbidden-options.t ........ ok
t/from-stdin.t ............... ok
t/highlighting.t ............. ok
t/illegal-regex.t ............ ok
t/incomplete-last-line.t ..... ok
t/interactive.t .............. ok
t/invalid-ackrc.t ............ ok
t/invalid-options.t .......... ok
t/inverted-file-filter.t ..... ok
t/is-filter.t ................ ok
t/line-endings.t ............. ok
t/longopts.t ................. ok
t/lowercase.t ................ ok
t/match-filter.t ............. ok
t/multiple-captures.t ........ ok
t/mutex-options.t ............ ok
t/named-pipes.t .............. ok
t/needs-line-scan.t .......... ok
t/noackrc.t .................. ok
t/noenv.t .................... ok
t/prescan-line-boundaries.t .. ok
Can't exec "bash": No such file or directory at t/process-substitution.t line 21.
t/process-substitution.t ..... skipped: You need bash to run this test
t/trailing-whitespace.t ...... ok
t/zero.t ..................... ok
All tests successful.
Files=83, Tests=943, 98 wallclock secs ( 0.42 usr  0.27 sys + 34.65 cusr 21.18 csys = 56.52 CPU)
Result: PASS

------------------------------
PREREQUISITES
------------------------------

Prerequisite modules loaded:

requires:

    Module              Need     Have    
    ------------------- -------- --------
    Cwd                 3.00     3.75    
    File::Basename      1.00015  2.85    
    File::Next          1.18     1.18    
    File::Spec          3.00     3.75    
    File::Temp          0.19     0.2311  
    filetest            0        1.03    
    Getopt::Long        2.38     2.54    
    if                  0        0.0608  
    List::Util          0        1.63    
    parent              0        0.239   
    perl                5.010001 5.024000
    Pod::Perldoc        3.20     3.28    
    Pod::Text           0        5.01    
    Pod::Usage          1.26     2.03    
    Scalar::Util        0        1.63    
    Term::ANSIColor     1.10     5.01    
    Test::Harness       2.50     3.44    
    Test::More          0.98     1.302191
    Text::ParseWords    3.1      3.31    
    version             0        0.9929  

build_requires:

    Module              Need     Have    
    ------------------- -------- --------
    ExtUtils::MakeMaker 0        7.66    

configure_requires:

    Module              Need     Have    
    ------------------- -------- --------
    ExtUtils::MakeMaker 0        7.66    


------------------------------
ENVIRONMENT AND OTHER CONTEXT
------------------------------

Environment variables:

    LC_ALL = C
    PATH = /usr/local/bin:/usr/bin:/bin:/usr/local/sbin:/usr/sbin:/sbin:/home/cpansand/bin/freebsd10.3:/home/cpansand/bin/sh:/home/cpansand/bin:/usr/games:/home/cpansand/devel:/home/eserte/src/srezic-misc/scripts
    PERL5LIB = 
    PERL5OPT = 
    PERL5_CPANPLUS_IS_RUNNING = 50391
    PERL5_CPAN_IS_RUNNING = 50391
    PERL5_CPAN_IS_RUNNING_IN_RECURSION = 60349,50391
    PERLDOC = -MPod::Perldoc::ToTextOverstrike
    PERL_BATCH = yes
    PERL_CANARY_STABILITY_NOPROMPT = 1
    PERL_CPAN_REPORTER_CONFIG = /var/tmp/cpansmoker-1023/2023030521/cpanreporter_000_config.ini
    PERL_EXTUTILS_AUTOINSTALL = --defaultdeps
    PERL_USE_UNSAFE_INC = 1
    SHELL = /usr/local/bin/zsh
    TERM = screen
    TMPDIR = /var/tmp/cpansmoker-1023/2023030521

Perl special variables (and OS-specific diagnostics, for MSWin32):

    $^X = /usr/perl5.24.0p/bin/perl
    $UID/$EUID = 1023 / 1023
    $GID = 1023 1023
    $EGID = 1023 1023

Perl module toolchain versions installed:

    Module              Have    
    ------------------- --------
    CPAN                2.34    
    CPAN::Meta          2.150010
    Cwd                 3.75    
    ExtUtils::CBuilder  0.280236
    ExtUtils::Command   7.66    
    ExtUtils::Install   2.22    
    ExtUtils::MakeMaker 7.66    
    ExtUtils::Manifest  1.70    
    ExtUtils::ParseXS   3.35    
    File::Spec          3.75    
    JSON                4.10    
    JSON::PP            4.16    
    Module::Build       0.4232  
    Module::Signature   0.87    
    Parse::CPAN::Meta   2.150010
    Test::Harness       3.44    
    Test::More          1.302191
    YAML                1.30    
    YAML::Syck          1.34    
    version             0.9929  


--

Summary of my perl5 (revision 5 version 24 subversion 0) configuration:
   
  Platform:
    osname=freebsd, osvers=10.1-release, archname=amd64-freebsd
    uname='freebsd cvrsnica-freebsd-101.herceg.de 10.1-release freebsd 10.1-release #0 r274401: tue nov 11 21:02:49 utc 2014 root@releng1.nyi.freebsd.org:usrobjusrsrcsysgeneric amd64 '
    config_args='-ds -e -Dprefix=/usr/perl5.24.0p -Dcf_email=srezic@cpan.org -Doptimize=-O2 -pipe'
    hint=recommended, useposix=true, d_sigaction=define
    useithreads=undef, usemultiplicity=undef
    use64bitint=define, use64bitall=define, uselongdouble=undef
    usemymalloc=n, bincompat5005=undef
  Compiler:
    cc='cc', ccflags ='-DHAS_FPSETMASK -DHAS_FLOATINGPOINT_H -fno-strict-aliasing -pipe -fstack-protector -I/usr/local/include -D_FORTIFY_SOURCE=2',
    optimize='-O2 -pipe',
    cppflags='-DHAS_FPSETMASK -DHAS_FLOATINGPOINT_H -fno-strict-aliasing -pipe -fstack-protector -I/usr/local/include'
    ccversion='', gccversion='4.2.1 Compatible FreeBSD Clang 3.4.1 (tags/RELEASE_34/dot1-final 208032)', gccosandvers=''
    intsize=4, longsize=8, ptrsize=8, doublesize=8, byteorder=12345678, doublekind=3
    d_longlong=define, longlongsize=8, d_longdbl=define, longdblsize=16, longdblkind=3
    ivtype='long', ivsize=8, nvtype='double', nvsize=8, Off_t='off_t', lseeksize=8
    alignbytes=8, prototype=define
  Linker and Libraries:
    ld='cc', ldflags ='-pthread -Wl,-E  -fstack-protector -L/usr/local/lib'
    libpth=/usr/lib /usr/local/lib /usr/include/clang/3.4.1 /usr/lib
    libs=-lpthread -lgdbm -lm -lcrypt -lutil -lc
    perllibs=-lpthread -lm -lcrypt -lutil -lc
    libc=, so=so, useshrplib=false, libperl=libperl.a
    gnulibc_version=''
  Dynamic Linking:
    dlsrc=dl_dlopen.xs, dlext=so, d_dlsymun=undef, ccdlflags=' '
    cccdlflags='-DPIC -fPIC', lddlflags='-shared  -L/usr/local/lib -fstack-protector'


Characteristics of this binary (from libperl): 
  Compile-time options: HAS_TIMES PERLIO_LAYERS PERL_COPY_ON_WRITE
                        PERL_DONT_CREATE_GVSV
                        PERL_HASH_FUNC_ONE_AT_A_TIME_HARD PERL_MALLOC_WRAP
                        PERL_PRESERVE_IVUV USE_64_BIT_ALL USE_64_BIT_INT
                        USE_LARGE_FILES USE_LOCALE USE_LOCALE_COLLATE
                        USE_LOCALE_CTYPE USE_LOCALE_NUMERIC USE_LOCALE_TIME
                        USE_PERLIO USE_PERL_ATOF
  Built under freebsd
  Compiled at May 10 2016 08:49:38
  %ENV:
    PERL5LIB=""
    PERL5OPT=""
    PERL5_CPANPLUS_IS_RUNNING="50391"
    PERL5_CPAN_IS_RUNNING="50391"
    PERL5_CPAN_IS_RUNNING_IN_RECURSION="60349,50391"
    PERLDOC="-MPod::Perldoc::ToTextOverstrike"
    PERL_BATCH="yes"
    PERL_CANARY_STABILITY_NOPROMPT="1"
    PERL_CPAN_REPORTER_CONFIG="/var/tmp/cpansmoker-1023/2023030521/cpanreporter_000_config.ini"
    PERL_EXTUTILS_AUTOINSTALL="--defaultdeps"
    PERL_USE_UNSAFE_INC="1"
  @INC:
    /usr/perl5.24.0p/lib/site_perl/5.24.0/amd64-freebsd
    /usr/perl5.24.0p/lib/site_perl/5.24.0
    /usr/perl5.24.0p/lib/5.24.0/amd64-freebsd
    /usr/perl5.24.0p/lib/5.24.0
    .