Catalyst-View-HTML-Zoom v0.003 Perl 5 v5.39.2 x86_64-linux
- Status
- Pass
- From
- Andreas J. König (ANDK)
- Dist
-
Catalyst-View-HTML-Zoom v0.003
- Platform
- Perl 5 v5.39.2 x86_64-linux
- Date
- 2023-08-21 21:26:29
- ID
- 64250eba-4069-11ee-abd6-9ccceee94e4e
This distribution has been tested as part of the CPAN Testers
project, supporting the Perl programming language. See
http://wiki.cpantesters.org/ for more information or email
questions to cpan-testers-discuss@perl.org
--
Dear Oliver Charles,
This is a computer-generated report for Catalyst-View-HTML-Zoom-0.003
on perl 5.39.2, created by CPAN-Reporter-1.2019.
Thank you for uploading your work to CPAN. Congratulations!
All tests were successful.
Sections of this report:
* Tester comments
* Program output
* Prerequisites
* Environment and other context
------------------------------
TESTER COMMENTS
------------------------------
Additional comments from tester:
this report is from an automated smoke testing program
and was not reviewed by a human for accuracy
------------------------------
PROGRAM OUTPUT
------------------------------
Output from '/usr/bin/make test':
PERL_DL_NONLAZY=1 "/tmp/basesmoker-reloperl-Dq7W/bin/perl" "-MExtUtils::Command::MM" "-MTest::Harness" "-e" "undef *Test::Harness::Switches; test_harness(0, 'blib/lib', 'blib/arch')" t/*.t
t/00-load.t ............... ok
t/author-pod-coverage.t ... skipped: these tests are for testing by the author
t/author-pod.t ............ skipped: these tests are for testing by the author
Class::MOP::load_class is deprecated at /home/sand/src/perl/repoperls/installed-perls/host/k93jammy/v5.39.2/6567/lib/site_perl/5.39.2/x86_64-linux/Class/MOP.pm line 69, <ARGV> line 1.
Class::MOP::load_class("TestAppAltRoot::View::HTML::Root") called at /tmp/loop_over_bdir-2467-5X_Rnc/Catalyst-View-HTML-Zoom-0.003-0/blib/lib/Catalyst/View/HTML/Zoom.pm line 138
Catalyst::View::HTML::Zoom::_zoomer_class_from_context(TestAppAltRoot::View::HTML=HASH(0x55f3b5f921e0), TestAppAltRoot=HASH(0x55f3b60b2c98)) called at /tmp/loop_over_bdir-2467-5X_Rnc/Catalyst-View-HTML-Zoom-0.003-0/blib/lib/Catalyst/View/HTML/Zoom.pm line 90
Catalyst::View::HTML::Zoom::_build_renderer_from_zoomer_class(TestAppAltRoot::View::HTML=HASH(0x55f3b5f921e0), TestAppAltRoot=HASH(0x55f3b60b2c98)) called at /tmp/loop_over_bdir-2467-5X_Rnc/Catalyst-View-HTML-Zoom-0.003-0/blib/lib/Catalyst/View/HTML/Zoom.pm line 76
Catalyst::View::HTML::Zoom::_build_renderer_from(TestAppAltRoot::View::HTML=HASH(0x55f3b5f921e0), TestAppAltRoot=HASH(0x55f3b60b2c98), undef) called at /tmp/loop_over_bdir-2467-5X_Rnc/Catalyst-View-HTML-Zoom-0.003-0/blib/lib/Catalyst/View/HTML/Zoom.pm line 67
Catalyst::View::HTML::Zoom::render(TestAppAltRoot::View::HTML=HASH(0x55f3b5f921e0), TestAppAltRoot=HASH(0x55f3b60b2c98), "/main") called at /tmp/loop_over_bdir-2467-5X_Rnc/Catalyst-View-HTML-Zoom-0.003-0/blib/lib/Catalyst/View/HTML/Zoom.pm line 41
Catalyst::View::HTML::Zoom::process(TestAppAltRoot::View::HTML=HASH(0x55f3b5f921e0), TestAppAltRoot=HASH(0x55f3b60b2c98)) called at /home/sand/src/perl/repoperls/installed-perls/host/k93jammy/v5.39.2/6567/lib/site_perl/5.39.2/Catalyst/Action.pm line 374
Catalyst::Action::execute(Catalyst::Action=HASH(0x55f3b613ae08), TestAppAltRoot::View::HTML=HASH(0x55f3b5f921e0), TestAppAltRoot=HASH(0x55f3b60b2c98)) called at /home/sand/src/perl/repoperls/installed-perls/host/k93jammy/v5.39.2/6567/lib/site_perl/5.39.2/Catalyst.pm line 2067
eval {...} called at /home/sand/src/perl/repoperls/installed-perls/host/k93jammy/v5.39.2/6567/lib/site_perl/5.39.2/Catalyst.pm line 2067
Catalyst::execute(TestAppAltRoot=HASH(0x55f3b60b2c98), TestAppAltRoot::View::HTML=HASH(0x55f3b5f921e0), Catalyst::Action=HASH(0x55f3b613ae08)) called at /home/sand/src/perl/repoperls/installed-perls/host/k93jammy/v5.39.2/6567/lib/site_perl/5.39.2/Catalyst/Action.pm line 366
Catalyst::Action::dispatch(Catalyst::Action=HASH(0x55f3b613ae08), TestAppAltRoot=HASH(0x55f3b60b2c98)) called at /home/sand/src/perl/repoperls/installed-perls/host/k93jammy/v5.39.2/6567/lib/site_perl/5.39.2/Catalyst/Dispatcher.pm line 261
Catalyst::Dispatcher::_do_forward(Catalyst::Dispatcher=HASH(0x55f3b4e62a28), "forward", TestAppAltRoot=HASH(0x55f3b60b2c98), TestAppAltRoot::View::HTML=HASH(0x55f3b5f921e0)) called at /home/sand/src/perl/repoperls/installed-perls/host/k93jammy/v5.39.2/6567/lib/site_perl/5.39.2/Catalyst/Dispatcher.pm line 241
Catalyst::Dispatcher::forward(Catalyst::Dispatcher=HASH(0x55f3b4e62a28), TestAppAltRoot=HASH(0x55f3b60b2c98), TestAppAltRoot::View::HTML=HASH(0x55f3b5f921e0)) called at /home/sand/src/perl/repoperls/installed-perls/host/k93jammy/v5.39.2/6567/lib/site_perl/5.39.2/Catalyst.pm line 489
Catalyst::forward(TestAppAltRoot=HASH(0x55f3b60b2c98), TestAppAltRoot::View::HTML=HASH(0x55f3b5f921e0)) called at /home/sand/src/perl/repoperls/installed-perls/host/k93jammy/v5.39.2/6567/lib/site_perl/5.39.2/Catalyst/Action/RenderView.pm line 57
Catalyst::Action::RenderView::execute(Catalyst::Action::RenderView=HASH(0x55f3b6068aa0), TestAppAltRoot::Controller::Root=HASH(0x55f3b5f92270), TestAppAltRoot=HASH(0x55f3b60b2c98)) called at /home/sand/src/perl/repoperls/installed-perls/host/k93jammy/v5.39.2/6567/lib/site_perl/5.39.2/Catalyst.pm line 2067
eval {...} called at /home/sand/src/perl/repoperls/installed-perls/host/k93jammy/v5.39.2/6567/lib/site_perl/5.39.2/Catalyst.pm line 2067
Catalyst::execute(TestAppAltRoot=HASH(0x55f3b60b2c98), "TestAppAltRoot::Controller::Root", Catalyst::Action::RenderView=HASH(0x55f3b6068aa0)) called at /home/sand/src/perl/repoperls/installed-perls/host/k93jammy/v5.39.2/6567/lib/site_perl/5.39.2/Catalyst/Action.pm line 368
Catalyst::Action::dispatch(Catalyst::Action::RenderView=HASH(0x55f3b6068aa0), TestAppAltRoot=HASH(0x55f3b60b2c98)) called at /home/sand/src/perl/repoperls/installed-perls/host/k93jammy/v5.39.2/6567/lib/site_perl/5.39.2/Catalyst/Controller.pm line 188
Catalyst::Controller::_END(TestAppAltRoot::Controller::Root=HASH(0x55f3b5f92270), TestAppAltRoot=HASH(0x55f3b60b2c98)) called at /home/sand/src/perl/repoperls/installed-perls/host/k93jammy/v5.39.2/6567/lib/site_perl/5.39.2/Catalyst/Action.pm line 374
Catalyst::Action::execute(Catalyst::Action=HASH(0x55f3b5fdd7f0), TestAppAltRoot::Controller::Root=HASH(0x55f3b5f92270), TestAppAltRoot=HASH(0x55f3b60b2c98)) called at /home/sand/src/perl/repoperls/installed-perls/host/k93jammy/v5.39.2/6567/lib/site_perl/5.39.2/Catalyst.pm line 2067
eval {...} called at /home/sand/src/perl/repoperls/installed-perls/host/k93jammy/v5.39.2/6567/lib/site_perl/5.39.2/Catalyst.pm line 2067
Catalyst::execute(TestAppAltRoot=HASH(0x55f3b60b2c98), "TestAppAltRoot::Controller::Root", Catalyst::Action=HASH(0x55f3b5fdd7f0)) called at /home/sand/src/perl/repoperls/installed-perls/host/k93jammy/v5.39.2/6567/lib/site_perl/5.39.2/Catalyst/Action.pm line 368
Catalyst::Action::dispatch(Catalyst::Action=HASH(0x55f3b5fdd7f0), TestAppAltRoot=HASH(0x55f3b60b2c98)) called at /home/sand/src/perl/repoperls/installed-perls/host/k93jammy/v5.39.2/6567/lib/site_perl/5.39.2/Catalyst/Dispatcher.pm line 261
Catalyst::Dispatcher::_do_forward(Catalyst::Dispatcher=HASH(0x55f3b4e62a28), "forward", TestAppAltRoot=HASH(0x55f3b60b2c98), "_END") called at /home/sand/src/perl/repoperls/installed-perls/host/k93jammy/v5.39.2/6567/lib/site_perl/5.39.2/Catalyst/Dispatcher.pm line 241
Catalyst::Dispatcher::forward(Catalyst::Dispatcher=HASH(0x55f3b4e62a28), TestAppAltRoot=HASH(0x55f3b60b2c98), "_END") called at /home/sand/src/perl/repoperls/installed-perls/host/k93jammy/v5.39.2/6567/lib/site_perl/5.39.2/Catalyst.pm line 489
Catalyst::forward(TestAppAltRoot=HASH(0x55f3b60b2c98), "_END") called at /home/sand/src/perl/repoperls/installed-perls/host/k93jammy/v5.39.2/6567/lib/site_perl/5.39.2/Catalyst/Controller.pm line 137
Catalyst::Controller::_DISPATCH(TestAppAltRoot::Controller::Root=HASH(0x55f3b5f92270), TestAppAltRoot=HASH(0x55f3b60b2c98)) called at /home/sand/src/perl/repoperls/installed-perls/host/k93jammy/v5.39.2/6567/lib/site_perl/5.39.2/Catalyst/Action.pm line 374
Catalyst::Action::execute(Catalyst::Action=HASH(0x55f3b5f6d2f0), TestAppAltRoot::Controller::Root=HASH(0x55f3b5f92270), TestAppAltRoot=HASH(0x55f3b60b2c98)) called at /home/sand/src/perl/repoperls/installed-perls/host/k93jammy/v5.39.2/6567/lib/site_perl/5.39.2/Catalyst.pm line 2067
eval {...} called at /home/sand/src/perl/repoperls/installed-perls/host/k93jammy/v5.39.2/6567/lib/site_perl/5.39.2/Catalyst.pm line 2067
Catalyst::execute(TestAppAltRoot=HASH(0x55f3b60b2c98), "TestAppAltRoot::Controller::Root", Catalyst::Action=HASH(0x55f3b5f6d2f0)) called at /home/sand/src/perl/repoperls/installed-perls/host/k93jammy/v5.39.2/6567/lib/site_perl/5.39.2/Catalyst/Action.pm line 368
Catalyst::Action::dispatch(Catalyst::Action=HASH(0x55f3b5f6d2f0), TestAppAltRoot=HASH(0x55f3b60b2c98)) called at /home/sand/src/perl/repoperls/installed-perls/host/k93jammy/v5.39.2/6567/lib/site_perl/5.39.2/Catalyst/Dispatcher.pm line 261
Catalyst::Dispatcher::_do_forward(Catalyst::Dispatcher=HASH(0x55f3b4e62a28), "forward", TestAppAltRoot=HASH(0x55f3b60b2c98), "//_DISPATCH") called at /home/sand/src/perl/repoperls/installed-perls/host/k93jammy/v5.39.2/6567/lib/site_perl/5.39.2/Catalyst/Dispatcher.pm line 241
Catalyst::Dispatcher::forward(Catalyst::Dispatcher=HASH(0x55f3b4e62a28), TestAppAltRoot=HASH(0x55f3b60b2c98), "//_DISPATCH") called at /home/sand/src/perl/repoperls/installed-perls/host/k93jammy/v5.39.2/6567/lib/site_perl/5.39.2/Catalyst.pm line 489
Catalyst::forward(TestAppAltRoot=HASH(0x55f3b60b2c98), "//_DISPATCH") called at /home/sand/src/perl/repoperls/installed-perls/host/k93jammy/v5.39.2/6567/lib/site_perl/5.39.2/Catalyst/Dispatcher.pm line 107
Catalyst::Dispatcher::dispatch(Catalyst::Dispatcher=HASH(0x55f3b4e62a28), TestAppAltRoot=HASH(0x55f3b60b2c98)) called at /home/sand/src/perl/repoperls/installed-perls/host/k93jammy/v5.39.2/6567/lib/site_perl/5.39.2/Catalyst.pm line 2013
Catalyst::dispatch(TestAppAltRoot=HASH(0x55f3b60b2c98)) called at /home/sand/src/perl/repoperls/installed-perls/host/k93jammy/v5.39.2/6567/lib/site_perl/5.39.2/x86_64-linux/Class/MOP/Method/Wrapped.pm line 56
TestAppAltRoot::_wrapped_dispatch(TestAppAltRoot=HASH(0x55f3b60b2c98)) called at /home/sand/src/perl/repoperls/installed-perls/host/k93jammy/v5.39.2/6567/lib/site_perl/5.39.2/x86_64-linux/Class/MOP/Method/Wrapped.pm line 97
TestAppAltRoot::dispatch(TestAppAltRoot=HASH(0x55f3b60b2c98)) called at /home/sand/src/perl/repoperls/installed-perls/host/k93jammy/v5.39.2/6567/lib/site_perl/5.39.2/Catalyst.pm line 2419
Catalyst::try {...} () called at /home/sand/src/perl/repoperls/installed-perls/host/k93jammy/v5.39.2/6567/lib/site_perl/5.39.2/Try/Tiny.pm line 102
eval {...} called at /home/sand/src/perl/repoperls/installed-perls/host/k93jammy/v5.39.2/6567/lib/site_perl/5.39.2/Try/Tiny.pm line 93
Try::Tiny::try(CODE(0x55f3b60d68b8), Try::Tiny::Catch=REF(0x55f3b60d6720)) called at /home/sand/src/perl/repoperls/installed-perls/host/k93jammy/v5.39.2/6567/lib/site_perl/5.39.2/Catalyst.pm line 2428
Catalyst::handle_request("TestAppAltRoot", "env", HASH(0x55f3b60e1048), "response_cb", CODE(0x55f3b60d6780)) called at /home/sand/src/perl/repoperls/installed-perls/host/k93jammy/v5.39.2/6567/lib/site_perl/5.39.2/Catalyst/Engine.pm line 807
Catalyst::Engine::__ANON__(CODE(0x55f3b60d6780)) called at /home/sand/src/perl/repoperls/installed-perls/host/k93jammy/v5.39.2/6567/lib/site_perl/5.39.2/Plack/Middleware/HTTPExceptions.pm line 32
Plack::Middleware::HTTPExceptions::try {...} () called at /home/sand/src/perl/repoperls/installed-perls/host/k93jammy/v5.39.2/6567/lib/site_perl/5.39.2/Try/Tiny.pm line 102
eval {...} called at /home/sand/src/perl/repoperls/installed-perls/host/k93jammy/v5.39.2/6567/lib/site_perl/5.39.2/Try/Tiny.pm line 93
Try::Tiny::try(CODE(0x55f3b60d65b8), Try::Tiny::Catch=REF(0x55f3b5fece90)) called at /home/sand/src/perl/repoperls/installed-perls/host/k93jammy/v5.39.2/6567/lib/site_perl/5.39.2/Plack/Middleware/HTTPExceptions.pm line 41
Plack::Middleware::HTTPExceptions::__ANON__(CODE(0x55f3b5fb8470)) called at /home/sand/src/perl/repoperls/installed-perls/host/k93jammy/v5.39.2/6567/lib/site_perl/5.39.2/Plack/Util.pm line 339
Plack::Util::__ANON__(CODE(0x55f3b35fb730)) called at /home/sand/src/perl/repoperls/installed-perls/host/k93jammy/v5.39.2/6567/lib/site_perl/5.39.2/Plack/Util.pm line 339
Plack::Util::__ANON__(CODE(0x55f3b6103f68)) called at /home/sand/src/perl/repoperls/installed-perls/host/k93jammy/v5.39.2/6567/lib/site_perl/5.39.2/Plack/Util.pm line 339
Plack::Util::__ANON__(CODE(0x55f3b5ff2de8)) called at /home/sand/src/perl/repoperls/installed-perls/host/k93jammy/v5.39.2/6567/lib/site_perl/5.39.2/HTTP/Message/PSGI.pm line 100
HTTP::Message::PSGI::res_from_psgi(CODE(0x55f3b60d6318)) called at /home/sand/src/perl/repoperls/installed-perls/host/k93jammy/v5.39.2/6567/lib/site_perl/5.39.2/HTTP/Message/PSGI.pm line 157
HTTP::Response::from_psgi("HTTP::Response", CODE(0x55f3b60d6318)) called at /home/sand/src/perl/repoperls/installed-perls/host/k93jammy/v5.39.2/6567/lib/site_perl/5.39.2/Plack/Test/MockHTTP.pm line 24
Plack::Test::MockHTTP::try {...} () called at /home/sand/src/perl/repoperls/installed-perls/host/k93jammy/v5.39.2/6567/lib/site_perl/5.39.2/Try/Tiny.pm line 100
eval {...} called at /home/sand/src/perl/repoperls/installed-perls/host/k93jammy/v5.39.2/6567/lib/site_perl/5.39.2/Try/Tiny.pm line 93
Try::Tiny::try(CODE(0x55f3b5d7d178), Try::Tiny::Catch=REF(0x55f3b35faf20)) called at /home/sand/src/perl/repoperls/installed-perls/host/k93jammy/v5.39.2/6567/lib/site_perl/5.39.2/Plack/Test/MockHTTP.pm line 27
Plack::Test::MockHTTP::request(Plack::Test::MockHTTP=HASH(0x55f3b60d1a68), HTTP::Request=HASH(0x55f3b60d1630)) called at /home/sand/src/perl/repoperls/installed-perls/host/k93jammy/v5.39.2/6567/lib/site_perl/5.39.2/Plack/Test.pm line 38
Plack::Test::__ANON__(HTTP::Request=HASH(0x55f3b60d1630)) called at /home/sand/src/perl/repoperls/installed-perls/host/k93jammy/v5.39.2/6567/lib/site_perl/5.39.2/Catalyst/Test.pm line 290
Catalyst::Test::__ANON__(CODE(0x55f3b60d19f0)) called at /home/sand/src/perl/repoperls/installed-perls/host/k93jammy/v5.39.2/6567/lib/site_perl/5.39.2/Plack/Test.pm line 38
Plack::Test::test_psgi("app", CODE(0x55f3b60b43d0), "mangle_response", CODE(0x55f3b4e4a000), "app", CODE(0x55f3b5fde348), "client", CODE(0x55f3b60d1888)) called at /home/sand/src/perl/repoperls/installed-perls/host/k93jammy/v5.39.2/6567/lib/site_perl/5.39.2/Catalyst/Test.pm line 293
Catalyst::Test::_request(HASH(0x55f3b60b2d58), "/") called at /home/sand/src/perl/repoperls/installed-perls/host/k93jammy/v5.39.2/6567/lib/site_perl/5.39.2/Catalyst/Test.pm line 336
Catalyst::Test::_local_request("TestAppAltRoot", "/") called at /home/sand/src/perl/repoperls/installed-perls/host/k93jammy/v5.39.2/6567/lib/site_perl/5.39.2/Catalyst/Test.pm line 32
Catalyst::Test::__ANON__("/") called at /home/sand/src/perl/repoperls/installed-perls/host/k93jammy/v5.39.2/6567/lib/site_perl/5.39.2/Catalyst/Test.pm line 72
Catalyst::Test::__ANON__("/") called at t/live-test-alt-root.t line 14
t/live-test-alt-root.t .... ok
Class::MOP::load_class is deprecated at /home/sand/src/perl/repoperls/installed-perls/host/k93jammy/v5.39.2/6567/lib/site_perl/5.39.2/x86_64-linux/Class/MOP.pm line 69, <ARGV> line 1.
Class::MOP::load_class("TestApp::View::HTML::Root") called at /tmp/loop_over_bdir-2467-5X_Rnc/Catalyst-View-HTML-Zoom-0.003-0/blib/lib/Catalyst/View/HTML/Zoom.pm line 138
Catalyst::View::HTML::Zoom::_zoomer_class_from_context(TestApp::View::HTML=HASH(0x562426987f78), TestApp=HASH(0x5624269e4e98)) called at /tmp/loop_over_bdir-2467-5X_Rnc/Catalyst-View-HTML-Zoom-0.003-0/blib/lib/Catalyst/View/HTML/Zoom.pm line 90
Catalyst::View::HTML::Zoom::_build_renderer_from_zoomer_class(TestApp::View::HTML=HASH(0x562426987f78), TestApp=HASH(0x5624269e4e98)) called at /tmp/loop_over_bdir-2467-5X_Rnc/Catalyst-View-HTML-Zoom-0.003-0/blib/lib/Catalyst/View/HTML/Zoom.pm line 76
Catalyst::View::HTML::Zoom::_build_renderer_from(TestApp::View::HTML=HASH(0x562426987f78), TestApp=HASH(0x5624269e4e98), undef) called at /tmp/loop_over_bdir-2467-5X_Rnc/Catalyst-View-HTML-Zoom-0.003-0/blib/lib/Catalyst/View/HTML/Zoom.pm line 67
Catalyst::View::HTML::Zoom::render(TestApp::View::HTML=HASH(0x562426987f78), TestApp=HASH(0x5624269e4e98), "/main") called at /tmp/loop_over_bdir-2467-5X_Rnc/Catalyst-View-HTML-Zoom-0.003-0/blib/lib/Catalyst/View/HTML/Zoom.pm line 41
Catalyst::View::HTML::Zoom::process(TestApp::View::HTML=HASH(0x562426987f78), TestApp=HASH(0x5624269e4e98)) called at /home/sand/src/perl/repoperls/installed-perls/host/k93jammy/v5.39.2/6567/lib/site_perl/5.39.2/Catalyst/Action.pm line 374
Catalyst::Action::execute(Catalyst::Action=HASH(0x562426b3fd08), TestApp::View::HTML=HASH(0x562426987f78), TestApp=HASH(0x5624269e4e98)) called at /home/sand/src/perl/repoperls/installed-perls/host/k93jammy/v5.39.2/6567/lib/site_perl/5.39.2/Catalyst.pm line 2067
eval {...} called at /home/sand/src/perl/repoperls/installed-perls/host/k93jammy/v5.39.2/6567/lib/site_perl/5.39.2/Catalyst.pm line 2067
Catalyst::execute(TestApp=HASH(0x5624269e4e98), TestApp::View::HTML=HASH(0x562426987f78), Catalyst::Action=HASH(0x562426b3fd08)) called at /home/sand/src/perl/repoperls/installed-perls/host/k93jammy/v5.39.2/6567/lib/site_perl/5.39.2/Catalyst/Action.pm line 366
Catalyst::Action::dispatch(Catalyst::Action=HASH(0x562426b3fd08), TestApp=HASH(0x5624269e4e98)) called at /home/sand/src/perl/repoperls/installed-perls/host/k93jammy/v5.39.2/6567/lib/site_perl/5.39.2/Catalyst/Dispatcher.pm line 261
Catalyst::Dispatcher::_do_forward(Catalyst::Dispatcher=HASH(0x56242582d840), "forward", TestApp=HASH(0x5624269e4e98), TestApp::View::HTML=HASH(0x562426987f78)) called at /home/sand/src/perl/repoperls/installed-perls/host/k93jammy/v5.39.2/6567/lib/site_perl/5.39.2/Catalyst/Dispatcher.pm line 241
Catalyst::Dispatcher::forward(Catalyst::Dispatcher=HASH(0x56242582d840), TestApp=HASH(0x5624269e4e98), TestApp::View::HTML=HASH(0x562426987f78)) called at /home/sand/src/perl/repoperls/installed-perls/host/k93jammy/v5.39.2/6567/lib/site_perl/5.39.2/Catalyst.pm line 489
Catalyst::forward(TestApp=HASH(0x5624269e4e98), TestApp::View::HTML=HASH(0x562426987f78)) called at /home/sand/src/perl/repoperls/installed-perls/host/k93jammy/v5.39.2/6567/lib/site_perl/5.39.2/Catalyst/Action/RenderView.pm line 57
Catalyst::Action::RenderView::execute(Catalyst::Action::RenderView=HASH(0x562426aab228), TestApp::Controller::Root=HASH(0x5624269715b0), TestApp=HASH(0x5624269e4e98)) called at /home/sand/src/perl/repoperls/installed-perls/host/k93jammy/v5.39.2/6567/lib/site_perl/5.39.2/Catalyst.pm line 2067
eval {...} called at /home/sand/src/perl/repoperls/installed-perls/host/k93jammy/v5.39.2/6567/lib/site_perl/5.39.2/Catalyst.pm line 2067
Catalyst::execute(TestApp=HASH(0x5624269e4e98), "TestApp::Controller::Root", Catalyst::Action::RenderView=HASH(0x562426aab228)) called at /home/sand/src/perl/repoperls/installed-perls/host/k93jammy/v5.39.2/6567/lib/site_perl/5.39.2/Catalyst/Action.pm line 368
Catalyst::Action::dispatch(Catalyst::Action::RenderView=HASH(0x562426aab228), TestApp=HASH(0x5624269e4e98)) called at /home/sand/src/perl/repoperls/installed-perls/host/k93jammy/v5.39.2/6567/lib/site_perl/5.39.2/Catalyst/Controller.pm line 188
Catalyst::Controller::_END(TestApp::Controller::Root=HASH(0x5624269715b0), TestApp=HASH(0x5624269e4e98)) called at /home/sand/src/perl/repoperls/installed-perls/host/k93jammy/v5.39.2/6567/lib/site_perl/5.39.2/Catalyst/Action.pm line 374
Catalyst::Action::execute(Catalyst::Action=HASH(0x5624269dbd08), TestApp::Controller::Root=HASH(0x5624269715b0), TestApp=HASH(0x5624269e4e98)) called at /home/sand/src/perl/repoperls/installed-perls/host/k93jammy/v5.39.2/6567/lib/site_perl/5.39.2/Catalyst.pm line 2067
eval {...} called at /home/sand/src/perl/repoperls/installed-perls/host/k93jammy/v5.39.2/6567/lib/site_perl/5.39.2/Catalyst.pm line 2067
Catalyst::execute(TestApp=HASH(0x5624269e4e98), "TestApp::Controller::Root", Catalyst::Action=HASH(0x5624269dbd08)) called at /home/sand/src/perl/repoperls/installed-perls/host/k93jammy/v5.39.2/6567/lib/site_perl/5.39.2/Catalyst/Action.pm line 368
Catalyst::Action::dispatch(Catalyst::Action=HASH(0x5624269dbd08), TestApp=HASH(0x5624269e4e98)) called at /home/sand/src/perl/repoperls/installed-perls/host/k93jammy/v5.39.2/6567/lib/site_perl/5.39.2/Catalyst/Dispatcher.pm line 261
Catalyst::Dispatcher::_do_forward(Catalyst::Dispatcher=HASH(0x56242582d840), "forward", TestApp=HASH(0x5624269e4e98), "_END") called at /home/sand/src/perl/repoperls/installed-perls/host/k93jammy/v5.39.2/6567/lib/site_perl/5.39.2/Catalyst/Dispatcher.pm line 241
Catalyst::Dispatcher::forward(Catalyst::Dispatcher=HASH(0x56242582d840), TestApp=HASH(0x5624269e4e98), "_END") called at /home/sand/src/perl/repoperls/installed-perls/host/k93jammy/v5.39.2/6567/lib/site_perl/5.39.2/Catalyst.pm line 489
Catalyst::forward(TestApp=HASH(0x5624269e4e98), "_END") called at /home/sand/src/perl/repoperls/installed-perls/host/k93jammy/v5.39.2/6567/lib/site_perl/5.39.2/Catalyst/Controller.pm line 137
Catalyst::Controller::_DISPATCH(TestApp::Controller::Root=HASH(0x5624269715b0), TestApp=HASH(0x5624269e4e98)) called at /home/sand/src/perl/repoperls/installed-perls/host/k93jammy/v5.39.2/6567/lib/site_perl/5.39.2/Catalyst/Action.pm line 374
Catalyst::Action::execute(Catalyst::Action=HASH(0x5624269dbb58), TestApp::Controller::Root=HASH(0x5624269715b0), TestApp=HASH(0x5624269e4e98)) called at /home/sand/src/perl/repoperls/installed-perls/host/k93jammy/v5.39.2/6567/lib/site_perl/5.39.2/Catalyst.pm line 2067
eval {...} called at /home/sand/src/perl/repoperls/installed-perls/host/k93jammy/v5.39.2/6567/lib/site_perl/5.39.2/Catalyst.pm line 2067
Catalyst::execute(TestApp=HASH(0x5624269e4e98), "TestApp::Controller::Root", Catalyst::Action=HASH(0x5624269dbb58)) called at /home/sand/src/perl/repoperls/installed-perls/host/k93jammy/v5.39.2/6567/lib/site_perl/5.39.2/Catalyst/Action.pm line 368
Catalyst::Action::dispatch(Catalyst::Action=HASH(0x5624269dbb58), TestApp=HASH(0x5624269e4e98)) called at /home/sand/src/perl/repoperls/installed-perls/host/k93jammy/v5.39.2/6567/lib/site_perl/5.39.2/Catalyst/Dispatcher.pm line 261
Catalyst::Dispatcher::_do_forward(Catalyst::Dispatcher=HASH(0x56242582d840), "forward", TestApp=HASH(0x5624269e4e98), "//_DISPATCH") called at /home/sand/src/perl/repoperls/installed-perls/host/k93jammy/v5.39.2/6567/lib/site_perl/5.39.2/Catalyst/Dispatcher.pm line 241
Catalyst::Dispatcher::forward(Catalyst::Dispatcher=HASH(0x56242582d840), TestApp=HASH(0x5624269e4e98), "//_DISPATCH") called at /home/sand/src/perl/repoperls/installed-perls/host/k93jammy/v5.39.2/6567/lib/site_perl/5.39.2/Catalyst.pm line 489
Catalyst::forward(TestApp=HASH(0x5624269e4e98), "//_DISPATCH") called at /home/sand/src/perl/repoperls/installed-perls/host/k93jammy/v5.39.2/6567/lib/site_perl/5.39.2/Catalyst/Dispatcher.pm line 107
Catalyst::Dispatcher::dispatch(Catalyst::Dispatcher=HASH(0x56242582d840), TestApp=HASH(0x5624269e4e98)) called at /home/sand/src/perl/repoperls/installed-perls/host/k93jammy/v5.39.2/6567/lib/site_perl/5.39.2/Catalyst.pm line 2013
Catalyst::dispatch(TestApp=HASH(0x5624269e4e98)) called at /home/sand/src/perl/repoperls/installed-perls/host/k93jammy/v5.39.2/6567/lib/site_perl/5.39.2/x86_64-linux/Class/MOP/Method/Wrapped.pm line 56
TestApp::_wrapped_dispatch(TestApp=HASH(0x5624269e4e98)) called at /home/sand/src/perl/repoperls/installed-perls/host/k93jammy/v5.39.2/6567/lib/site_perl/5.39.2/x86_64-linux/Class/MOP/Method/Wrapped.pm line 97
TestApp::dispatch(TestApp=HASH(0x5624269e4e98)) called at /home/sand/src/perl/repoperls/installed-perls/host/k93jammy/v5.39.2/6567/lib/site_perl/5.39.2/Catalyst.pm line 2419
Catalyst::try {...} () called at /home/sand/src/perl/repoperls/installed-perls/host/k93jammy/v5.39.2/6567/lib/site_perl/5.39.2/Try/Tiny.pm line 102
eval {...} called at /home/sand/src/perl/repoperls/installed-perls/host/k93jammy/v5.39.2/6567/lib/site_perl/5.39.2/Try/Tiny.pm line 93
Try::Tiny::try(CODE(0x562426b31b78), Try::Tiny::Catch=REF(0x562426b319e0)) called at /home/sand/src/perl/repoperls/installed-perls/host/k93jammy/v5.39.2/6567/lib/site_perl/5.39.2/Catalyst.pm line 2428
Catalyst::handle_request("TestApp", "env", HASH(0x562426adb058), "response_cb", CODE(0x562426b31a40)) called at /home/sand/src/perl/repoperls/installed-perls/host/k93jammy/v5.39.2/6567/lib/site_perl/5.39.2/Catalyst/Engine.pm line 807
Catalyst::Engine::__ANON__(CODE(0x562426b31a40)) called at /home/sand/src/perl/repoperls/installed-perls/host/k93jammy/v5.39.2/6567/lib/site_perl/5.39.2/Plack/Middleware/HTTPExceptions.pm line 32
Plack::Middleware::HTTPExceptions::try {...} () called at /home/sand/src/perl/repoperls/installed-perls/host/k93jammy/v5.39.2/6567/lib/site_perl/5.39.2/Try/Tiny.pm line 102
eval {...} called at /home/sand/src/perl/repoperls/installed-perls/host/k93jammy/v5.39.2/6567/lib/site_perl/5.39.2/Try/Tiny.pm line 93
Try::Tiny::try(CODE(0x562426b31878), Try::Tiny::Catch=REF(0x56242694f7c0)) called at /home/sand/src/perl/repoperls/installed-perls/host/k93jammy/v5.39.2/6567/lib/site_perl/5.39.2/Plack/Middleware/HTTPExceptions.pm line 41
Plack::Middleware::HTTPExceptions::__ANON__(CODE(0x562426916be8)) called at /home/sand/src/perl/repoperls/installed-perls/host/k93jammy/v5.39.2/6567/lib/site_perl/5.39.2/Plack/Util.pm line 339
Plack::Util::__ANON__(CODE(0x5624268581a0)) called at /home/sand/src/perl/repoperls/installed-perls/host/k93jammy/v5.39.2/6567/lib/site_perl/5.39.2/Plack/Util.pm line 339
Plack::Util::__ANON__(CODE(0x5624269709b0)) called at /home/sand/src/perl/repoperls/installed-perls/host/k93jammy/v5.39.2/6567/lib/site_perl/5.39.2/Plack/Util.pm line 339
Plack::Util::__ANON__(CODE(0x56242691ae08)) called at /home/sand/src/perl/repoperls/installed-perls/host/k93jammy/v5.39.2/6567/lib/site_perl/5.39.2/HTTP/Message/PSGI.pm line 100
HTTP::Message::PSGI::res_from_psgi(CODE(0x562426b315d8)) called at /home/sand/src/perl/repoperls/installed-perls/host/k93jammy/v5.39.2/6567/lib/site_perl/5.39.2/HTTP/Message/PSGI.pm line 157
HTTP::Response::from_psgi("HTTP::Response", CODE(0x562426b315d8)) called at /home/sand/src/perl/repoperls/installed-perls/host/k93jammy/v5.39.2/6567/lib/site_perl/5.39.2/Plack/Test/MockHTTP.pm line 24
Plack::Test::MockHTTP::try {...} () called at /home/sand/src/perl/repoperls/installed-perls/host/k93jammy/v5.39.2/6567/lib/site_perl/5.39.2/Try/Tiny.pm line 100
eval {...} called at /home/sand/src/perl/repoperls/installed-perls/host/k93jammy/v5.39.2/6567/lib/site_perl/5.39.2/Try/Tiny.pm line 93
Try::Tiny::try(CODE(0x562426aef088), Try::Tiny::Catch=REF(0x5624269e5b40)) called at /home/sand/src/perl/repoperls/installed-perls/host/k93jammy/v5.39.2/6567/lib/site_perl/5.39.2/Plack/Test/MockHTTP.pm line 27
Plack::Test::MockHTTP::request(Plack::Test::MockHTTP=HASH(0x562426ad03a0), HTTP::Request=HASH(0x562426acff68)) called at /home/sand/src/perl/repoperls/installed-perls/host/k93jammy/v5.39.2/6567/lib/site_perl/5.39.2/Plack/Test.pm line 38
Plack::Test::__ANON__(HTTP::Request=HASH(0x562426acff68)) called at /home/sand/src/perl/repoperls/installed-perls/host/k93jammy/v5.39.2/6567/lib/site_perl/5.39.2/Catalyst/Test.pm line 290
Catalyst::Test::__ANON__(CODE(0x562426ad0328)) called at /home/sand/src/perl/repoperls/installed-perls/host/k93jammy/v5.39.2/6567/lib/site_perl/5.39.2/Plack/Test.pm line 38
Plack::Test::test_psgi("app", CODE(0x562426ab2380), "mangle_response", CODE(0x5624258118c0), "app", CODE(0x5624269db468), "client", CODE(0x562426ad01c0)) called at /home/sand/src/perl/repoperls/installed-perls/host/k93jammy/v5.39.2/6567/lib/site_perl/5.39.2/Catalyst/Test.pm line 293
Catalyst::Test::_request(HASH(0x5624269e5150), "/") called at /home/sand/src/perl/repoperls/installed-perls/host/k93jammy/v5.39.2/6567/lib/site_perl/5.39.2/Catalyst/Test.pm line 336
Catalyst::Test::_local_request("TestApp", "/") called at /home/sand/src/perl/repoperls/installed-perls/host/k93jammy/v5.39.2/6567/lib/site_perl/5.39.2/Catalyst/Test.pm line 32
Catalyst::Test::__ANON__("/") called at /home/sand/src/perl/repoperls/installed-perls/host/k93jammy/v5.39.2/6567/lib/site_perl/5.39.2/Catalyst/Test.pm line 72
Catalyst::Test::__ANON__("/") called at t/live-test.t line 14
t/live-test.t ............. ok
t/release-pod-coverage.t .. skipped: these tests are for release candidate testing
t/release-pod-syntax.t .... skipped: these tests are for release candidate testing
All tests successful.
Files=7, Tests=17, 2 wallclock secs ( 0.03 usr 0.01 sys + 1.64 cusr 0.15 csys = 1.83 CPU)
Result: PASS
------------------------------
PREREQUISITES
------------------------------
Prerequisite modules loaded:
requires:
Module Need Have
---------------------------- ----- --------
Class::MOP 1.12 2.2206
HTML::Zoom 0.009 0.009009
Moose 1.21 2.2206
namespace::autoclean 0.09 0.29
Path::Class 0.23 0.37
build_requires:
Module Need Have
---------------------------- ----- --------
Catalyst::Action::RenderView 0.14 0.16
Catalyst::Runtime 5.8 5.90131
Test::More 0.96 1.302195
configure_requires:
Module Need Have
---------------------------- ----- --------
ExtUtils::MakeMaker 6.31 7.70
------------------------------
ENVIRONMENT AND OTHER CONTEXT
------------------------------
Environment variables:
AUTOMATED_TESTING = 1
LANG = en_US.UTF-8
LC_ADDRESS = de_DE.UTF-8
LC_IDENTIFICATION = de_DE.UTF-8
LC_MEASUREMENT = de_DE.UTF-8
LC_MONETARY = de_DE.UTF-8
LC_NAME = de_DE.UTF-8
LC_NUMERIC = de_DE.UTF-8
LC_PAPER = de_DE.UTF-8
LC_TELEPHONE = de_DE.UTF-8
LC_TIME = de_DE.UTF-8
PATH = /home/sand/bin:/usr/local/bin:/usr/local/sbin:/usr/sbin:/usr/bin:/sbin:/bin:/usr/games:/usr/local/games:/snap/bin:/usr/local/perl/bin:/usr/X11/bin
PERL = /tmp/basesmoker-reloperl-Dq7W/bin/perl
PERL5LIB = /tmp/loop_over_bdir-2467-5X_Rnc/ProjectBuilder-0.14.1-0/blib/arch:/tmp/loop_over_bdir-2467-5X_Rnc/ProjectBuilder-0.14.1-0/blib/lib:/tmp/loop_over_bdir-2467-5X_Rnc/Net-ISP-Balance-1.31-0/blib/arch:/tmp/loop_over_bdir-2467-5X_Rnc/Net-ISP-Balance-1.31-0/blib/lib
PERL5OPT =
PERL5_CPANPLUS_IS_RUNNING = 2475
PERL5_CPAN_IS_RUNNING = 2475
PERL_CANARY_STABILITY_NOPROMPT = 1
PERL_MM_USE_DEFAULT = 1
PERL_USE_UNSAFE_INC = 1
SHELL = /usr/bin/zsh
TERM = screen
Perl special variables (and OS-specific diagnostics, for MSWin32):
$^X = /tmp/basesmoker-reloperl-Dq7W/bin/perl
$UID/$EUID = 1005 / 1005
$GID = 1005 1005
$EGID = 1005 1005
Perl module toolchain versions installed:
Module Have
------------------- --------
CPAN 2.36
CPAN::Meta 2.150010
Cwd 3.90
ExtUtils::CBuilder 0.280239
ExtUtils::Command 7.70
ExtUtils::Install 2.22
ExtUtils::MakeMaker 7.70
ExtUtils::Manifest 1.75
ExtUtils::ParseXS 3.51
File::Spec 3.90
JSON 4.10
JSON::PP 4.16
Module::Build 0.4234
Module::Signature 0.88
Parse::CPAN::Meta 2.150010
Test2 1.302195
Test::Harness 3.47
Test::More 1.302195
YAML 1.30
YAML::Syck 1.34
version 0.9929
--
Summary of my perl5 (revision 5 version 39 subversion 2) configuration:
Commit id: e246fd63c3ad4034efc21113d44231047f6b2909
Platform:
osname=linux
osvers=6.2.0-26-generic
archname=x86_64-linux
uname='linux k93jammy 6.2.0-26-generic #26~22.04.1-ubuntu smp preempt_dynamic thu jul 13 16:27:29 utc 2 x86_64 x86_64 x86_64 gnulinux '
config_args='-Dprefix=/home/sand/src/perl/repoperls/installed-perls/host/k93jammy/v5.39.2/6567 -Dmyhostname=k93jammy -Dinstallusrbinperl=n -Uversiononly -Dusedevel -des -Ui_db -Dlibswanted=cl pthread socket inet nsl gdbm dbm malloc dl ld sun m crypt sec util c cposix posix ucb BSD gdbm_compat -Uuseithreads -Uuselongdouble -DEBUGGING=-g'
hint=recommended
useposix=true
d_sigaction=define
useithreads=undef
usemultiplicity=undef
use64bitint=define
use64bitall=define
uselongdouble=undef
usemymalloc=n
default_inc_excludes_dot=define
Compiler:
cc='cc'
ccflags ='-fwrapv -fno-strict-aliasing -pipe -fstack-protector-strong -I/usr/local/include -D_LARGEFILE_SOURCE -D_FILE_OFFSET_BITS=64'
optimize='-O2 -g'
cppflags='-fwrapv -fno-strict-aliasing -pipe -fstack-protector-strong -I/usr/local/include'
ccversion=''
gccversion='11.4.0'
gccosandvers=''
intsize=4
longsize=8
ptrsize=8
doublesize=8
byteorder=12345678
doublekind=3
d_longlong=define
longlongsize=8
d_longdbl=define
longdblsize=16
longdblkind=3
ivtype='long'
ivsize=8
nvtype='double'
nvsize=8
Off_t='off_t'
lseeksize=8
alignbytes=8
prototype=define
Linker and Libraries:
ld='cc'
ldflags =' -fstack-protector-strong -L/usr/local/lib'
libpth=/usr/local/lib /usr/lib/x86_64-linux-gnu /usr/lib /usr/lib64
libs=-lpthread -lnsl -ldl -lm -lcrypt -lutil -lc
perllibs=-lpthread -lnsl -ldl -lm -lcrypt -lutil -lc
libc=/lib/x86_64-linux-gnu/libc.so.6
so=so
useshrplib=false
libperl=libperl.a
gnulibc_version='2.35'
Dynamic Linking:
dlsrc=dl_dlopen.xs
dlext=so
d_dlsymun=undef
ccdlflags='-Wl,-E'
cccdlflags='-fPIC'
lddlflags='-shared -O2 -g -L/usr/local/lib -fstack-protector-strong'
Characteristics of this binary (from libperl):
Compile-time options:
HAS_LONG_DOUBLE
HAS_STRTOLD
HAS_TIMES
PERLIO_LAYERS
PERL_COPY_ON_WRITE
PERL_DONT_CREATE_GVSV
PERL_HASH_FUNC_SIPHASH13
PERL_HASH_USE_SBOX32
PERL_MALLOC_WRAP
PERL_OP_PARENT
PERL_PRESERVE_IVUV
PERL_USE_DEVEL
PERL_USE_SAFE_PUTENV
USE_64_BIT_ALL
USE_64_BIT_INT
USE_LARGE_FILES
USE_LOCALE
USE_LOCALE_COLLATE
USE_LOCALE_CTYPE
USE_LOCALE_NUMERIC
USE_LOCALE_TIME
USE_PERLIO
USE_PERL_ATOF
Built under linux
Compiled at Aug 21 2023 02:09:42
%ENV:
PERL="/tmp/basesmoker-reloperl-Dq7W/bin/perl"
PERL5LIB="/tmp/loop_over_bdir-2467-5X_Rnc/ProjectBuilder-0.14.1-0/blib/arch:/tmp/loop_over_bdir-2467-5X_Rnc/ProjectBuilder-0.14.1-0/blib/lib:/tmp/loop_over_bdir-2467-5X_Rnc/Net-ISP-Balance-1.31-0/blib/arch:/tmp/loop_over_bdir-2467-5X_Rnc/Net-ISP-Balance-1.31-0/blib/lib"
PERL5OPT=""
PERL5_CPANPLUS_IS_RUNNING="2475"
PERL5_CPAN_IS_RUNNING="2475"
PERL_CANARY_STABILITY_NOPROMPT="1"
PERL_MM_USE_DEFAULT="1"
PERL_USE_UNSAFE_INC="1"
@INC:
/tmp/loop_over_bdir-2467-5X_Rnc/ProjectBuilder-0.14.1-0/blib/arch
/tmp/loop_over_bdir-2467-5X_Rnc/ProjectBuilder-0.14.1-0/blib/lib
/tmp/loop_over_bdir-2467-5X_Rnc/Net-ISP-Balance-1.31-0/blib/arch
/tmp/loop_over_bdir-2467-5X_Rnc/Net-ISP-Balance-1.31-0/blib/lib
/home/sand/src/perl/repoperls/installed-perls/host/k93jammy/v5.39.2/6567/lib/site_perl/5.39.2/x86_64-linux
/home/sand/src/perl/repoperls/installed-perls/host/k93jammy/v5.39.2/6567/lib/site_perl/5.39.2
/home/sand/src/perl/repoperls/installed-perls/host/k93jammy/v5.39.2/6567/lib/5.39.2/x86_64-linux
/home/sand/src/perl/repoperls/installed-perls/host/k93jammy/v5.39.2/6567/lib/5.39.2
.