Report for Alien-Judy-0.27

Back
From: metabase:user:f705e168-b586-11df-8b01-064c5e9bc87f
Subject: PASS Alien-Judy-0.27 v5.14.2 GNU/Linux
Date: 2013-06-03T10:21:45Z

This distribution has been tested as part of the CPAN Testers
project, supporting the Perl programming language.  See
http://wiki.cpantesters.org/ for more information or email
questions to cpan-testers-discuss@perl.org


--
Dear Joshua ben Jore,

This is a computer-generated report for Alien-Judy-0.27
on perl 5.14.2, created by CPAN-Reporter-1.2006.

Thank you for uploading your work to CPAN.  Congratulations!
All tests were successful.

Sections of this report:

    * Tester comments
    * Program output
    * Prerequisites
    * Environment and other context

------------------------------
TESTER COMMENTS
------------------------------

Additional comments from tester:

none provided

------------------------------
PROGRAM OUTPUT
------------------------------

Output from './Build test':

make  all-recursive
make[1]: Entering directory `/home/dionys/.cpan/build/Alien-Judy-0.27-7GjUeR/src/judy-1.0.5'
Making all in src
make[2]: Entering directory `/home/dionys/.cpan/build/Alien-Judy-0.27-7GjUeR/src/judy-1.0.5/src'
Making all in .
make[3]: Entering directory `/home/dionys/.cpan/build/Alien-Judy-0.27-7GjUeR/src/judy-1.0.5/src'
make[3]: Nothing to be done for `all-am'.
make[3]: Leaving directory `/home/dionys/.cpan/build/Alien-Judy-0.27-7GjUeR/src/judy-1.0.5/src'
Making all in JudyCommon
make[3]: Entering directory `/home/dionys/.cpan/build/Alien-Judy-0.27-7GjUeR/src/judy-1.0.5/src/JudyCommon'
make[3]: Nothing to be done for `all'.
make[3]: Leaving directory `/home/dionys/.cpan/build/Alien-Judy-0.27-7GjUeR/src/judy-1.0.5/src/JudyCommon'
Making all in JudyL
make[3]: Entering directory `/home/dionys/.cpan/build/Alien-Judy-0.27-7GjUeR/src/judy-1.0.5/src/JudyL'
make[3]: Nothing to be done for `all'.
make[3]: Leaving directory `/home/dionys/.cpan/build/Alien-Judy-0.27-7GjUeR/src/judy-1.0.5/src/JudyL'
Making all in Judy1
make[3]: Entering directory `/home/dionys/.cpan/build/Alien-Judy-0.27-7GjUeR/src/judy-1.0.5/src/Judy1'
make[3]: Nothing to be done for `all'.
make[3]: Leaving directory `/home/dionys/.cpan/build/Alien-Judy-0.27-7GjUeR/src/judy-1.0.5/src/Judy1'
Making all in JudySL
make[3]: Entering directory `/home/dionys/.cpan/build/Alien-Judy-0.27-7GjUeR/src/judy-1.0.5/src/JudySL'
make[3]: Nothing to be done for `all'.
make[3]: Leaving directory `/home/dionys/.cpan/build/Alien-Judy-0.27-7GjUeR/src/judy-1.0.5/src/JudySL'
Making all in JudyHS
make[3]: Entering directory `/home/dionys/.cpan/build/Alien-Judy-0.27-7GjUeR/src/judy-1.0.5/src/JudyHS'
make[3]: Nothing to be done for `all'.
make[3]: Leaving directory `/home/dionys/.cpan/build/Alien-Judy-0.27-7GjUeR/src/judy-1.0.5/src/JudyHS'
Making all in obj
make[3]: Entering directory `/home/dionys/.cpan/build/Alien-Judy-0.27-7GjUeR/src/judy-1.0.5/src/obj'
make[3]: Nothing to be done for `all'.
make[3]: Leaving directory `/home/dionys/.cpan/build/Alien-Judy-0.27-7GjUeR/src/judy-1.0.5/src/obj'
make[2]: Leaving directory `/home/dionys/.cpan/build/Alien-Judy-0.27-7GjUeR/src/judy-1.0.5/src'
Making all in tool
make[2]: Entering directory `/home/dionys/.cpan/build/Alien-Judy-0.27-7GjUeR/src/judy-1.0.5/tool'
make[2]: Nothing to be done for `all'.
make[2]: Leaving directory `/home/dionys/.cpan/build/Alien-Judy-0.27-7GjUeR/src/judy-1.0.5/tool'
Making all in doc
make[2]: Entering directory `/home/dionys/.cpan/build/Alien-Judy-0.27-7GjUeR/src/judy-1.0.5/doc'
make[2]: Nothing to be done for `all'.
make[2]: Leaving directory `/home/dionys/.cpan/build/Alien-Judy-0.27-7GjUeR/src/judy-1.0.5/doc'
Making all in test
make[2]: Entering directory `/home/dionys/.cpan/build/Alien-Judy-0.27-7GjUeR/src/judy-1.0.5/test'
make[2]: Nothing to be done for `all'.
make[2]: Leaving directory `/home/dionys/.cpan/build/Alien-Judy-0.27-7GjUeR/src/judy-1.0.5/test'
make[2]: Entering directory `/home/dionys/.cpan/build/Alien-Judy-0.27-7GjUeR/src/judy-1.0.5'
make[2]: Leaving directory `/home/dionys/.cpan/build/Alien-Judy-0.27-7GjUeR/src/judy-1.0.5'
make[1]: Leaving directory `/home/dionys/.cpan/build/Alien-Judy-0.27-7GjUeR/src/judy-1.0.5'
# Testing Alien::Judy 0.26, Perl 5.014002, /usr/bin/perl
dl_findfile(-lJudy)
 checking in /usr/local/lib for libJudy.so
 checking in /usr/local/lib for libJudy.a
 checking in /lib/x86_64-linux-gnu for libJudy.so
 checking in /lib/x86_64-linux-gnu for libJudy.a
 checking in /lib/../lib for libJudy.so
 checking in /lib/../lib for libJudy.a
 checking in /usr/lib/x86_64-linux-gnu for libJudy.so
 checking in /usr/lib/x86_64-linux-gnu for libJudy.a
 checking in /usr/lib/../lib for libJudy.so
 checking in /usr/lib/../lib for libJudy.a
 checking in /lib for libJudy.so
 checking in /lib for libJudy.a
 checking in /usr/lib for libJudy.so
 checking in /usr/lib for libJudy.a
 checking in /home/dionys/.cpan/build/Alien-Judy-0.27-7GjUeR/blib/arch/Alien/Judy for libJudy.so
dl_findfile found: /home/dionys/.cpan/build/Alien-Judy-0.27-7GjUeR/blib/arch/Alien/Judy/libJudy.so
candidates=/home/dionys/.cpan/build/Alien-Judy-0.27-7GjUeR/blib/arch/Alien/Judy/libJudy.so at /home/dionys/.cpan/build/Alien-Judy-0.27-7GjUeR/blib/lib/Alien/Judy.pm line 78.
Loaded /home/dionys/.cpan/build/Alien-Judy-0.27-7GjUeR/blib/arch/Alien/Judy/libJudy.so.1 at /home/dionys/.cpan/build/Alien-Judy-0.27-7GjUeR/blib/lib/Alien/Judy.pm line 122.
t/00-load.t ............... ok
t/release-pod-coverage.t .. skipped: these tests are for release candidate testing
t/release-pod-syntax.t .... skipped: these tests are for release candidate testing
All tests successful.
Files=3, Tests=3,  0 wallclock secs ( 0.01 usr  0.01 sys +  0.04 cusr  0.02 csys =  0.08 CPU)
Result: PASS
Making check in src
make[1]: Entering directory `/home/dionys/.cpan/build/Alien-Judy-0.27-7GjUeR/src/judy-1.0.5/src'
Making check in .
make[2]: Entering directory `/home/dionys/.cpan/build/Alien-Judy-0.27-7GjUeR/src/judy-1.0.5/src'
make[2]: Nothing to be done for `check-am'.
make[2]: Leaving directory `/home/dionys/.cpan/build/Alien-Judy-0.27-7GjUeR/src/judy-1.0.5/src'
Making check in JudyCommon
make[2]: Entering directory `/home/dionys/.cpan/build/Alien-Judy-0.27-7GjUeR/src/judy-1.0.5/src/JudyCommon'
make[2]: Nothing to be done for `check'.
make[2]: Leaving directory `/home/dionys/.cpan/build/Alien-Judy-0.27-7GjUeR/src/judy-1.0.5/src/JudyCommon'
Making check in JudyL
make[2]: Entering directory `/home/dionys/.cpan/build/Alien-Judy-0.27-7GjUeR/src/judy-1.0.5/src/JudyL'
make[2]: Nothing to be done for `check'.
make[2]: Leaving directory `/home/dionys/.cpan/build/Alien-Judy-0.27-7GjUeR/src/judy-1.0.5/src/JudyL'
Making check in Judy1
make[2]: Entering directory `/home/dionys/.cpan/build/Alien-Judy-0.27-7GjUeR/src/judy-1.0.5/src/Judy1'
make[2]: Nothing to be done for `check'.
make[2]: Leaving directory `/home/dionys/.cpan/build/Alien-Judy-0.27-7GjUeR/src/judy-1.0.5/src/Judy1'
Making check in JudySL
make[2]: Entering directory `/home/dionys/.cpan/build/Alien-Judy-0.27-7GjUeR/src/judy-1.0.5/src/JudySL'
make[2]: Nothing to be done for `check'.
make[2]: Leaving directory `/home/dionys/.cpan/build/Alien-Judy-0.27-7GjUeR/src/judy-1.0.5/src/JudySL'
Making check in JudyHS
make[2]: Entering directory `/home/dionys/.cpan/build/Alien-Judy-0.27-7GjUeR/src/judy-1.0.5/src/JudyHS'
make[2]: Nothing to be done for `check'.
make[2]: Leaving directory `/home/dionys/.cpan/build/Alien-Judy-0.27-7GjUeR/src/judy-1.0.5/src/JudyHS'
Making check in obj
make[2]: Entering directory `/home/dionys/.cpan/build/Alien-Judy-0.27-7GjUeR/src/judy-1.0.5/src/obj'
make[2]: Nothing to be done for `check'.
make[2]: Leaving directory `/home/dionys/.cpan/build/Alien-Judy-0.27-7GjUeR/src/judy-1.0.5/src/obj'
make[1]: Leaving directory `/home/dionys/.cpan/build/Alien-Judy-0.27-7GjUeR/src/judy-1.0.5/src'
Making check in tool
make[1]: Entering directory `/home/dionys/.cpan/build/Alien-Judy-0.27-7GjUeR/src/judy-1.0.5/tool'
make[1]: Nothing to be done for `check'.
make[1]: Leaving directory `/home/dionys/.cpan/build/Alien-Judy-0.27-7GjUeR/src/judy-1.0.5/tool'
Making check in doc
make[1]: Entering directory `/home/dionys/.cpan/build/Alien-Judy-0.27-7GjUeR/src/judy-1.0.5/doc'
make[1]: Nothing to be done for `check'.
make[1]: Leaving directory `/home/dionys/.cpan/build/Alien-Judy-0.27-7GjUeR/src/judy-1.0.5/doc'
Making check in test
make[1]: Entering directory `/home/dionys/.cpan/build/Alien-Judy-0.27-7GjUeR/src/judy-1.0.5/test'
make  check-TESTS
make[2]: Entering directory `/home/dionys/.cpan/build/Alien-Judy-0.27-7GjUeR/src/judy-1.0.5/test'

=== +++++++++ This test runs in 15 seconds on a PIII 750Mhz +++++++
cc -O SLcompare.c -DHASHMETHOD -o SL_Hash
cc -O SLcompare.c -DSPLAYMETHOD -o SL_Splay
cc -O SLcompare.c -DREDBLACKMETHOD -o SL_Redblack

Compiling with Judy library: ../src/obj/.libs/libJudy.a

cc -O -I../src SLcompare.c -DJUDYMETHOD -o SL_Judy ../src/obj/.libs/libJudy.a -lm
cc -O -I../src Judy1LHCheck.c -o Judy1LHCheck ../src/obj/.libs/libJudy.a -lm
cc -O -I../src Judy1LHTime.c -DNOINLINE  -o Judy1LHTime  ../src/obj/.libs/libJudy.a -lm
===  Pass: Compile of tests

     Validate Judy1/JudyL/JudyHS functions (except Judy*ByCount)
===  Pass: Judy1/JudyL/JudyHS validate program

     Do a few timings tests of Judy1/JudyL/JudyHS

      Pop1   Measmts    J1S    JLI    J1T    JLG J1MU/I JLMU/I HEAP/I
         1         1  0.000  0.000  0.000  0.000  0.000  0.000  40.000  40.000   80.000 1.000 1.000 2.000
        10        10  0.000  0.111  0.000  0.000  0.000  0.000  10.400  20.000   24.000 0.667 1.111 1.111
       100       100  0.100  0.289  0.356  0.030  0.040  0.140   9.280  18.640   19.040 0.367 0.700 0.700
      1000      1000  0.273  0.384  0.407  0.057  0.033  0.124  10.656  27.840   27.880 0.134 0.677 0.677
     10000     10000  0.123  0.100  0.117  0.033  0.035  0.043   4.118  16.516   16.520 0.037 1.524 1.524
    100000    100000  0.059  0.115  0.128  0.023  0.036  0.046   1.395  12.674   12.674 0.023 0.901 0.901
    524284    524284  0.052  0.116  0.137  0.022  0.047  0.058   0.079   8.641    8.641 0.005 0.168 0.168
===  Pass: Judy1/JudyL/JudyHS performance program

     Do a few timings tests of JudySL and friends

   lines avg_linelen  getline   StoreD RAMused/line  store/ln lookup/ln ADT
    2168   37.3 byts 0.099 uS     1094  7791.4 byts  2.063 uS  0.137 uS HASH
    2168   37.3 byts 0.088 uS     1094   123.6 byts  0.280 uS  0.185 uS SPLAY
    2168   37.3 byts 0.103 uS     1094   123.6 byts  0.282 uS  0.173 uS REDBLACK
    2168   37.3 byts 0.097 uS     1094   123.6 byts  0.266 uS  0.180 uS JUDY
===  Pass: JudySL if StoreD numbers are all the same

PASS: Checkit
==================
All 1 tests passed
==================
make[2]: Leaving directory `/home/dionys/.cpan/build/Alien-Judy-0.27-7GjUeR/src/judy-1.0.5/test'
make[1]: Leaving directory `/home/dionys/.cpan/build/Alien-Judy-0.27-7GjUeR/src/judy-1.0.5/test'
make[1]: Entering directory `/home/dionys/.cpan/build/Alien-Judy-0.27-7GjUeR/src/judy-1.0.5'
make[1]: Leaving directory `/home/dionys/.cpan/build/Alien-Judy-0.27-7GjUeR/src/judy-1.0.5'

------------------------------
PREREQUISITES
------------------------------

Prerequisite modules loaded:

requires:

    Module              Need  Have    
    ------------------- ----- --------
    Cwd                 0     3.40    
    ExtUtils::CBuilder  0     0.280205
    ExtUtils::Liblist   0     6.66    
    File::Copy          0     2.21    
    File::Path          0     2.08_01 
    File::Spec          0     3.40    
    lib                 0     0.63    
    Module::Build       0     0.4005  
    perl                5.005 5.014002
    Sub::Exporter       0     0.982   
    Test::More          0     0.98    
    vars                0     1.02    
    warnings            0     1.12    

build_requires:

    Module              Need  Have    
    ------------------- ----- --------
    Cwd                 0     3.40    
    ExtUtils::CBuilder  0     0.280205
    ExtUtils::Liblist   0     6.66    
    File::Copy          0     2.21    
    File::Path          0     2.08_01 
    File::Spec          0     3.40    
    lib                 0     0.63    
    Module::Build       0     0.4005  
    perl                5.005 5.014002
    Sub::Exporter       0     0.982   
    Test::More          0     0.98    
    vars                0     1.02    
    warnings            0     1.12    

configure_requires:

    Module              Need  Have    
    ------------------- ----- --------
    ExtUtils::MakeMaker 6.31  6.66    


------------------------------
ENVIRONMENT AND OTHER CONTEXT
------------------------------

Environment variables:

    LANG = en_US.UTF-8
    PATH = /home/dionys/perl5/bin:/home/dionys/perl5/bin:/usr/local/sbin:/usr/local/bin:/usr/sbin:/usr/bin:/sbin:/bin:/usr/games
    PERL5LIB = /home/dionys/perl5/lib/perl5/x86_64-linux-gnu-thread-multi:/home/dionys/perl5/lib/perl5
    PERL5OPT = 
    PERL5_CPANPLUS_IS_RUNNING = 6574
    PERL5_CPAN_IS_RUNNING = 6574
    PERL_LOCAL_LIB_ROOT = /home/dionys/perl5
    PERL_MB_OPT = --install_base /home/dionys/perl5
    PERL_MM_OPT = INSTALL_BASE=/home/dionys/perl5
    SHELL = /bin/bash
    TERM = xterm

Perl special variables (and OS-specific diagnostics, for MSWin32):

    $^X = /usr/bin/perl
    $UID/$EUID = 1003 / 1003
    $GID = 1004 27 1004
    $EGID = 1004 27 1004

Perl module toolchain versions installed:

    Module              Have    
    ------------------- --------
    CPAN                2.00    
    CPAN::Meta          2.120921
    Cwd                 3.40    
    ExtUtils::CBuilder  0.280205
    ExtUtils::Command   1.17    
    ExtUtils::Install   1.56    
    ExtUtils::MakeMaker 6.66    
    ExtUtils::Manifest  1.60    
    ExtUtils::ParseXS   2.2210  
    File::Spec          3.40    
    JSON                2.53    
    JSON::PP            2.27200 
    Module::Build       0.4005  
    Module::Signature   0.68    
    Parse::CPAN::Meta   1.4404  
    Test::Harness       3.28    
    Test::More          0.98    
    YAML                0.84    
    YAML::Syck          1.20    
    version             0.88    


--

Summary of my perl5 (revision 5 version 14 subversion 2) configuration:
   
  Platform:
    osname=linux, osvers=2.6.42-32-generic, archname=x86_64-linux-gnu-thread-multi
    uname='linux allspice 2.6.42-32-generic #51-ubuntu smp wed sep 26 21:33:09 utc 2012 x86_64 x86_64 x86_64 gnulinux '
    config_args='-Dusethreads -Duselargefiles -Dccflags=-DDEBIAN -Dcccdlflags=-fPIC -Darchname=x86_64-linux-gnu -Dprefix=/usr -Dprivlib=/usr/share/perl/5.14 -Darchlib=/usr/lib/perl/5.14 -Dvendorprefix=/usr -Dvendorlib=/usr/share/perl5 -Dvendorarch=/usr/lib/perl5 -Dsiteprefix=/usr/local -Dsitelib=/usr/local/share/perl/5.14.2 -Dsitearch=/usr/local/lib/perl/5.14.2 -Dman1dir=/usr/share/man/man1 -Dman3dir=/usr/share/man/man3 -Dsiteman1dir=/usr/local/man/man1 -Dsiteman3dir=/usr/local/man/man3 -Duse64bitint -Dman1ext=1 -Dman3ext=3perl -Dpager=/usr/bin/sensible-pager -Uafs -Ud_csh -Ud_ualarm -Uusesfio -Uusenm -Ui_libutil -DDEBUGGING=-g -Doptimize=-O2 -Duseshrplib -Dlibperl=libperl.so.5.14.2 -des'
    hint=recommended, useposix=true, d_sigaction=define
    useithreads=define, usemultiplicity=define
    useperlio=define, d_sfio=undef, uselargefiles=define, usesocks=undef
    use64bitint=define, use64bitall=define, uselongdouble=undef
    usemymalloc=n, bincompat5005=undef
  Compiler:
    cc='cc', ccflags ='-D_REENTRANT -D_GNU_SOURCE -DDEBIAN -fno-strict-aliasing -pipe -fstack-protector -I/usr/local/include -D_LARGEFILE_SOURCE -D_FILE_OFFSET_BITS=64',
    optimize='-O2 -g',
    cppflags='-D_REENTRANT -D_GNU_SOURCE -DDEBIAN -fno-strict-aliasing -pipe -fstack-protector -I/usr/local/include'
    ccversion='', gccversion='4.6.3', gccosandvers=''
    intsize=4, longsize=8, ptrsize=8, doublesize=8, byteorder=12345678
    d_longlong=define, longlongsize=8, d_longdbl=define, longdblsize=16
    ivtype='long', ivsize=8, nvtype='double', nvsize=8, Off_t='off_t', lseeksize=8
    alignbytes=8, prototype=define
  Linker and Libraries:
    ld='cc', ldflags =' -fstack-protector -L/usr/local/lib'
    libpth=/usr/local/lib /lib/x86_64-linux-gnu /lib/../lib /usr/lib/x86_64-linux-gnu /usr/lib/../lib /lib /usr/lib
    libs=-lgdbm -lgdbm_compat -ldb -ldl -lm -lpthread -lc -lcrypt
    perllibs=-ldl -lm -lpthread -lc -lcrypt
    libc=, so=so, useshrplib=true, libperl=libperl.so.5.14.2
    gnulibc_version='2.15'
  Dynamic Linking:
    dlsrc=dl_dlopen.xs, dlext=so, d_dlsymun=undef, ccdlflags='-Wl,-E'
    cccdlflags='-fPIC', lddlflags='-shared -O2 -g -L/usr/local/lib -fstack-protector'


Characteristics of this binary (from libperl): 
  Compile-time options: MULTIPLICITY PERL_DONT_CREATE_GVSV
                        PERL_IMPLICIT_CONTEXT PERL_MALLOC_WRAP
                        PERL_PRESERVE_IVUV USE_64_BIT_ALL USE_64_BIT_INT
                        USE_ITHREADS USE_LARGE_FILES USE_PERLIO USE_PERL_ATOF
                        USE_REENTRANT_API
  Locally applied patches:
	DEBPKG:debian/arm_thread_stress_timeout - http://bugs.debian.org/501970 Raise the timeout of ext/threads/shared/t/stress.t to accommodate slower build hosts
	DEBPKG:debian/cpan_definstalldirs - Provide a sensible INSTALLDIRS default for modules installed from CPAN.
	DEBPKG:debian/db_file_ver - http://bugs.debian.org/340047 Remove overly restrictive DB_File version check.
	DEBPKG:debian/doc_info - Replace generic man(1) instructions with Debian-specific information.
	DEBPKG:debian/enc2xs_inc - http://bugs.debian.org/290336 Tweak enc2xs to follow symlinks and ignore missing @INC directories.
	DEBPKG:debian/errno_ver - http://bugs.debian.org/343351 Remove Errno version check due to upgrade problems with long-running processes.
	DEBPKG:debian/libperl_embed_doc - http://bugs.debian.org/186778 Note that libperl-dev package is required for embedded linking
	DEBPKG:fixes/respect_umask - Respect umask during installation
	DEBPKG:debian/writable_site_dirs - Set umask approproately for site install directories
	DEBPKG:debian/extutils_set_libperl_path - EU:MM: Set location of libperl.a to /usr/lib
	DEBPKG:debian/no_packlist_perllocal - Don't install .packlist or perllocal.pod for perl or vendor
	DEBPKG:debian/prefix_changes - Fiddle with *PREFIX and variables written to the makefile
	DEBPKG:debian/fakeroot - Postpone LD_LIBRARY_PATH evaluation to the binary targets.
	DEBPKG:debian/instmodsh_doc - Debian policy doesn't install .packlist files for core or vendor.
	DEBPKG:debian/ld_run_path - Remove standard libs from LD_RUN_PATH as per Debian policy.
	DEBPKG:debian/libnet_config_path - Set location of libnet.cfg to /etc/perl/Net as /usr may not be writable.
	DEBPKG:debian/m68k_thread_stress - http://bugs.debian.org/517938 http://bugs.debian.org/495826 Disable some threads tests on m68k for now due to missing TLS.
	DEBPKG:debian/mod_paths - Tweak @INC ordering for Debian
	DEBPKG:debian/module_build_man_extensions - http://bugs.debian.org/479460 Adjust Module::Build manual page extensions for the Debian Perl policy
	DEBPKG:debian/prune_libs - http://bugs.debian.org/128355 Prune the list of libraries wanted to what we actually need.
	DEBPKG:fixes/net_smtp_docs - [rt.cpan.org #36038] http://bugs.debian.org/100195 Document the Net::SMTP 'Port' option
	DEBPKG:debian/perlivp - http://bugs.debian.org/510895 Make perlivp skip include directories in /usr/local
	DEBPKG:debian/disable-zlib-bundling - Disable zlib bundling in Compress::Raw::Zlib
	DEBPKG:debian/cpanplus_definstalldirs - http://bugs.debian.org/533707 Configure CPANPLUS to use the site directories by default.
	DEBPKG:debian/cpanplus_config_path - Save local versions of CPANPLUS::Config::System into /etc/perl.
	DEBPKG:debian/deprecate-with-apt - http://bugs.debian.org/580034 Point users to Debian packages of deprecated core modules
	DEBPKG:fixes/hurd-ccflags - [a190e64] http://bugs.debian.org/587901 [perl #92244] Make hints/gnu.sh append to $ccflags rather than overriding them
	DEBPKG:debian/squelch-locale-warnings - http://bugs.debian.org/508764 Squelch locale warnings in Debian package maintainer scripts
	DEBPKG:debian/skip-upstream-git-tests - Skip tests specific to the upstream Git repository
	DEBPKG:fixes/extutils-cbuilder-cflags - [011e8fb] http://bugs.debian.org/624460 [perl #89478] Append CFLAGS and LDFLAGS to their Config.pm counterparts in EU::CBuilder
	DEBPKG:fixes/module-build-home-directory - http://bugs.debian.org/624850 [rt.cpan.org #67893] Fix failing tilde test when run under a UID without a passwd entry
	DEBPKG:debian/patchlevel - http://bugs.debian.org/567489 List packaged patches for 5.14.2-6ubuntu2.2 in patchlevel.h
	DEBPKG:fixes/h2ph-multiarch - [e7ec705] http://bugs.debian.org/625808 [perl #90122] Make h2ph correctly search gcc include directories
	DEBPKG:fixes/index-tainting - [3b36395] http://bugs.debian.org/291450 [perl #64804] RT 64804: tainting with index() of a constant
	DEBPKG:debian/skip-kfreebsd-crash - http://bugs.debian.org/628493 [perl #96272] Skip a crashing test case in t/op/threads.t on GNU/kFreeBSD
	DEBPKG:fixes/document_makemaker_ccflags - http://bugs.debian.org/628522 [rt.cpan.org #68613] Document that CCFLAGS should include $Config{ccflags}
	DEBPKG:fixes/sys-syslog-socket-timeout-kfreebsd.patch - http://bugs.debian.org/627821 [rt.cpan.org #69997] Use a socket timeout on GNU/kFreeBSD to catch ICMP port unreachable messages
	DEBPKG:fixes/hurd-hints - http://bugs.debian.org/636609 Improve general GNU hints, needed for GNU/Hurd.
	DEBPKG:fixes/pod_fixes - [7698aed] http://bugs.debian.org/637816 Fix typos in several pod/perl*.pod files
	DEBPKG:debian/find_html2text - http://bugs.debian.org/640479 Configure CPAN::Distribution with correct name of html2text
	DEBPKG:fixes/digest_eval_hole - http://bugs.debian.org/644108 Close the eval "require $module" security hole in Digest->new($algorithm)
	DEBPKG:fixes/hurd-ndbm - [f0d0a20] [perl #102680] http://bugs.debian.org/645989 Add GNU/Hurd hints for NDBM_File
	DEBPKG:fixes/sysconf.t-posix - [8040185] [perl #102888] http://bugs.debian.org/646016 Fix hang in ext/POSIX/t/sysconf.t on GNU/Hurd
	DEBPKG:fixes/hurd-largefile - [1fda587] [perl #103014] http://bugs.debian.org/645790 enable LFS on GNU/Hurd
	DEBPKG:debian/hurd_test_todo_syslog - http://bugs.debian.org/650093 Disable failing GNU/Hurd tests in cpan/Sys-Syslog/t/syslog.t
	DEBPKG:fixes/hurd_skip_itimer_virtual - [rt.cpan.org #72754] http://bugs.debian.org/650094 Skip interval timer tests in Time::HiRes on GNU/Hurd
	DEBPKG:debian/hurd_test_skip_socketpair - http://bugs.debian.org/650186 Disable failing GNU/Hurd tests ext/Socket/t/socketpair.t
	DEBPKG:debian/hurd_test_skip_sigdispatch - http://bugs.debian.org/650188 Disable failing GNU/Hurd tests op/sigdispatch.t
	DEBPKG:debian/hurd_test_skip_stack - http://bugs.debian.org/650175 Disable failing GNU/Hurd tests dist/threads/t/stack.t
	DEBPKG:debian/hurd_test_skip_recv - http://bugs.debian.org/650095 Disable failing GNU/Hurd tests cpan/autodie/t/recv.t
	DEBPKG:debian/hurd_test_skip_libc - http://bugs.debian.org/650097 Disable failing GNU/Hurd tests dist/threads/t/libc.t
	DEBPKG:debian/hurd_test_skip_pipe - http://bugs.debian.org/650187 Disable failing GNU/Hurd tests io/pipe.t
	DEBPKG:debian/hurd_test_skip_io_pipe - http://bugs.debian.org/650096 Disable failing GNU/Hurd tests dist/IO/t/io_pipe.t
	DEBPKG:fixes/CVE-2012-5195 - avoid calling memset with a negative count
	DEBPKG:fixes/CVE-2012-5526 - [PATCH 1/4] CR escaping for P3P header
  Built under linux
  Compiled at Nov 27 2012 00:35:49
  %ENV:
    PERL5LIB="/home/dionys/perl5/lib/perl5/x86_64-linux-gnu-thread-multi:/home/dionys/perl5/lib/perl5"
    PERL5OPT=""
    PERL5_CPANPLUS_IS_RUNNING="6574"
    PERL5_CPAN_IS_RUNNING="6574"
    PERL_LOCAL_LIB_ROOT="/home/dionys/perl5"
    PERL_MB_OPT="--install_base /home/dionys/perl5"
    PERL_MM_OPT="INSTALL_BASE=/home/dionys/perl5"
  @INC:
    /home/dionys/perl5/lib/perl5/x86_64-linux-gnu-thread-multi
    /home/dionys/perl5/lib/perl5/x86_64-linux-gnu-thread-multi
    /home/dionys/perl5/lib/perl5
    /etc/perl
    /usr/local/lib/perl/5.14.2
    /usr/local/share/perl/5.14.2
    /usr/lib/perl5
    /usr/share/perl5
    /usr/lib/perl/5.14
    /usr/share/perl/5.14
    /usr/local/lib/site_perl
    .