Dancer-Session-Cookie v0.29 Perl 5 v5.26.1 i386-linux-thread-multi-64int
- Status
- Pass
- From
- ARTO
- Dist
-
Dancer-Session-Cookie v0.29
- Platform
- Perl 5 v5.26.1 i386-linux-thread-multi-64int
- Date
- 2018-02-21 06:42:31
- ID
- 645d6e20-16d2-11e8-baa8-32da63a32fb2
This distribution has been tested as part of the CPAN Testers
project, supporting the Perl programming language. See
http://wiki.cpantesters.org/ for more information or email
questions to cpan-testers-discuss@perl.org
--
Dear Yanick Champoux,
This is a computer-generated report for Dancer-Session-Cookie-0.29
on perl 5.26.1, created by CPAN-Reporter-1.2018.
Thank you for uploading your work to CPAN. Congratulations!
All tests were successful.
Sections of this report:
* Tester comments
* Program output
* Prerequisites
* Environment and other context
------------------------------
TESTER COMMENTS
------------------------------
Additional comments from tester:
none provided
------------------------------
PROGRAM OUTPUT
------------------------------
Output from '/usr/bin/make test':
PERL_DL_NONLAZY=1 "/usr/bin/perl" "-MExtUtils::Command::MM" "-MTest::Harness" "-e" "undef *Test::Harness::Switches; test_harness(0, 'blib/lib', 'blib/arch')" t/*.t
t/00-compile.t ............... ok
#
# Versions for all modules listed in MYMETA.json (including optional ones):
#
# === Configure Requires ===
#
# Module Want Have
# ------------------- ---- ----
# ExtUtils::MakeMaker any 7.32
#
# === Build Requires ===
#
# Module Want Have
# ------------------- ---- ----
# ExtUtils::MakeMaker any 7.32
#
# === Test Requires ===
#
# Module Want Have
# --------------------- ------ --------
# Dancer::ModuleLoader any 1.3202
# Dancer::Test any 1.3202
# ExtUtils::MakeMaker any 7.32
# File::Spec any 3.74
# File::Temp any 0.2304
# FindBin any 1.51
# HTTP::Cookies any 6.04
# HTTP::Date any 6.02
# HTTP::Request::Common any 6.14
# IO::Handle any 1.36
# IPC::Open3 any 1.20
# Plack 1.0029 1.0047
# Plack::Test any undef
# Test::Exception any 0.43
# Test::More 0.96 1.302122
# Test::NoWarnings any 1.04
# Test::Requires any 0.10
#
# === Test Recommends ===
#
# Module Want Have
# ---------- -------- --------
# CPAN::Meta 2.120900 2.150010
#
# === Runtime Requires ===
#
# Module Want Have
# ------------------------- ------ ------
# Crypt::CBC any 2.33
# Crypt::Rijndael any 1.13
# Dancer 1.3113 1.3202
# Dancer::Cookie any 1.3202
# Dancer::Cookies any 1.3202
# Dancer::Session::Abstract any 1.3202
# MIME::Base64 any 3.15
# Session::Storage::Secure 0.010 0.010
# Storable any 2.51
# String::CRC32 any 1.6
# Time::Duration::Parse any 0.13
# base any 2.23
# strict any 1.11
# warnings any 1.37
#
t/00-report-prereqs.t ........ ok
t/01-session.t ............... ok
t/02-configfile.t ............ ok
t/03-path.t .................. ok
t/04-session_name.t .......... ok
t/05-session_secure.t ........ ok
t/06-redirect.t .............. ok
t/redirect-session-dancer.t .. ok
t/server.t ................... ok
t/session-stealing.t ......... ok
t/store-objects.t ............ ok
All tests successful.
Files=12, Tests=47, 12 wallclock secs ( 0.14 usr 0.04 sys + 9.36 cusr 0.86 csys = 10.40 CPU)
Result: PASS
------------------------------
PREREQUISITES
------------------------------
Prerequisite modules loaded:
requires:
Module Need Have
------------------------- -------- --------
base 0 2.23
Crypt::CBC 0 2.33
Crypt::Rijndael 0 1.13
Dancer 1.3113 1.3202
Dancer::Cookie 0 1.3202
Dancer::Cookies 0 1.3202
Dancer::Session::Abstract 0 1.3202
MIME::Base64 0 3.15
perl 5.008 5.026001
Session::Storage::Secure 0.010 0.010
Storable 0 2.51
strict 0 1.11
String::CRC32 0 1.6
Time::Duration::Parse 0 0.13
warnings 0 1.37
build_requires:
Module Need Have
------------------------- -------- --------
Dancer::ModuleLoader 0 1.3202
Dancer::Test 0 1.3202
ExtUtils::MakeMaker 0 7.32
File::Spec 0 3.74
File::Temp 0 0.2304
FindBin 0 1.51
HTTP::Cookies 0 6.04
HTTP::Date 0 6.02
HTTP::Request::Common 0 6.14
IO::Handle 0 1.36
IPC::Open3 0 1.20
Plack 1.0029 1.0047
Plack::Test 0 0
Test::Exception 0 0.43
Test::More 0.96 1.302122
Test::NoWarnings 0 1.04
Test::Requires 0 0.10
configure_requires:
Module Need Have
------------------------- -------- --------
ExtUtils::MakeMaker 0 7.32
opt_build_requires:
Module Need Have
------------------------- -------- --------
CPAN::Meta 2.120900 2.150010
------------------------------
ENVIRONMENT AND OTHER CONTEXT
------------------------------
Environment variables:
LANG = en
LC_ADDRESS = en_US.iso88591
LC_ALL = en_US.iso88591
LC_COLLATE = en_US.iso88591
LC_CTYPE = en_US.iso88591
LC_IDENTIFICATION = en_US.iso88591
LC_MEASUREMENT = en_US.iso88591
LC_MESSAGES = en_US.iso88591
LC_MONETARY = en_US.iso88591
LC_NAME = en_US.iso88591
LC_NUMERIC = en_US.iso88591
LC_PAPER = A4
LC_TELEPHONE = en_US.iso88591
LC_TIME = POSIX
NONINTERACTIVE_TESTING = 1
PATH = /bin:/sbin:/usr/bin:/usr/sbin:/usr/local/bin:/usr/local/sbin
PERL5LIB =
PERL5OPT =
PERL5_CPANPLUS_IS_RUNNING = 1880
PERL5_CPAN_IS_RUNNING = 1880
PERL_MM_USE_DEFAULT = 1
PERL_USE_UNSAFE_INC = 1
SHELL = /bin/zsh
Perl special variables (and OS-specific diagnostics, for MSWin32):
$^X = /usr/bin/perl
$UID/$EUID = 500 / 500
$GID = 500 10 12 157 466 480 487 493 494 500
$EGID = 500 10 12 157 466 480 487 493 494 500
Perl module toolchain versions installed:
Module Have
------------------- --------
CPAN 2.18
CPAN::Meta 2.150010
Cwd 3.74
ExtUtils::CBuilder 0.280230
ExtUtils::Command 7.32
ExtUtils::Install 2.14
ExtUtils::MakeMaker 7.32
ExtUtils::Manifest 1.70
ExtUtils::ParseXS 3.35
File::Spec 3.74
JSON 2.97001
JSON::PP 2.97001
Module::Build 0.4224
Module::Signature 0.81
Parse::CPAN::Meta 2.150010
Test::Harness 3.39
Test::More 1.302122
YAML 1.24
YAML::Syck 1.30
version 0.9918
--
Summary of my perl5 (revision 5 version 26 subversion 1) configuration:
Platform:
osname=linux
osvers=4.14.11-300.fc27.x86_64
archname=i386-linux-thread-multi-64int
uname='linux buildvm-11.phx2.fedoraproject.org 4.14.11-300.fc27.x86_64 #1 smp wed jan 3 13:52:28 utc 2018 i686 i686 i386 gnulinux '
config_args='-des -Doptimize=none -Dccflags=-O2 -g -pipe -Wall -Werror=format-security -Wp,-D_FORTIFY_SOURCE=2 -fexceptions -fstack-protector-strong --param=ssp-buffer-size=4 -grecord-gcc-switches -specs=/usr/lib/rpm/redhat/redhat-hardened-cc1 -m32 -march=i686 -fasynchronous-unwind-tables -Dldflags=-Wl,-z,relro -specs=/usr/lib/rpm/redhat/redhat-hardened-ld -Dccdlflags=-Wl,--enable-new-dtags -Wl,-z,relro -specs=/usr/lib/rpm/redhat/redhat-hardened-ld -Dlddlflags=-shared -Wl,-z,relro -specs=/usr/lib/rpm/redhat/redhat-hardened-ld -Dshrpdir=/usr/lib -DDEBUGGING=-g -Dversion=5.26.1 -Dmyhostname=localhost -Dperladmin=root@localhost -Dcc=gcc -Dcf_by=Red Hat, Inc. -Dprefix=/usr -Dvendorprefix=/usr -Dsiteprefix=/usr/local -Dsitelib=/usr/local/share/perl5 -Dsitearch=/usr/local/lib/perl5 -Dprivlib=/usr/share/perl5 -Dvendorlib=/usr/share/perl5/vendor_perl -Darchlib=/usr/lib/perl5 -Dvendorarch=/usr/lib/perl5/vendor_perl -Darchname=i386-linux-thread-multi -Duseshrplib -Dusethreads -Duseithreads -Dusedtrace=/usr/bin/dtrace -Duselargefiles -Dd_semctl_semun -Di_db -Ui_ndbm -Di_gdbm -Di_shadow -Di_syslog -Dman3ext=3pm -Duseperlio -Dinstallusrbinperl=n -Ubincompat5005 -Uversiononly -Dpager=/usr/bin/less -isr -Dd_gethostent_r_proto -Ud_endhostent_r_proto -Ud_sethostent_r_proto -Ud_endprotoent_r_proto -Ud_setprotoent_r_proto -Ud_endservent_r_proto -Ud_setservent_r_proto -Dscriptdir=/usr/bin -Dusesitecustomize -Duse64bitint'
hint=recommended
useposix=true
d_sigaction=define
useithreads=define
usemultiplicity=define
use64bitint=define
use64bitall=undef
uselongdouble=undef
usemymalloc=n
default_inc_excludes_dot=define
bincompat5005=undef
Compiler:
cc='gcc'
ccflags ='-D_REENTRANT -D_GNU_SOURCE -O2 -g -pipe -Wall -Werror=format-security -Wp,-D_FORTIFY_SOURCE=2 -fexceptions -fstack-protector-strong --param=ssp-buffer-size=4 -grecord-gcc-switches -specs=/usr/lib/rpm/redhat/redhat-hardened-cc1 -m32 -march=i686 -fasynchronous-unwind-tables -fwrapv -fno-strict-aliasing -I/usr/local/include -D_LARGEFILE_SOURCE -D_FILE_OFFSET_BITS=64'
optimize=' -g'
cppflags='-D_REENTRANT -D_GNU_SOURCE -O2 -g -pipe -Wall -Werror=format-security -Wp,-D_FORTIFY_SOURCE=2 -fexceptions -fstack-protector-strong --param=ssp-buffer-size=4 -grecord-gcc-switches -specs=/usr/lib/rpm/redhat/redhat-hardened-cc1 -m32 -march=i686 -fasynchronous-unwind-tables -fwrapv -fno-strict-aliasing -I/usr/local/include'
ccversion=''
gccversion='7.2.1 20170915 (Red Hat 7.2.1-2)'
gccosandvers=''
intsize=4
longsize=4
ptrsize=4
doublesize=8
byteorder=12345678
doublekind=3
d_longlong=define
longlongsize=8
d_longdbl=define
longdblsize=12
longdblkind=3
ivtype='long long'
ivsize=8
nvtype='double'
nvsize=8
Off_t='off_t'
lseeksize=8
alignbytes=4
prototype=define
Linker and Libraries:
ld='gcc'
ldflags ='-Wl,-z,relro -specs=/usr/lib/rpm/redhat/redhat-hardened-ld -fstack-protector-strong -L/usr/local/lib'
libpth=/usr/local/lib /usr/lib /lib
libs=-lpthread -lresolv -lnsl -lgdbm -ldb -ldl -lm -lcrypt -lutil -lc -lgdbm_compat
perllibs=-lpthread -lresolv -lnsl -ldl -lm -lcrypt -lutil -lc
libc=libc-2.26.so
so=so
useshrplib=true
libperl=libperl.so
gnulibc_version='2.26'
Dynamic Linking:
dlsrc=dl_dlopen.xs
dlext=so
d_dlsymun=undef
ccdlflags='-Wl,--enable-new-dtags -Wl,-z,relro -specs=/usr/lib/rpm/redhat/redhat-hardened-ld'
cccdlflags='-fPIC'
lddlflags='-shared -Wl,-z,relro -specs=/usr/lib/rpm/redhat/redhat-hardened-ld -L/usr/local/lib -fstack-protector-strong'
Characteristics of this binary (from libperl):
Compile-time options:
HAS_TIMES
MULTIPLICITY
PERLIO_LAYERS
PERL_COPY_ON_WRITE
PERL_DONT_CREATE_GVSV
PERL_IMPLICIT_CONTEXT
PERL_MALLOC_WRAP
PERL_OP_PARENT
PERL_PRESERVE_IVUV
USE_64_BIT_INT
USE_ITHREADS
USE_LARGE_FILES
USE_LOCALE
USE_LOCALE_COLLATE
USE_LOCALE_CTYPE
USE_LOCALE_NUMERIC
USE_LOCALE_TIME
USE_PERLIO
USE_PERL_ATOF
USE_REENTRANT_API
USE_SITECUSTOMIZE
Locally applied patches:
Fedora Patch1: Removes date check, Fedora/RHEL specific
Fedora Patch4: use libresolv instead of libbind
Fedora Patch5: USE_MM_LD_RUN_PATH
Fedora Patch6: Provide MM::maybe_command independently (bug #1129443)
Fedora Patch7: Dont run one io test due to random builder failures
Fedora Patch15: Define SONAME for libperl.so
Fedora Patch16: Install libperl.so to -Dshrpdir value
Fedora Patch22: Document Math::BigInt::CalcEmu requires Math::BigInt (CPAN RT#85015)
Fedora Patch26: Make *DBM_File desctructors thread-safe (RT#61912)
Fedora Patch27: Make PadlistNAMES() lvalue again (CPAN RT#101063)
Fedora Patch30: Replace EU::MakeMaker dependency with EU::MM::Utils in IPC::Cmd (bug #1129443)
Fedora Patch31: Make File::Glob more resistant against degenerative matching (RT#131211)
Fedora Patch34: Fix cloning :via handles on thread creation (RT#131221)
Fedora Patch36: Fix glob UTF-8 flag on a glob reassignment (RT#131263)
Fedora Patch38: Fix handling backslashes in PATH environment variable when executing "perl -S" (RT#129183)
Fedora Patch45: Fix File::Glob rt131211.t test random failures
Fedora Patch46: Fix t/op/hash.t test random failures
Fedora Patch47: Parse caret variables with subscripts as normal variables inside ${...} escaping (RT#131664)
Fedora Patch49: Do not display too many bytes when reporting malformed UTF-8 character
Fedora Patch51: Fix error message for "our sub foo::bar" (RT#131679)
Fedora Patch52: Fix executing arybase::_tie_it() in Safe compartement (RT#131588)
Fedora Patch54: Fix splitting non-ASCII strings if unicode_strings feature is enabled (RT#130907)
Fedora Patch55: Fix compiler warnings in code generated by ExtUtils::Constant (CPAN RT#63832)
Fedora Patch56: Fix compiler warnings in code generated by ExtUtils::Constant (CPAN RT#101487)
Fedora Patch58: Fix unreliable Time-HiRes tests (CPAN RT#122819)
Fedora Patch59: Fix an overflow in the lexer when reading a new line (RT#131793)
Fedora Patch60: Fix Term::ReadLine not to create spurious &STDERR files (RT#132008)
Fedora Patch63: Fix a crash when a match for inversely repeated group fails (RT#132017)
Fedora Patch64: Fix an overflow when parsing a character range with no preceding character (RT#132245)
Fedora Patch65: Fix walking symbol table for ISA in Carp
Fedora Patch66: Fix handling file names with null bytes in stat and lstat functions (RT#131895)
Fedora Patch67: Fix a crash when untying an object witout a stash
Fedora Patch68: Fix deparsing of transliterations with unprintable characters (RT#132405)
Fedora Patch69: Fix error reporting on do() on a directory (RT#125774)
Fedora Patch70: Fix stack manipulation when a lexical subroutine is defined in a do block in a member of an iteration list (RT#132442)
Fedora Patch71: Fix setting $! when statting a closed filehandle (RT#108288)
Fedora Patch72: Fix tainting of s/// with overloaded replacement (RT#115266)
Fedora Patch73: Expand system() arguments before a fork (RT#121105)
Fedora Patch76: Avoid undefined behavior when copying memory in Glob and pp_caller (RT#131746)
Fedora Patch200: Link XS modules to libperl.so with EU::CBuilder on Linux
Fedora Patch201: Link XS modules to libperl.so with EU::MM on Linux
Built under linux
Compiled at Jan 10 2018 14:12:36
%ENV:
PERL5LIB=""
PERL5OPT=""
PERL5_CPANPLUS_IS_RUNNING="1880"
PERL5_CPAN_IS_RUNNING="1880"
PERL_MM_USE_DEFAULT="1"
PERL_USE_UNSAFE_INC="1"
@INC:
/usr/local/lib/perl5
/usr/local/share/perl5
/usr/lib/perl5/vendor_perl
/usr/share/perl5/vendor_perl
/usr/lib/perl5
/usr/share/perl5
.