Report for Dist-Zilla-Util-Git-Wrapper-0.004002

Back
From: metabase:user:314402c4-2aae-11df-837a-5e0a49663a4f
Subject: PASS Dist-Zilla-Util-Git-Wrapper-0.004002 v5.24.0 GNU/Linux
Date: 2017-07-29T19:09:06Z

This distribution has been tested as part of the CPAN Testers
project, supporting the Perl programming language.  See
http://wiki.cpantesters.org/ for more information or email
questions to cpan-testers-discuss@perl.org


--
Dear Kent Fredric,

This is a computer-generated report for Dist-Zilla-Util-Git-Wrapper-0.004002
on perl 5.24.0, created by CPAN-Reporter-1.2018.

Thank you for uploading your work to CPAN.  Congratulations!
All tests were successful.

Sections of this report:

    * Tester comments
    * Program output
    * Prerequisites
    * Environment and other context

------------------------------
TESTER COMMENTS
------------------------------

Additional comments from tester:

none provided

------------------------------
PROGRAM OUTPUT
------------------------------

Output from '/usr/bin/make test':

PERL_DL_NONLAZY=1 "/opt/perl-5.24.0/bin/perl5.24.0" "-MExtUtils::Command::MM" "-MTest::Harness" "-e" "undef *Test::Harness::Switches; test_harness(0, 'blib/lib', 'blib/arch')" t/*.t t/00-compile/*.t
t/00-compile/lib_Dist_Zilla_Util_Git_Wrapper_pm.t ... ok
t/00-compile/lib_Dist_Zilla_UtilRole_MaybeGit_pm.t .. ok
# Git Version: 2.11.0
t/00-report-git-version.t ........................... ok
# 
# Versions for all modules listed in MYMETA.json (including optional ones):
# 
# === Configure Requires ===
# 
#     Module              Want Have
#     ------------------- ---- ----
#     ExtUtils::MakeMaker  any 7.30
# 
# === Configure Recommends ===
# 
#     Module              Want Have
#     ------------------- ---- ----
#     ExtUtils::MakeMaker 7.00 7.30
# 
# === Configure Suggests ===
# 
#     Module      Want Have
#     -------- ------- ----
#     JSON::PP 2.27300 2.94
# 
# === Build Requires ===
# 
#     Module              Want Have
#     ------------------- ---- ----
#     ExtUtils::MakeMaker  any 7.30
# 
# === Test Requires ===
# 
#     Module                           Want     Have
#     -------------------------------- ---- --------
#     ExtUtils::MakeMaker               any     7.30
#     File::Spec                        any     3.63
#     Log::Contextual::LogDispatchouli  any 0.001000
#     Log::Dispatchouli                 any    2.015
#     Path::Tiny                        any    0.104
#     Sort::Versions                    any     1.62
#     Test::Fatal                       any    0.014
#     Test::More                        any 1.302085
# 
# === Test Recommends ===
# 
#     Module                  Want     Have
#     ------------------- -------- --------
#     CPAN::Meta          2.120900 2.150005
#     ExtUtils::MakeMaker     7.00     7.30
#     Path::Tiny             0.058    0.104
#     Test::More              0.99 1.302085
# 
# === Runtime Requires ===
# 
#     Module                            Want     Have
#     --------------------------------- ---- --------
#     Dist::Zilla::UtilRole::MaybeZilla  any 0.002000
#     Git::Wrapper                       any    0.047
#     Moose                              any   2.2006
#     Moose::Role                        any   2.2006
#     strict                             any     1.11
#     utf8                               any     1.19
#     warnings                           any     1.36
# 
# === Runtime Recommends ===
# 
#     Module  Want   Have
#     ------ ----- ------
#     Moose  2.000 2.2006
# 
t/00-report-prereqs.t ............................... ok
t/basic.t ........................................... ok
t/utilrole.t ........................................ ok
All tests successful.
Files=6, Tests=12,  1 wallclock secs ( 0.02 usr  0.02 sys +  1.00 cusr  0.31 csys =  1.35 CPU)
Result: PASS

------------------------------
PREREQUISITES
------------------------------

Prerequisite modules loaded:

requires:

    Module                            Need     Have    
    --------------------------------- -------- --------
    Dist::Zilla::UtilRole::MaybeZilla 0        0.002000
    Git::Wrapper                      0        0.047   
    Moose                             0        2.2006  
    Moose::Role                       0        2.2006  
    perl                              5.008    5.024000
    strict                            0        1.11    
    utf8                              0        1.19    
    warnings                          0        1.36    

build_requires:

    Module                            Need     Have    
    --------------------------------- -------- --------
    ExtUtils::MakeMaker               0        7.30    
    File::Spec                        0        3.63    
    Log::Contextual::LogDispatchouli  0        0.001000
    Log::Dispatchouli                 0        2.015   
    Path::Tiny                        0        0.104   
    Sort::Versions                    0        1.62    
    Test::Fatal                       0        0.014   
    Test::More                        0        1.302085

configure_requires:

    Module                            Need     Have    
    --------------------------------- -------- --------
    ExtUtils::MakeMaker               0        7.30    
    perl                              5.008    5.024000

opt_requires:

    Module                            Need     Have    
    --------------------------------- -------- --------
    Moose                             2.000    2.2006  

opt_build_requires:

    Module                            Need     Have    
    --------------------------------- -------- --------
    CPAN::Meta                        2.120900 2.150005
    ExtUtils::MakeMaker               7.00     7.30    
    Path::Tiny                        0.058    0.104   
    Test::More                        0.99     1.302085


------------------------------
ENVIRONMENT AND OTHER CONTEXT
------------------------------

Environment variables:

    LANG = C
    PATH = /usr/local/bin:/usr/bin:/bin:/usr/local/sbin:/usr/sbin:/sbin:/home/cpansand/bin/linux-gnu:/home/cpansand/bin/sh:/home/cpansand/bin:/usr/games:/home/cpansand/devel:/home/eserte/src/srezic-misc/scripts
    PERL5LIB = /home/cpansand/.cpan/build/2017072918/Dist-Zilla-UtilRole-MaybeZilla-0.002000-c_A9lT/blib/arch:/home/cpansand/.cpan/build/2017072918/Dist-Zilla-UtilRole-MaybeZilla-0.002000-c_A9lT/blib/lib:/home/cpansand/.cpan/build/2017072918/Log-Contextual-LogDispatchouli-0.001000-z7Bv8K/blib/arch:/home/cpansand/.cpan/build/2017072918/Log-Contextual-LogDispatchouli-0.001000-z7Bv8K/blib/lib:/home/cpansand/.cpan/build/2017072918/Log-Contextual-0.007001-yBvMY4/blib/arch:/home/cpansand/.cpan/build/2017072918/Log-Contextual-0.007001-yBvMY4/blib/lib:/home/cpansand/.cpan/build/2017072918/Net-Travis-API-0.002001-YqpxOJ/blib/arch:/home/cpansand/.cpan/build/2017072918/Net-Travis-API-0.002001-YqpxOJ/blib/lib:/home/cpansand/.cpan/build/2017072918/HTTP-Tiny-UA-0.004-q7SCvM/blib/arch:/home/cpansand/.cpan/build/2017072918/HTTP-Tiny-UA-0.004-q7SCvM/blib/lib:/home/cpansand/.cpan/build/2017072918/superclass-0.003-Mwh0mX/blib/arch:/home/cpansand/.cpan/build/2017072918/superclass-0.003-Mwh0mX/blib/lib:/home/cpansand/.cpan/build/2017072918/Dist-Zilla-Plugin-Git-Remote-Check-0.1.2-NasVPi/blib/arch:/home/cpansand/.cpan/build/2017072918/Dist-Zilla-Plugin-Git-Remote-Check-0.1.2-NasVPi/blib/lib
    PERL5OPT = 
    PERL5_CPANPLUS_IS_RUNNING = 18837
    PERL5_CPAN_IS_RUNNING = 18837
    PERL5_CPAN_IS_RUNNING_IN_RECURSION = 18740,18837
    PERLDOC = -MPod::Perldoc::ToTextOverstrike
    PERL_BATCH = yes
    PERL_CANARY_STABILITY_NOPROMPT = 1
    PERL_CPAN_REPORTER_CONFIG = /var/tmp/cpansmoker-1023/2017072918/cpanreporter_001_config.ini
    PERL_EXTUTILS_AUTOINSTALL = --defaultdeps
    PERL_USE_UNSAFE_INC = 1
    SHELL = /usr/bin/zsh
    TERM = screen
    TMPDIR = /var/tmp/cpansmoker-1023/2017072918

Perl special variables (and OS-specific diagnostics, for MSWin32):

    $^X = /opt/perl-5.24.0/bin/perl5.24.0
    $UID/$EUID = 1023 / 1023
    $GID = 1023 1023
    $EGID = 1023 1023

Perl module toolchain versions installed:

    Module              Have    
    ------------------- --------
    CPAN                2.11    
    CPAN::Meta          2.150005
    Cwd                 3.63    
    ExtUtils::CBuilder  0.280225
    ExtUtils::Command   7.30    
    ExtUtils::Install   2.06    
    ExtUtils::MakeMaker 7.30    
    ExtUtils::Manifest  1.70    
    ExtUtils::ParseXS   3.31    
    File::Spec          3.63    
    JSON                2.94    
    JSON::PP            2.94    
    Module::Build       0.4224  
    Module::Signature   0.81    
    Parse::CPAN::Meta   1.4417  
    Test::Harness       3.36    
    Test::More          1.302085
    YAML                1.23    
    YAML::Syck          1.30    
    version             0.9916  


--

Summary of my perl5 (revision 5 version 24 subversion 0) configuration:
   
  Platform:
    osname=linux, osvers=4.9.0-3-amd64, archname=x86_64-linux
    uname='linux debian9 4.9.0-3-amd64 #1 smp debian 4.9.30-2+deb9u1 (2017-06-18) x86_64 gnulinux '
    config_args='-ds -e -Dprefix=/opt/perl-5.24.0 -Dcf_email=srezic@cpan.org'
    hint=recommended, useposix=true, d_sigaction=define
    useithreads=undef, usemultiplicity=undef
    use64bitint=define, use64bitall=define, uselongdouble=undef
    usemymalloc=n, bincompat5005=undef
  Compiler:
    cc='cc', ccflags ='-fwrapv -fno-strict-aliasing -pipe -fstack-protector-strong -I/usr/local/include -D_LARGEFILE_SOURCE -D_FILE_OFFSET_BITS=64',
    optimize='-O2',
    cppflags='-fwrapv -fno-strict-aliasing -pipe -fstack-protector-strong -I/usr/local/include'
    ccversion='', gccversion='6.3.0 20170516', gccosandvers=''
    intsize=4, longsize=8, ptrsize=8, doublesize=8, byteorder=12345678, doublekind=3
    d_longlong=define, longlongsize=8, d_longdbl=define, longdblsize=16, longdblkind=3
    ivtype='long', ivsize=8, nvtype='double', nvsize=8, Off_t='off_t', lseeksize=8
    alignbytes=8, prototype=define
  Linker and Libraries:
    ld='cc', ldflags =' -fstack-protector-strong -L/usr/local/lib'
    libpth=/usr/local/lib /usr/lib/gcc/x86_64-linux-gnu/6/include-fixed /usr/include/x86_64-linux-gnu /usr/lib /lib/x86_64-linux-gnu /lib/../lib /usr/lib/x86_64-linux-gnu /usr/lib/../lib /lib
    libs=-lpthread -lnsl -lgdbm -ldb -ldl -lm -lcrypt -lutil -lc -lgdbm_compat
    perllibs=-lpthread -lnsl -ldl -lm -lcrypt -lutil -lc
    libc=libc-2.24.so, so=so, useshrplib=false, libperl=libperl.a
    gnulibc_version='2.24'
  Dynamic Linking:
    dlsrc=dl_dlopen.xs, dlext=so, d_dlsymun=undef, ccdlflags='-Wl,-E'
    cccdlflags='-fPIC', lddlflags='-shared -O2 -L/usr/local/lib -fstack-protector-strong'


Characteristics of this binary (from libperl): 
  Compile-time options: HAS_TIMES PERLIO_LAYERS PERL_COPY_ON_WRITE
                        PERL_DONT_CREATE_GVSV
                        PERL_HASH_FUNC_ONE_AT_A_TIME_HARD PERL_MALLOC_WRAP
                        PERL_PRESERVE_IVUV USE_64_BIT_ALL USE_64_BIT_INT
                        USE_LARGE_FILES USE_LOCALE USE_LOCALE_COLLATE
                        USE_LOCALE_CTYPE USE_LOCALE_NUMERIC USE_LOCALE_TIME
                        USE_PERLIO USE_PERL_ATOF
  Built under linux
  Compiled at Jun 20 2017 18:06:36
  %ENV:
    PERL5LIB="/home/cpansand/.cpan/build/2017072918/Dist-Zilla-UtilRole-MaybeZilla-0.002000-c_A9lT/blib/arch:/home/cpansand/.cpan/build/2017072918/Dist-Zilla-UtilRole-MaybeZilla-0.002000-c_A9lT/blib/lib:/home/cpansand/.cpan/build/2017072918/Log-Contextual-LogDispatchouli-0.001000-z7Bv8K/blib/arch:/home/cpansand/.cpan/build/2017072918/Log-Contextual-LogDispatchouli-0.001000-z7Bv8K/blib/lib:/home/cpansand/.cpan/build/2017072918/Log-Contextual-0.007001-yBvMY4/blib/arch:/home/cpansand/.cpan/build/2017072918/Log-Contextual-0.007001-yBvMY4/blib/lib:/home/cpansand/.cpan/build/2017072918/Net-Travis-API-0.002001-YqpxOJ/blib/arch:/home/cpansand/.cpan/build/2017072918/Net-Travis-API-0.002001-YqpxOJ/blib/lib:/home/cpansand/.cpan/build/2017072918/HTTP-Tiny-UA-0.004-q7SCvM/blib/arch:/home/cpansand/.cpan/build/2017072918/HTTP-Tiny-UA-0.004-q7SCvM/blib/lib:/home/cpansand/.cpan/build/2017072918/superclass-0.003-Mwh0mX/blib/arch:/home/cpansand/.cpan/build/2017072918/superclass-0.003-Mwh0mX/blib/lib:/home/cpansand/.cpan/build/2017072918/Dist-Zilla-Plugin-Git-Remote-Check-0.1.2-NasVPi/blib/arch:/home/cpansand/.cpan/build/2017072918/Dist-Zilla-Plugin-Git-Remote-Check-0.1.2-NasVPi/blib/lib"
    PERL5OPT=""
    PERL5_CPANPLUS_IS_RUNNING="18837"
    PERL5_CPAN_IS_RUNNING="18837"
    PERL5_CPAN_IS_RUNNING_IN_RECURSION="18740,18837"
    PERLDOC="-MPod::Perldoc::ToTextOverstrike"
    PERL_BATCH="yes"
    PERL_CANARY_STABILITY_NOPROMPT="1"
    PERL_CPAN_REPORTER_CONFIG="/var/tmp/cpansmoker-1023/2017072918/cpanreporter_001_config.ini"
    PERL_EXTUTILS_AUTOINSTALL="--defaultdeps"
    PERL_USE_UNSAFE_INC="1"
  @INC:
    /home/cpansand/.cpan/build/2017072918/Dist-Zilla-UtilRole-MaybeZilla-0.002000-c_A9lT/blib/arch
    /home/cpansand/.cpan/build/2017072918/Dist-Zilla-UtilRole-MaybeZilla-0.002000-c_A9lT/blib/lib
    /home/cpansand/.cpan/build/2017072918/Log-Contextual-LogDispatchouli-0.001000-z7Bv8K/blib/arch
    /home/cpansand/.cpan/build/2017072918/Log-Contextual-LogDispatchouli-0.001000-z7Bv8K/blib/lib
    /home/cpansand/.cpan/build/2017072918/Log-Contextual-0.007001-yBvMY4/blib/arch
    /home/cpansand/.cpan/build/2017072918/Log-Contextual-0.007001-yBvMY4/blib/lib
    /home/cpansand/.cpan/build/2017072918/Net-Travis-API-0.002001-YqpxOJ/blib/arch
    /home/cpansand/.cpan/build/2017072918/Net-Travis-API-0.002001-YqpxOJ/blib/lib
    /home/cpansand/.cpan/build/2017072918/HTTP-Tiny-UA-0.004-q7SCvM/blib/arch
    /home/cpansand/.cpan/build/2017072918/HTTP-Tiny-UA-0.004-q7SCvM/blib/lib
    /home/cpansand/.cpan/build/2017072918/superclass-0.003-Mwh0mX/blib/arch
    /home/cpansand/.cpan/build/2017072918/superclass-0.003-Mwh0mX/blib/lib
    /home/cpansand/.cpan/build/2017072918/Dist-Zilla-Plugin-Git-Remote-Check-0.1.2-NasVPi/blib/arch
    /home/cpansand/.cpan/build/2017072918/Dist-Zilla-Plugin-Git-Remote-Check-0.1.2-NasVPi/blib/lib
    /opt/perl-5.24.0/lib/site_perl/5.24.0/x86_64-linux
    /opt/perl-5.24.0/lib/site_perl/5.24.0
    /opt/perl-5.24.0/lib/5.24.0/x86_64-linux
    /opt/perl-5.24.0/lib/5.24.0
    .