FTN-Outbound-BSO v20180823 Perl 5 v5.28.0 amd64-freebsd
- Status
- Pass
- From
- Slaven Rezić (SREZIC)
- Dist
-
FTN-Outbound-BSO v20180823
- Platform
- Perl 5 v5.28.0 amd64-freebsd
- Date
- 2018-08-23 07:37:31
- ID
- 64a838aa-a6a7-11e8-b0ba-87bc1c84a3c7
This distribution has been tested as part of the CPAN Testers
project, supporting the Perl programming language. See
http://wiki.cpantesters.org/ for more information or email
questions to cpan-testers-discuss@perl.org
--
Dear Valery Kalesnik,
This is a computer-generated report for FTN-Outbound-BSO-20180823
on perl 5.28.0, created by CPAN-Reporter-1.2018.
Thank you for uploading your work to CPAN. Congratulations!
All tests were successful.
Sections of this report:
* Tester comments
* Program output
* Prerequisites
* Environment and other context
------------------------------
TESTER COMMENTS
------------------------------
Additional comments from tester:
none provided
------------------------------
PROGRAM OUTPUT
------------------------------
Output from '/usr/bin/make test':
PERL_DL_NONLAZY=1 "/usr/perl5.28.0p/bin/perl5.28.0" "-MExtUtils::Command::MM" "-MTest::Harness" "-e" "undef *Test::Harness::Switches; test_harness(0, 'blib/lib', 'blib/arch')" t/*.t
# Testing FTN::Outbound::BSO 20180823, Perl 5.028000, /usr/perl5.28.0p/bin/perl5.28.0
t/00-load.t .................... ok
t/01-select_domain_zone_dir.t .. ok
t/02-select_points_dir.t ....... ok
t/author-pod-coverage.t ........ skipped: these tests are for testing by the author
t/author-pod-syntax.t .......... skipped: these tests are for testing by the author
All tests successful.
Files=5, Tests=20, 0 wallclock secs ( 0.04 usr 0.00 sys + 0.38 cusr 0.13 csys = 0.55 CPU)
Result: PASS
------------------------------
PREREQUISITES
------------------------------
Prerequisite modules loaded:
requires:
Module Need Have
----------------------------- ----- --------
Encode 0 2.97
Encode::Locale 0 1.05
Fcntl 0 1.13
File::Spec 0 3.74
FTN::Addr 0 20160303
FTN::Outbound::Reference_file 0 20170409
Log::Log4perl 0 1.49
perl 5.010 5.028000
Scalar::Util 0 1.50
strict 0 1.11
utf8 0 1.21
warnings 0 1.42
build_requires:
Module Need Have
----------------------------- ----- --------
ExtUtils::MakeMaker 0 7.34
lib 0 0.64
Test::More 0 1.302138
configure_requires:
Module Need Have
----------------------------- ----- --------
ExtUtils::MakeMaker 0 7.34
------------------------------
ENVIRONMENT AND OTHER CONTEXT
------------------------------
Environment variables:
PATH = /usr/local/bin:/usr/bin:/bin:/usr/local/sbin:/usr/sbin:/sbin:/home/cpansand/bin/sh:/home/cpansand/bin:/usr/games:/home/cpansand/devel:/home/eserte/src/srezic-misc/scripts
PERL5LIB = /home/cpansand/.cpan/build/2018082315/FTN-Outbound-Reference_file-20170409-3/blib/arch:/home/cpansand/.cpan/build/2018082315/FTN-Outbound-Reference_file-20170409-3/blib/lib:/home/cpansand/.cpan/build/2018082315/FTN-Addr-20160303-3/blib/arch:/home/cpansand/.cpan/build/2018082315/FTN-Addr-20160303-3/blib/lib
PERL5OPT =
PERL5_CPANPLUS_IS_RUNNING = 60624
PERL5_CPAN_IS_RUNNING = 60624
PERL5_CPAN_IS_RUNNING_IN_RECURSION = 59799,60624
PERL_BATCH = yes
PERL_CANARY_STABILITY_NOPROMPT = 1
PERL_CPAN_REPORTER_CONFIG = /var/tmp/cpansmoker-1023/2018082315/cpanreporter_000_config.ini
PERL_EXTUTILS_AUTOINSTALL = --defaultdeps
PERL_USE_UNSAFE_INC = 1
SHELL = /bin/sh
TMPDIR = /var/tmp/cpansmoker-1023/2018082315
Perl special variables (and OS-specific diagnostics, for MSWin32):
$^X = /usr/perl5.28.0p/bin/perl5.28.0
$UID/$EUID = 1023 / 1023
$GID = 1023 1023
$EGID = 1023 1023
Perl module toolchain versions installed:
Module Have
------------------- --------
CPAN 2.20
CPAN::Meta 2.150010
Cwd 3.74
ExtUtils::CBuilder 0.280230
ExtUtils::Command 7.34
ExtUtils::Install 2.14
ExtUtils::MakeMaker 7.34
ExtUtils::Manifest 1.70
ExtUtils::ParseXS 3.39
File::Spec 3.74
JSON 2.97001
JSON::PP 2.97001
Module::Build 0.4224
Module::Signature n/a
Parse::CPAN::Meta 2.150010
Test::Harness 3.42
Test::More 1.302138
YAML 1.26
YAML::Syck 1.30
version 0.9923
--
Summary of my perl5 (revision 5 version 28 subversion 0) configuration:
Platform:
osname=freebsd
osvers=12.0-current
archname=amd64-freebsd
uname='freebsd ali1.bbbike.org 12.0-current freebsd 12.0-current #0 92ff3960172(master): mon may 7 23:24:27 hst 2018 root@ali1.bbbike.org:usrobjhomeprojectsfreebsdamd64.amd64sysgeneric amd64 '
config_args='-ds -e -Dprefix=/usr/perl5.28.0p -Dcf_email=srezic@cpan.org -Doptimize=-O2 -pipe'
hint=recommended
useposix=true
d_sigaction=define
useithreads=undef
usemultiplicity=undef
use64bitint=define
use64bitall=define
uselongdouble=undef
usemymalloc=n
default_inc_excludes_dot=define
bincompat5005=undef
Compiler:
cc='cc'
ccflags ='-DHAS_FPSETMASK -DHAS_FLOATINGPOINT_H -fno-strict-aliasing -pipe -fstack-protector-strong -I/usr/local/include -D_FORTIFY_SOURCE=2'
optimize='-O2 -pipe'
cppflags='-DHAS_FPSETMASK -DHAS_FLOATINGPOINT_H -fno-strict-aliasing -pipe -fstack-protector-strong -I/usr/local/include'
ccversion=''
gccversion='4.2.1 Compatible FreeBSD Clang 6.0.0 (tags/RELEASE_600/final 326565)'
gccosandvers=''
intsize=4
longsize=8
ptrsize=8
doublesize=8
byteorder=12345678
doublekind=3
d_longlong=define
longlongsize=8
d_longdbl=define
longdblsize=16
longdblkind=3
ivtype='long'
ivsize=8
nvtype='double'
nvsize=8
Off_t='off_t'
lseeksize=8
alignbytes=8
prototype=define
Linker and Libraries:
ld='cc'
ldflags ='-pthread -Wl,-E -fstack-protector-strong -L/usr/local/lib'
libpth=/usr/lib /usr/local/lib /usr/lib/clang/6.0.0/lib /usr/lib
libs=-lpthread -lgdbm -ldl -lm -lcrypt -lutil -lc
perllibs=-lpthread -ldl -lm -lcrypt -lutil -lc
libc=
so=so
useshrplib=false
libperl=libperl.a
gnulibc_version=''
Dynamic Linking:
dlsrc=dl_dlopen.xs
dlext=so
d_dlsymun=undef
ccdlflags=' '
cccdlflags='-DPIC -fPIC'
lddlflags='-shared -L/usr/local/lib -fstack-protector-strong'
Characteristics of this binary (from libperl):
Compile-time options:
HAS_TIMES
PERLIO_LAYERS
PERL_COPY_ON_WRITE
PERL_DONT_CREATE_GVSV
PERL_MALLOC_WRAP
PERL_OP_PARENT
PERL_PRESERVE_IVUV
USE_64_BIT_ALL
USE_64_BIT_INT
USE_LARGE_FILES
USE_LOCALE
USE_LOCALE_COLLATE
USE_LOCALE_CTYPE
USE_LOCALE_NUMERIC
USE_LOCALE_TIME
USE_PERLIO
USE_PERL_ATOF
Built under freebsd
Compiled at Jun 25 2018 13:39:35
%ENV:
PERL5LIB="/home/cpansand/.cpan/build/2018082315/FTN-Outbound-Reference_file-20170409-3/blib/arch:/home/cpansand/.cpan/build/2018082315/FTN-Outbound-Reference_file-20170409-3/blib/lib:/home/cpansand/.cpan/build/2018082315/FTN-Addr-20160303-3/blib/arch:/home/cpansand/.cpan/build/2018082315/FTN-Addr-20160303-3/blib/lib"
PERL5OPT=""
PERL5_CPANPLUS_IS_RUNNING="60624"
PERL5_CPAN_IS_RUNNING="60624"
PERL5_CPAN_IS_RUNNING_IN_RECURSION="59799,60624"
PERL_BATCH="yes"
PERL_CANARY_STABILITY_NOPROMPT="1"
PERL_CPAN_REPORTER_CONFIG="/var/tmp/cpansmoker-1023/2018082315/cpanreporter_000_config.ini"
PERL_EXTUTILS_AUTOINSTALL="--defaultdeps"
PERL_USE_UNSAFE_INC="1"
@INC:
/home/cpansand/.cpan/build/2018082315/FTN-Outbound-Reference_file-20170409-3/blib/arch
/home/cpansand/.cpan/build/2018082315/FTN-Outbound-Reference_file-20170409-3/blib/lib
/home/cpansand/.cpan/build/2018082315/FTN-Addr-20160303-3/blib/arch
/home/cpansand/.cpan/build/2018082315/FTN-Addr-20160303-3/blib/lib
/usr/perl5.28.0p/lib/site_perl/5.28.0/amd64-freebsd
/usr/perl5.28.0p/lib/site_perl/5.28.0
/usr/perl5.28.0p/lib/5.28.0/amd64-freebsd
/usr/perl5.28.0p/lib/5.28.0
.