SQL-Tiny v0.04 Perl 5 v5.18.0 amd64-netbsd-thread-multi
- Status
- Pass
- From
- Nigel Horne
- Dist
-
SQL-Tiny v0.04
- Platform
- Perl 5 v5.18.0 amd64-netbsd-thread-multi
- Date
- 2019-04-07 11:43:42
- ID
- 64b527d2-592a-11e9-930d-4aa262b887d7
This distribution has been tested as part of the CPAN Testers
project, supporting the Perl programming language. See
http://wiki.cpantesters.org/ for more information or email
questions to cpan-testers-discuss@perl.org
--
Dear Andy Lester,
This is a computer-generated report for SQL-Tiny-0.04
on perl 5.18.0, created by CPAN-Reporter-1.2018.
Thank you for uploading your work to CPAN. Congratulations!
All tests were successful.
Sections of this report:
* Tester comments
* Program output
* Prerequisites
* Environment and other context
------------------------------
TESTER COMMENTS
------------------------------
Additional comments from tester:
this report is from an automated smoke testing program
and was not reviewed by a human for accuracy
------------------------------
PROGRAM OUTPUT
------------------------------
Output from '/usr/bin/make test':
PERL_DL_NONLAZY=1 "/home/njh/perl5/perlbrew/perls/perl-5.18.0-thread/bin/perl5.18.0" "-MExtUtils::Command::MM" "-MTest::Harness" "-e" "undef *Test::Harness::Switches; test_harness(0, 'blib/lib', 'blib/arch')" t/*.t
# Testing SQL::Tiny 0.04, Perl 5.018000, /home/njh/perl5/perlbrew/perls/perl-5.18.0-thread/bin/perl5.18.0
t/00-load.t .. ok
t/delete.t ... ok
t/insert.t ... ok
t/select.t ... ok
t/update.t ... ok
All tests successful.
Files=5, Tests=15, 1 wallclock secs ( 0.03 usr 0.04 sys + 0.60 cusr 0.20 csys = 0.87 CPU)
Result: PASS
------------------------------
PREREQUISITES
------------------------------
Prerequisite modules loaded:
requires:
Module Need Have
------------------- -------- --------
perl 5.010001 5.018000
build_requires:
Module Need Have
------------------- -------- --------
Test::More 0 1.302140
configure_requires:
Module Need Have
------------------- -------- --------
ExtUtils::MakeMaker 0 7.34
------------------------------
ENVIRONMENT AND OTHER CONTEXT
------------------------------
Environment variables:
AUTOMATED_TESTING = 1
NONINTERACTIVE_TESTING = 1
PATH = /home/njh/perl5/perlbrew/bin:/home/njh/perl5/perlbrew/perls/perl-5.18.0-thread/bin:/home/njh/src/njh/smoker/bin:/usr/bin:/bin:/usr/pkg/bin:/usr/local/bin
PERL5LIB = /home/njh/.cpan/build/LWP-UserAgent-Patch-Delay-0.003-32/blib/arch:/home/njh/.cpan/build/LWP-UserAgent-Patch-Delay-0.003-32/blib/lib:/home/njh/.cpan/build/HTTP-Tiny-Patch-Delay-0.001-33/blib/arch:/home/njh/.cpan/build/HTTP-Tiny-Patch-Delay-0.001-33/blib/lib:/home/njh/.cpan/build/Module-Patch-0.276-32/blib/arch:/home/njh/.cpan/build/Module-Patch-0.276-32/blib/lib:/home/njh/.cpan/build/Package-Util-Lite-0.001-32/blib/arch:/home/njh/.cpan/build/Package-Util-Lite-0.001-32/blib/lib:/home/njh/.cpan/build/Log-ger-0.025-32/blib/arch:/home/njh/.cpan/build/Log-ger-0.025-32/blib/lib
PERL5OPT =
PERL5_CPANPLUS_IS_RUNNING = 18050
PERL5_CPAN_IS_RUNNING = 18050
PERLBREW_HOME = /home/njh/.perlbrew
PERLBREW_MANPATH = /home/njh/perl5/perlbrew/perls/perl-5.18.0-thread/man
PERLBREW_PATH = /home/njh/perl5/perlbrew/bin:/home/njh/perl5/perlbrew/perls/perl-5.18.0-thread/bin
PERLBREW_PERL = perl-5.18.0-thread
PERLBREW_ROOT = /home/njh/perl5/perlbrew
PERLBREW_SHELLRC_VERSION = 0.82
PERLBREW_VERSION = 0.82
PERL_MM_USE_DEFAULT = 1
PERL_USE_UNSAFE_INC = 1
SHELL = /bin/sh
TMPDIR = /tmp/testwrapper.26470
Perl special variables (and OS-specific diagnostics, for MSWin32):
$^X = /home/njh/perl5/perlbrew/perls/perl-5.18.0-thread/bin/perl5.18.0
$UID/$EUID = 1000 / 1000
$GID = 100 100 0
$EGID = 100 100 0
Perl module toolchain versions installed:
Module Have
------------------- --------
CPAN 2.26
CPAN::Meta 2.150010
Cwd 3.75
ExtUtils::CBuilder 0.280230
ExtUtils::Command 7.34
ExtUtils::Install 2.14
ExtUtils::MakeMaker 7.34
ExtUtils::Manifest 1.71
ExtUtils::ParseXS 3.35
File::Spec 3.75
JSON 4.02
JSON::PP 2.97001
Module::Build 0.4224
Module::Signature n/a
Parse::CPAN::Meta 2.150010
Test::Harness 3.42
Test::More 1.302140
YAML 1.27
YAML::Syck 1.31
version 0.9924
--
Summary of my perl5 (revision 5 version 18 subversion 0) configuration:
Platform:
osname=netbsd, osvers=7.1.2, archname=amd64-netbsd-thread-multi
uname='netbsd vultr2.bandsman.co.uk 7.1.2 netbsd 7.1.2 (generic.201803151611z) amd64 '
config_args='-de -Dprefix=/home/njh/perl5/perlbrew/perls/perl-5.18.0-thread -Dusedevel -Dusethreads -Accflags= -Aeval:scriptdir=/home/njh/perl5/perlbrew/perls/perl-5.18.0-thread/bin'
hint=recommended, useposix=true, d_sigaction=define
useithreads=define, usemultiplicity=define
useperlio=define, d_sfio=undef, uselargefiles=define, usesocks=undef
use64bitint=define, use64bitall=define, uselongdouble=undef
usemymalloc=n, bincompat5005=undef
Compiler:
cc='cc', ccflags ='-fno-strict-aliasing -pipe -fstack-protector -I/usr/pkg/include',
optimize='-O',
cppflags='-fno-strict-aliasing -pipe -fstack-protector -I/usr/pkg/include'
ccversion='', gccversion='4.8.5', gccosandvers=''
intsize=4, longsize=8, ptrsize=8, doublesize=8, byteorder=12345678
d_longlong=define, longlongsize=8, d_longdbl=define, longdblsize=16
ivtype='long', ivsize=8, nvtype='double', nvsize=8, Off_t='off_t', lseeksize=8
alignbytes=8, prototype=define
Linker and Libraries:
ld='cc', ldflags =' -Wl,-rpath,/usr/pkg/lib -Wl,-rpath,/usr/local/lib -fstack-protector -L/usr/pkg/lib'
libpth=/usr/pkg/lib /lib /usr/lib
libs=-lm -lcrypt -lutil -lc -lposix -lpthread
perllibs=-lm -lcrypt -lutil -lc -lposix -lpthread
libc=/lib/libc.so, so=so, useshrplib=false, libperl=libperl.a
gnulibc_version=''
Dynamic Linking:
dlsrc=dl_dlopen.xs, dlext=so, d_dlsymun=undef, ccdlflags='-Wl,-E '
cccdlflags='-DPIC -fPIC ', lddlflags='-shared -L/usr/pkg/lib -fstack-protector'
Characteristics of this binary (from libperl):
Compile-time options: HAS_TIMES MULTIPLICITY PERLIO_LAYERS
PERL_DONT_CREATE_GVSV
PERL_HASH_FUNC_ONE_AT_A_TIME_HARD
PERL_IMPLICIT_CONTEXT PERL_MALLOC_WRAP
PERL_PRESERVE_IVUV PERL_SAWAMPERSAND PERL_USE_DEVEL
USE_64_BIT_ALL USE_64_BIT_INT USE_ITHREADS
USE_LARGE_FILES USE_LOCALE USE_LOCALE_COLLATE
USE_LOCALE_CTYPE USE_LOCALE_NUMERIC USE_PERLIO
USE_PERL_ATOF USE_REENTRANT_API
Locally applied patches:
Devel::PatchPerl 1.48
Built under netbsd
Compiled at Sep 29 2018 02:50:40
%ENV:
PERL5LIB="/home/njh/.cpan/build/LWP-UserAgent-Patch-Delay-0.003-32/blib/arch:/home/njh/.cpan/build/LWP-UserAgent-Patch-Delay-0.003-32/blib/lib:/home/njh/.cpan/build/HTTP-Tiny-Patch-Delay-0.001-33/blib/arch:/home/njh/.cpan/build/HTTP-Tiny-Patch-Delay-0.001-33/blib/lib:/home/njh/.cpan/build/Module-Patch-0.276-32/blib/arch:/home/njh/.cpan/build/Module-Patch-0.276-32/blib/lib:/home/njh/.cpan/build/Package-Util-Lite-0.001-32/blib/arch:/home/njh/.cpan/build/Package-Util-Lite-0.001-32/blib/lib:/home/njh/.cpan/build/Log-ger-0.025-32/blib/arch:/home/njh/.cpan/build/Log-ger-0.025-32/blib/lib"
PERL5OPT=""
PERL5_CPANPLUS_IS_RUNNING="18050"
PERL5_CPAN_IS_RUNNING="18050"
PERLBREW_HOME="/home/njh/.perlbrew"
PERLBREW_MANPATH="/home/njh/perl5/perlbrew/perls/perl-5.18.0-thread/man"
PERLBREW_PATH="/home/njh/perl5/perlbrew/bin:/home/njh/perl5/perlbrew/perls/perl-5.18.0-thread/bin"
PERLBREW_PERL="perl-5.18.0-thread"
PERLBREW_ROOT="/home/njh/perl5/perlbrew"
PERLBREW_SHELLRC_VERSION="0.82"
PERLBREW_VERSION="0.82"
PERL_MM_USE_DEFAULT="1"
PERL_USE_UNSAFE_INC="1"
@INC:
/home/njh/.cpan/build/LWP-UserAgent-Patch-Delay-0.003-32/blib/arch
/home/njh/.cpan/build/LWP-UserAgent-Patch-Delay-0.003-32/blib/lib
/home/njh/.cpan/build/HTTP-Tiny-Patch-Delay-0.001-33/blib/arch
/home/njh/.cpan/build/HTTP-Tiny-Patch-Delay-0.001-33/blib/lib
/home/njh/.cpan/build/Module-Patch-0.276-32/blib/arch
/home/njh/.cpan/build/Module-Patch-0.276-32/blib/lib
/home/njh/.cpan/build/Package-Util-Lite-0.001-32/blib/arch
/home/njh/.cpan/build/Package-Util-Lite-0.001-32/blib/lib
/home/njh/.cpan/build/Log-ger-0.025-32/blib/arch
/home/njh/.cpan/build/Log-ger-0.025-32/blib/lib
/home/njh/perl5/perlbrew/perls/perl-5.18.0-thread/lib/site_perl/5.18.0/amd64-netbsd-thread-multi
/home/njh/perl5/perlbrew/perls/perl-5.18.0-thread/lib/site_perl/5.18.0
/home/njh/perl5/perlbrew/perls/perl-5.18.0-thread/lib/5.18.0/amd64-netbsd-thread-multi
/home/njh/perl5/perlbrew/perls/perl-5.18.0-thread/lib/5.18.0
.