Back
From: metabase:user:cba5269c-6e58-1014-92a6-0387276d408b
Subject: PASS Sys-Info-Driver-Windows-0.78 v5.16.2
Date: 2012-12-18T01:51:09Z
This distribution has been tested as part of the CPAN Testers
project, supporting the Perl programming language. See
http://wiki.cpantesters.org/ for more information or email
questions to cpan-testers-discuss@perl.org
--
Dear Burak Gursoy,
This is a computer-generated report for Sys-Info-Driver-Windows-0.78
on perl 5.16.2, created by CPAN-Reporter-1.2006.
Thank you for uploading your work to CPAN. Congratulations!
All tests were successful.
Sections of this report:
* Tester comments
* Program output
* Prerequisites
* Environment and other context
------------------------------
TESTER COMMENTS
------------------------------
Additional comments from tester:
this report is from an automated smoke testing program
and was not reviewed by a human for accuracy
------------------------------
PROGRAM OUTPUT
------------------------------
Output from 'C:\strawberry\perl\bin\perl.exe ./Build test':
t\03-basic.t .......... ok
# %SYSTEM_INFO = (
# 'wProcessBitness' => 32,
# 'lpMinimumApplicationAddress' => 65536,
# 'dwPageSize' => 4096,
# 'wProcessorStepping' => '3',
# 'wProcessorArchitecture' => 0,
# 'dwNumberOfProcessors' => 1,
# 'wProcessorRevision' => 515,
# 'dwProcessorType' => 586,
# 'wProcessorLevel' => 6,
# 'wProcessorModel' => '2',
# 'wProcessorBitness' => -1,
# 'dwOemId' => 0,
# 'lpMaximumApplicationAddress' => 2147418111,
# 'wProcessorArchitecture2' => 'x86 or x86-64',
# 'dwActiveProcessorMask' => 1
# );
# CPU: x86 or x86-64 Family 6 Model 2 Stepping 3
# Minimum Application Address: 10000
# Maximum Application Address: 7ffeffff
# %FEATURES = (
# 'Extendedfamily' => 0,
# 'Flags' => 109051905,
# 'KFBits' => 81406,
# 'String' => 'GenuineIntel',
# 'SSE3NewInstructions' => 1,
# 'BrandIndex' => 0,
# 'Family' => 6,
# '____ebx' => 2048,
# 'Extendedmodel' => 0,
# 'Model' => 2,
# 'FeatureInfo' => 126614525,
# '____ecx' => 2155880449,
# 'ThermalMonitor2' => 0,
# 'BrandString' => 'QEMU Virtual CPU version 1.0,1',
# 'CPLQualifiedDebugStore' => 0,
# 'APICPhysicalID' => 0,
# 'L2Associativity' => 8,
# 'ProcessorType' => 0,
# 'SteppingID' => 3,
# 'CpuFeatures' => 126614525,
# 'L2CacheLineSize' => 64,
# 'CLFLUSHcachelinesize' => 64,
# 'MONITOR_MWAIT' => 0,
# 'ExIds' => 2147483658,
# 'L2CacheSizeK' => 512,
# 'Ids' => 0,
# 'Count' => 1899504809,
# 'FeatureFlags' => 2008808447
# );
t\04-metrics.t ........ ok
t\201-pod.t ........... skipped: Errors detected: Test::Pod is required for testing POD
t\202-pod-coverage.t .. skipped: Test::Pod::Coverage required for testing pod coverage
All tests successful.
Files=4, Tests=104, 6 wallclock secs ( 0.06 usr + 0.11 sys = 0.17 CPU)
Result: PASS
------------------------------
PREREQUISITES
------------------------------
Prerequisite modules loaded:
requires:
Module Need Have
-------------------------- ---- --------
Config::General 0 2.51
ExtUtils::CBuilder 0 0.280206
Sys::Info::Base 0.78 0.7802
Sys::Info::Driver::Unknown 0.78 0.78
Win32::OLE 0 0.1709
Win32::TieRegistry 0 0.26
Win32API::Net 0 0.16
build_requires:
Module Need Have
-------------------------- ---- --------
Capture::Tiny 0 0.20
ExtUtils::CBuilder 0 0.280206
Test::More 0.40 0.98
Test::Sys::Info 0.20 0.20
configure_requires:
Module Need Have
-------------------------- ---- --------
Module::Build 0.38 0.4003
------------------------------
ENVIRONMENT AND OTHER CONTEXT
------------------------------
Environment variables:
AUTOMATED_TESTING = 1
COMSPEC = C:\WINDOWS\system32\cmd.exe
NUMBER_OF_PROCESSORS = 1
PATH = C:\WINDOWS\system32;C:\WINDOWS;C:\WINDOWS\System32\Wbem;C:\WINDOWS\system32\WindowsPowerShell\v1.0;c:\Program Files\Microsoft SQL Server\100\Tools\Binn\VSShell\Common7\IDE\;c:\Program Files\Microsoft SQL Server\100\Tools\Binn\;c:\Program Files\Microsoft SQL Server\100\DTS\Binn\;C:\strawberry\c\bin;C:\strawberry\perl\site\bin;C:\strawberry\perl\bin;C:\Program Files\WinSCP\;c:\Program Files\Microsoft Visual Studio 9.0\Common7\IDE\PrivateAssemblies\;C:\Program Files\wkhtmltopdf
PERL5LIB = C:\strawberry\cpan\build\Config-General-2.51-H3aB95/blib/arch;C:\strawberry\cpan\build\Config-General-2.51-H3aB95/blib/lib;C:\strawberry\cpan\build\Win32API-Net-0.16-VxD03j/blib/arch;C:\strawberry\cpan\build\Win32API-Net-0.16-VxD03j/blib/lib;C:\strawberry\cpan\build\Sys-Info-Driver-Unknown-0.78-RA9ZGx/blib/arch;C:\strawberry\cpan\build\Sys-Info-Driver-Unknown-0.78-RA9ZGx/blib/lib;C:\strawberry\cpan\build\Test-Sys-Info-0.20-YpsCE5/blib/arch;C:\strawberry\cpan\build\Test-Sys-Info-0.20-YpsCE5/blib/lib;C:\strawberry\cpan\build\Sys-Info-Base-0.7802-dJusPn/blib/arch;C:\strawberry\cpan\build\Sys-Info-Base-0.7802-dJusPn/blib/lib
PERL5OPT =
PERL5_CPANPLUS_IS_RUNNING = 2364
PERL5_CPAN_IS_RUNNING = 2364
PERL5_CPAN_IS_RUNNING_IN_RECURSION = 1948,2364
PERL_CR_SMOKER_CURRENT = Tapper-Test-4.1.2
PERL_EXTUTILS_AUTOINSTALL = --defaultdeps
PERL_JSON_BACKEND = JSON::XS
PERL_MM_USE_DEFAULT = 1
PERL_YAML_BACKEND = YAML
PROCESSOR_IDENTIFIER = x86 Family 6 Model 2 Stepping 3, GenuineIntel
TEMP = C:\DOCUME~1\radon\LOCALS~1\Temp
TERM = dumb
Perl special variables (and OS-specific diagnostics, for MSWin32):
$^X = C:\strawberry\perl\bin\perl.exe
$UID/$EUID = 0 / 0
$GID = 0
$EGID = 0
Win32::GetOSName = WinXP/.Net
Win32::GetOSVersion = Service Pack 3, 5, 1, 2600, 2, 3, 0, 256, 1
Win32::FsType = NTFS
Win32::IsAdminUser = 1
Perl module toolchain versions installed:
Module Have
------------------- --------
CPAN 1.9800
CPAN::Meta 2.120921
Cwd 3.39_02
ExtUtils::CBuilder 0.280206
ExtUtils::Command 1.17
ExtUtils::Install 1.58
ExtUtils::MakeMaker 6.63_02
ExtUtils::Manifest 1.61
ExtUtils::ParseXS 3.16
File::Spec 3.39_02
JSON 2.53
JSON::PP 2.27200
Module::Build 0.4003
Module::Signature 0.68
Parse::CPAN::Meta 1.4404
Test::Harness 3.25
Test::More 0.98
YAML 0.84
YAML::Syck 1.22
version 0.9901
--
Summary of my perl5 (revision 5 version 16 subversion 2) configuration:
Platform:
osname=MSWin32, osvers=4.0, archname=MSWin32-x86-multi-thread
uname='Win32 strawberry-perl 5.16.2.1 #1 Fri Nov 2 00:33:54 2012 i386'
config_args='undef'
hint=recommended, useposix=true, d_sigaction=undef
useithreads=define, usemultiplicity=define
useperlio=define, d_sfio=undef, uselargefiles=define, usesocks=undef
use64bitint=undef, use64bitall=undef, uselongdouble=undef
usemymalloc=n, bincompat5005=undef
Compiler:
cc='gcc', ccflags =' -s -O2 -DWIN32 -DPERL_TEXTMODE_SCRIPTS -DPERL_IMPLICIT_CONTEXT -DPERL_IMPLICIT_SYS -fno-strict-aliasing -mms-bitfields',
optimize='-s -O2',
cppflags='-DWIN32'
ccversion='', gccversion='4.6.3', gccosandvers=''
intsize=4, longsize=4, ptrsize=4, doublesize=8, byteorder=1234
d_longlong=undef, longlongsize=8, d_longdbl=define, longdblsize=12
ivtype='long', ivsize=4, nvtype='double', nvsize=8, Off_t='long long', lseeksize=8
alignbytes=8, prototype=define
Linker and Libraries:
ld='g++', ldflags ='-s -L"C:\strawberry\perl\lib\CORE" -L"C:\strawberry\c\lib"'
libpth=C:\strawberry\c\lib C:\strawberry\c\i686-w64-mingw32\lib
libs=-lmoldname -lkernel32 -luser32 -lgdi32 -lwinspool -lcomdlg32 -ladvapi32 -lshell32 -lole32 -loleaut32 -lnetapi32 -luuid -lws2_32 -lmpr -lwinmm -lversion -lodbc32 -lodbccp32 -lcomctl32
perllibs=-lmoldname -lkernel32 -luser32 -lgdi32 -lwinspool -lcomdlg32 -ladvapi32 -lshell32 -lole32 -loleaut32 -lnetapi32 -luuid -lws2_32 -lmpr -lwinmm -lversion -lodbc32 -lodbccp32 -lcomctl32
libc=, so=dll, useshrplib=true, libperl=libperl516.a
gnulibc_version=''
Dynamic Linking:
dlsrc=dl_win32.xs, dlext=dll, d_dlsymun=undef, ccdlflags=' '
cccdlflags=' ', lddlflags='-mdll -s -L"C:\strawberry\perl\lib\CORE" -L"C:\strawberry\c\lib"'
Characteristics of this binary (from libperl):
Compile-time options: HAS_TIMES HAVE_INTERP_INTERN MULTIPLICITY
PERLIO_LAYERS PERL_DONT_CREATE_GVSV
PERL_IMPLICIT_CONTEXT PERL_IMPLICIT_SYS
PERL_MALLOC_WRAP PERL_PRESERVE_IVUV PL_OP_SLAB_ALLOC
USE_ITHREADS USE_LARGE_FILES USE_LOCALE
USE_LOCALE_COLLATE USE_LOCALE_CTYPE
USE_LOCALE_NUMERIC USE_PERLIO USE_PERL_ATOF
Built under MSWin32
Compiled at Nov 2 2012 00:44:17
%ENV:
PERL5LIB="C:\strawberry\cpan\build\Config-General-2.51-H3aB95/blib/arch;C:\strawberry\cpan\build\Config-General-2.51-H3aB95/blib/lib;C:\strawberry\cpan\build\Win32API-Net-0.16-VxD03j/blib/arch;C:\strawberry\cpan\build\Win32API-Net-0.16-VxD03j/blib/lib;C:\strawberry\cpan\build\Sys-Info-Driver-Unknown-0.78-RA9ZGx/blib/arch;C:\strawberry\cpan\build\Sys-Info-Driver-Unknown-0.78-RA9ZGx/blib/lib;C:\strawberry\cpan\build\Test-Sys-Info-0.20-YpsCE5/blib/arch;C:\strawberry\cpan\build\Test-Sys-Info-0.20-YpsCE5/blib/lib;C:\strawberry\cpan\build\Sys-Info-Base-0.7802-dJusPn/blib/arch;C:\strawberry\cpan\build\Sys-Info-Base-0.7802-dJusPn/blib/lib"
PERL5_CPANPLUS_IS_RUNNING="2364"
PERL5_CPAN_IS_RUNNING="2364"
PERL5_CPAN_IS_RUNNING_IN_RECURSION="1948,2364"
PERL_CR_SMOKER_CURRENT="Tapper-Test-4.1.2"
PERL_EXTUTILS_AUTOINSTALL="--defaultdeps"
PERL_JSON_BACKEND="JSON::XS"
PERL_MM_USE_DEFAULT="1"
PERL_YAML_BACKEND="YAML"
@INC:
C:\strawberry\cpan\build\Config-General-2.51-H3aB95/blib/arch
C:\strawberry\cpan\build\Config-General-2.51-H3aB95/blib/lib
C:\strawberry\cpan\build\Win32API-Net-0.16-VxD03j/blib/arch
C:\strawberry\cpan\build\Win32API-Net-0.16-VxD03j/blib/lib
C:\strawberry\cpan\build\Sys-Info-Driver-Unknown-0.78-RA9ZGx/blib/arch
C:\strawberry\cpan\build\Sys-Info-Driver-Unknown-0.78-RA9ZGx/blib/lib
C:\strawberry\cpan\build\Test-Sys-Info-0.20-YpsCE5/blib/arch
C:\strawberry\cpan\build\Test-Sys-Info-0.20-YpsCE5/blib/lib
C:\strawberry\cpan\build\Sys-Info-Base-0.7802-dJusPn/blib/arch
C:\strawberry\cpan\build\Sys-Info-Base-0.7802-dJusPn/blib/lib
C:/strawberry/perl/site/lib
C:/strawberry/perl/vendor/lib
C:/strawberry/perl/lib
.