Back
From: metabase:user:e7f7dec2-b051-11df-bd1d-025b7965fceb
Subject: PASS XSLoader-0.24 v5.16.0 Mac OS X
Date: 2016-10-12T10:34:02Z
This distribution has been tested as part of the CPAN Testers
project, supporting the Perl programming language. See
http://wiki.cpantesters.org/ for more information or email
questions to cpan-testers-discuss@perl.org
--
Dear Sebastien Aperghis-Tramoni,
This is a computer-generated report for XSLoader-0.24
on perl 5.16.0, created by CPAN-Reporter-1.2018.
Thank you for uploading your work to CPAN. Congratulations!
All tests were successful.
Sections of this report:
* Tester comments
* Program output
* Prerequisites
* Environment and other context
------------------------------
TESTER COMMENTS
------------------------------
Additional comments from tester:
none provided
------------------------------
PROGRAM OUTPUT
------------------------------
Output from '/usr/bin/make test':
PERL_DL_NONLAZY=1 "/Users/andy/perl5/perlbrew/perls/perl-5.16.0/bin/perl" "-MExtUtils::Command::MM" "-MTest::Harness" "-e" "undef *Test::Harness::Switches; test_harness(0, 'blib/lib', 'blib/arch')" t/*.t
# testing XSLoader v0.24 under Perl 5.016000
t/00-load.t ... ok
t/01-api.t .... ok
t/distchk.t ... skipped: Test::Distribution required for checking distribution
t/pod.t ....... ok
t/podcover.t .. ok
t/portfs.t .... skipped: Test::Portability::Files required for testing filenames portability
t/XSLoader.t .. ok
All tests successful.
Files=7, Tests=30, 1 wallclock secs ( 0.03 usr 0.01 sys + 0.34 cusr 0.05 csys = 0.43 CPU)
Result: PASS
------------------------------
PREREQUISITES
------------------------------
Prerequisite modules loaded:
requires:
Module Need Have
------------------- ---- --------
Test::More 0.47 1.302059
build_requires:
Module Need Have
------------------- ---- --------
ExtUtils::MakeMaker 0 7.24
configure_requires:
Module Need Have
------------------- ---- --------
ExtUtils::MakeMaker 0 7.24
------------------------------
ENVIRONMENT AND OTHER CONTEXT
------------------------------
Environment variables:
LANG = en_GB.UTF-8
LC_CTYPE = en_US.UTF-8
PATH = /usr/local/opt/ruby/bin:/Users/andy/perl5/perlbrew/bin:/Users/andy/perl5/perlbrew/perls/perl-5.16.0/bin:/Users/andy/Dropbox/bin:/usr/local/sbin:/usr/local/bin:/Users/andy/bin:/Applications/Xcode.app/Contents/Developer/usr/bin:/usr/bin:/bin:/usr/sbin:/sbin:/opt/X11/bin
PERL5LIB =
PERL5OPT =
PERL5_CPANPLUS_IS_RUNNING = 42859
PERL5_CPAN_IS_RUNNING = 42859
PERLBREW_BASHRC_VERSION = 0.58
PERLBREW_HOME = /Users/andy/.perlbrew
PERLBREW_MANPATH = /Users/andy/perl5/perlbrew/perls/perl-5.16.0/man
PERLBREW_PATH = /Users/andy/perl5/perlbrew/bin:/Users/andy/perl5/perlbrew/perls/perl-5.16.0/bin
PERLBREW_PERL = perl-5.16.0
PERLBREW_ROOT = /Users/andy/perl5/perlbrew
PERLBREW_VERSION = 0.58
SHELL = /bin/bash
TERM = xterm-256color
TMPDIR = /var/folders/bb/b3gv82s12q1gq0m_kq1mzwrw0000gn/T/
Perl special variables (and OS-specific diagnostics, for MSWin32):
$^X = /Users/andy/perl5/perlbrew/perls/perl-5.16.0/bin/perl
$UID/$EUID = 501 / 501
$GID = 20 20 501 12 61 79 80 81 98 401 33 100 204 395 398 399
$EGID = 20 20 501 12 61 79 80 81 98 401 33 100 204 395 398 399
Perl module toolchain versions installed:
Module Have
------------------- --------
CPAN 2.14
CPAN::Meta 2.150010
Cwd 3.47
ExtUtils::CBuilder 0.280224
ExtUtils::Command 7.24
ExtUtils::Install 2.04
ExtUtils::MakeMaker 7.24
ExtUtils::Manifest 1.70
ExtUtils::ParseXS 3.30
File::Spec 3.47
JSON 2.61
JSON::PP 2.27400
Module::Build 0.4208
Module::Signature 0.73
Parse::CPAN::Meta 2.150010
Test::Harness 3.36
Test::More 1.302059
YAML 1.09
YAML::Syck 1.27
version 0.9909
--
Summary of my perl5 (revision 5 version 16 subversion 0) configuration:
Platform:
osname=darwin, osvers=12.2.1, archname=darwin-2level
uname='darwin kumina.fenkle 12.2.1 darwin kernel version 12.2.1: thu oct 18 12:13:47 pdt 2012; root:xnu-2050.20.9~1release_x86_64 x86_64 '
config_args='-de -Dprefix=/Users/andy/perl5/perlbrew/perls/perl-5.16.0 -Aeval:scriptdir=/Users/andy/perl5/perlbrew/perls/perl-5.16.0/bin'
hint=recommended, useposix=true, d_sigaction=define
useithreads=undef, usemultiplicity=undef
useperlio=define, d_sfio=undef, uselargefiles=define, usesocks=undef
use64bitint=define, use64bitall=define, uselongdouble=undef
usemymalloc=n, bincompat5005=undef
Compiler:
cc='cc', ccflags ='-fno-common -DPERL_DARWIN -fno-strict-aliasing -pipe -fstack-protector -I/usr/local/include',
optimize='-O3',
cppflags='-fno-common -DPERL_DARWIN -fno-strict-aliasing -pipe -fstack-protector -I/usr/local/include'
ccversion='', gccversion='4.2.1 Compatible Apple Clang 4.1 ((tags/Apple/clang-421.11.66))', gccosandvers=''
intsize=4, longsize=8, ptrsize=8, doublesize=8, byteorder=12345678
d_longlong=define, longlongsize=8, d_longdbl=define, longdblsize=16
ivtype='long', ivsize=8, nvtype='double', nvsize=8, Off_t='off_t', lseeksize=8
alignbytes=8, prototype=define
Linker and Libraries:
ld='env MACOSX_DEPLOYMENT_TARGET=10.3 cc', ldflags =' -fstack-protector -L/usr/local/lib'
libpth=/usr/local/lib /usr/lib
libs=-ldbm -ldl -lm -lutil -lc
perllibs=-ldl -lm -lutil -lc
libc=, so=dylib, useshrplib=false, libperl=libperl.a
gnulibc_version=''
Dynamic Linking:
dlsrc=dl_dlopen.xs, dlext=bundle, d_dlsymun=undef, ccdlflags=' '
cccdlflags=' ', lddlflags=' -bundle -undefined dynamic_lookup -L/usr/local/lib -fstack-protector'
Characteristics of this binary (from libperl):
Compile-time options: HAS_TIMES PERLIO_LAYERS PERL_DONT_CREATE_GVSV
PERL_MALLOC_WRAP PERL_PRESERVE_IVUV USE_64_BIT_ALL
USE_64_BIT_INT USE_LARGE_FILES USE_LOCALE
USE_LOCALE_COLLATE USE_LOCALE_CTYPE
USE_LOCALE_NUMERIC USE_PERLIO USE_PERL_ATOF
Built under darwin
Compiled at Nov 29 2012 14:54:31
%ENV:
PERL5LIB=""
PERL5OPT=""
PERL5_CPANPLUS_IS_RUNNING="42859"
PERL5_CPAN_IS_RUNNING="42859"
PERLBREW_BASHRC_VERSION="0.58"
PERLBREW_HOME="/Users/andy/.perlbrew"
PERLBREW_MANPATH="/Users/andy/perl5/perlbrew/perls/perl-5.16.0/man"
PERLBREW_PATH="/Users/andy/perl5/perlbrew/bin:/Users/andy/perl5/perlbrew/perls/perl-5.16.0/bin"
PERLBREW_PERL="perl-5.16.0"
PERLBREW_ROOT="/Users/andy/perl5/perlbrew"
PERLBREW_VERSION="0.58"
@INC:
/Users/andy/perl5/perlbrew/perls/perl-5.16.0/lib/site_perl/5.16.0/darwin-2level
/Users/andy/perl5/perlbrew/perls/perl-5.16.0/lib/site_perl/5.16.0
/Users/andy/perl5/perlbrew/perls/perl-5.16.0/lib/5.16.0/darwin-2level
/Users/andy/perl5/perlbrew/perls/perl-5.16.0/lib/5.16.0
.