Time-Moment v0.44 Perl 5 v5.31.6 x86_64-linux-thread-multi

Status
Pass
From
Carlos Guevara
Dist
Time-Moment v0.44
Platform
Perl 5 v5.31.6 x86_64-linux-thread-multi
Date
2019-10-28 22:43:43
ID
64da10ce-f9d4-11e9-8d4f-990d75393668
This distribution has been tested as part of the CPAN Testers
project, supporting the Perl programming language.  See
http://wiki.cpantesters.org/ for more information or email
questions to cpan-testers-discuss@perl.org


--
Dear Christian Hansen,

This is a computer-generated report for Time-Moment-0.44
on perl 5.31.6, created by CPAN-Reporter-1.2018.

Thank you for uploading your work to CPAN.  Congratulations!
All tests were successful.

Sections of this report:

    * Tester comments
    * Program output
    * Prerequisites
    * Environment and other context

------------------------------
TESTER COMMENTS
------------------------------

Additional comments from tester:

none provided

------------------------------
PROGRAM OUTPUT
------------------------------

Output from '/usr/bin/make test':

"/home/cpan/bin/perl-blead/bin/perl5.31.6" "-Iinc" -MExtUtils::Command::MM -e 'cp_nonempty' -- Moment.bs blib/arch/auto/Time/Moment/Moment.bs 644
PERL_DL_NONLAZY=1 "/home/cpan/bin/perl-blead/bin/perl5.31.6" "-MExtUtils::Command::MM" "-MTest::Harness" "-e" "undef *Test::Harness::Switches; test_harness(0, 'inc', 'blib/lib', 'blib/arch')" t/*.t
# Time::Moment 0.44, Perl 5.031006, /home/cpan/bin/perl-blead/bin/perl5.31.6 (d_gettimeod=true d_localtime_r=true)
t/000_load.t ............ ok
t/100_basic.t ........... ok
t/110_now.t ............. ok
t/120_now_utc.t ......... ok
t/130_from_epoch.t ...... ok
t/140_from_object.t ..... ok
t/145_from_object_tp.t .. ok
t/150_from_object_dt.t .. ok
t/180_from_string.t ..... ok
t/190_rd.t .............. ok
t/191_jd.t .............. ok
t/192_mjd.t ............. ok
t/200_compare.t ......... ok
t/300_strftime.t ........ ok
t/400_with.t ............ ok
t/410_with_offset.t ..... ok
t/411_with_adjusters.t .. ok
t/415_precision.t ....... ok
t/420_at.t .............. ok
t/430_length.t .......... ok
t/450_delta_time.t ...... ok
t/455_delta_date.t ...... ok
t/500_storable.t ........ ok
t/510_json.t ............ ok
t/520_cbor.t ............ skipped: Test requires module 'CBOR::XS' but it's not found
t/530_sereal.t .......... ok
t/600_coerce_dt.t ....... skipped: Test requires module 'Params::Coerce' but it's not found
t/610_coerce_tp.t ....... skipped: Test requires module 'Params::Coerce' but it's not found
t/900_bug_reuse.t ....... ok
All tests successful.
Files=29, Tests=16776, 15 wallclock secs ( 2.84 usr  0.41 sys + 10.36 cusr  1.49 csys = 15.10 CPU)
Result: PASS

------------------------------
PREREQUISITES
------------------------------

Prerequisite modules loaded:

requires:

    Module              Need     Have    
    ------------------- -------- --------
    Carp                0        1.50    
    perl                5.008001 5.031006
    Time::HiRes         0        1.9764  
    XSLoader            0.02     0.30    

build_requires:

    Module              Need     Have    
    ------------------- -------- --------
    ExtUtils::MakeMaker 6.59     7.38    
    ExtUtils::ParseXS   3.18     3.40    
    Test::Fatal         0.006    0.014   
    Test::More          0.88     1.302168
    Test::Number::Delta 1.06     1.06    
    Test::Requires      0        0.10    

configure_requires:

    Module              Need     Have    
    ------------------- -------- --------
    ExtUtils::MakeMaker 6.59     7.38    
    ExtUtils::ParseXS   3.18     3.40    


------------------------------
ENVIRONMENT AND OTHER CONTEXT
------------------------------

Environment variables:

    LANG = C
    LC_ALL = C
    NONINTERACTIVE_TESTING = 1
    PATH = /home/cpan/bin/perl-blead/bin:/home/cpan/bin:/usr/local/sbin:/usr/local/bin:/usr/bin:/usr/bin/site_perl:/usr/bin/vendor_perl:/usr/bin/core_perl
    PERL5LIB = 
    PERL5OPT = 
    PERL5_CPANPLUS_IS_RUNNING = 688684
    PERL5_CPAN_IS_RUNNING = 688684
    PERL_MM_USE_DEFAULT = 1
    PERL_USE_UNSAFE_INC = 1
    PERL_VERSION = blead
    SHELL = /bin/bash
    TERM = screen
    TMPDIR = /home/cpan/tmp

Perl special variables (and OS-specific diagnostics, for MSWin32):

    $^X = /home/cpan/bin/perl-blead/bin/perl5.31.6
    $UID/$EUID = 1001 / 1001
    $GID = 1001 1001
    $EGID = 1001 1001

Perl module toolchain versions installed:

    Module              Have    
    ------------------- --------
    CPAN                2.27    
    CPAN::Meta          2.150010
    Cwd                 3.78    
    ExtUtils::CBuilder  0.280233
    ExtUtils::Command   7.38    
    ExtUtils::Install   2.14    
    ExtUtils::MakeMaker 7.38    
    ExtUtils::Manifest  1.72    
    ExtUtils::ParseXS   3.40    
    File::Spec          3.78    
    JSON                4.02    
    JSON::PP            4.04    
    Module::Build       0.4229  
    Module::Signature   n/a     
    Parse::CPAN::Meta   2.150010
    Test::Harness       3.42    
    Test::More          1.302168
    YAML                1.29    
    YAML::Syck          1.31    
    version             0.9924  


--

Summary of my perl5 (revision 5 version 31 subversion 6) configuration:
  Commit id: bec9d907fa4dc8f7d22a1d056ab1fe14af409949
  Platform:
    osname=linux
    osvers=5.3.7-arch1-1-arch
    archname=x86_64-linux-thread-multi
    uname='linux cjg-arch 5.3.7-arch1-1-arch #1 smp preempt fri oct 18 00:17:03 utc 2019 x86_64 gnulinux '
    config_args='-des -Dprefix=~/bin/perl-blead -Dscriptdir=~/bin/perl-blead/bin -Dusedevel -Duse64bitall -Duseithreads'
    hint=recommended
    useposix=true
    d_sigaction=define
    useithreads=define
    usemultiplicity=define
    use64bitint=define
    use64bitall=define
    uselongdouble=undef
    usemymalloc=n
    default_inc_excludes_dot=define
    bincompat5005=undef
  Compiler:
    cc='cc'
    ccflags ='-D_REENTRANT -D_GNU_SOURCE -fwrapv -fno-strict-aliasing -pipe -fstack-protector-strong -I/usr/local/include -D_LARGEFILE_SOURCE -D_FILE_OFFSET_BITS=64 -D_FORTIFY_SOURCE=2'
    optimize='-O2'
    cppflags='-D_REENTRANT -D_GNU_SOURCE -fwrapv -fno-strict-aliasing -pipe -fstack-protector-strong -I/usr/local/include'
    ccversion=''
    gccversion='9.2.0'
    gccosandvers=''
    intsize=4
    longsize=8
    ptrsize=8
    doublesize=8
    byteorder=12345678
    doublekind=3
    d_longlong=define
    longlongsize=8
    d_longdbl=define
    longdblsize=16
    longdblkind=3
    ivtype='long'
    ivsize=8
    nvtype='double'
    nvsize=8
    Off_t='off_t'
    lseeksize=8
    alignbytes=8
    prototype=define
  Linker and Libraries:
    ld='cc'
    ldflags =' -fstack-protector-strong -L/usr/local/lib'
    libpth=/usr/local/lib /usr/lib/gcc/x86_64-pc-linux-gnu/9.2.0/include-fixed /usr/lib /lib/../lib /usr/lib/../lib /lib /lib64 /usr/lib64
    libs=-lpthread -lnsl -lgdbm -ldb -ldl -lm -lcrypt -lutil -lc -lgdbm_compat
    perllibs=-lpthread -lnsl -ldl -lm -lcrypt -lutil -lc
    libc=libc-2.30.so
    so=so
    useshrplib=false
    libperl=libperl.a
    gnulibc_version='2.30'
  Dynamic Linking:
    dlsrc=dl_dlopen.xs
    dlext=so
    d_dlsymun=undef
    ccdlflags='-Wl,-E'
    cccdlflags='-fPIC'
    lddlflags='-shared -O2 -L/usr/local/lib -fstack-protector-strong'


Characteristics of this binary (from libperl): 
  Compile-time options:
    HAS_TIMES
    MULTIPLICITY
    PERLIO_LAYERS
    PERL_COPY_ON_WRITE
    PERL_DONT_CREATE_GVSV
    PERL_IMPLICIT_CONTEXT
    PERL_MALLOC_WRAP
    PERL_OP_PARENT
    PERL_PRESERVE_IVUV
    PERL_USE_DEVEL
    USE_64_BIT_ALL
    USE_64_BIT_INT
    USE_ITHREADS
    USE_LARGE_FILES
    USE_LOCALE
    USE_LOCALE_COLLATE
    USE_LOCALE_CTYPE
    USE_LOCALE_NUMERIC
    USE_LOCALE_TIME
    USE_PERLIO
    USE_PERL_ATOF
    USE_REENTRANT_API
    USE_THREAD_SAFE_LOCALE
  Built under linux
  Compiled at Oct 28 2019 10:54:25
  %ENV:
    PERL5LIB=""
    PERL5OPT=""
    PERL5_CPANPLUS_IS_RUNNING="688684"
    PERL5_CPAN_IS_RUNNING="688684"
    PERL_MM_USE_DEFAULT="1"
    PERL_USE_UNSAFE_INC="1"
    PERL_VERSION="blead"
  @INC:
    /home/cpan/bin/perl-blead/lib/site_perl/5.31.6/x86_64-linux-thread-multi
    /home/cpan/bin/perl-blead/lib/site_perl/5.31.6
    /home/cpan/bin/perl-blead/lib/5.31.6/x86_64-linux-thread-multi
    /home/cpan/bin/perl-blead/lib/5.31.6
    .